BEGIN:VCALENDAR
VERSION:2.0
PRODID:-//Instituto Cultural Paraguayo Alemán – Goethe-Zentrum - ECPv6.15.20//NONSGML v1.0//EN
CALSCALE:GREGORIAN
METHOD:PUBLISH
X-ORIGINAL-URL:https://www.icpa-gz.org.py
X-WR-CALDESC:Eventos para Instituto Cultural Paraguayo Alemán – Goethe-Zentrum
REFRESH-INTERVAL;VALUE=DURATION:PT1H
X-Robots-Tag:noindex
X-PUBLISHED-TTL:PT1H
BEGIN:VTIMEZONE
TZID:America/Asuncion
BEGIN:STANDARD
TZOFFSETFROM:-0300
TZOFFSETTO:-0400
TZNAME:-04
DTSTART:20240324T030000
END:STANDARD
BEGIN:DAYLIGHT
TZOFFSETFROM:-0400
TZOFFSETTO:-0300
TZNAME:-03
DTSTART:20241006T040000
END:DAYLIGHT
BEGIN:STANDARD
TZOFFSETFROM:-0300
TZOFFSETTO:-0300
TZNAME:-03
DTSTART:20241015T030000
END:STANDARD
END:VTIMEZONE
BEGIN:VEVENT
DTSTART;TZID=America/Asuncion:20251111T090000
DTEND;TZID=America/Asuncion:20251111T120000
DTSTAMP:20260423T225858
CREATED:20251114T195202Z
LAST-MODIFIED:20251114T195202Z
UID:58098-1762851600-1762862400@www.icpa-gz.org.py
SUMMARY:Taller de Dibujo y Pintura | Gabriel Brizuela Santomé 5/13
DESCRIPTION:Dirigidos por el experimentado artista plástico Gabriel Brizuela Santomé los participantes hacen un recorrido por diversas técnicas como grafito\, pastel\, acuarela\, óleo pastel\, tinta\, mixtas y otras; a elección del estudiante\, al igual que los temas a desarrollar\, que van de la figura humana fundamentalmente a otros\, como bodegones\, naturaleza\, etc. En niveles de representación tanto figurativos como abstractos. \nGabriel Brizuela Santomé tiene un centenar de exposiciones realizadas en Paraguay y el exterior\, varias en representación de nuestro país en Brasil\, Argentina\, Uruguay\, España\, Portugal\, Italia\, USA\, en Bienales\, festivales\, concursos\, etc. Más de 20 premios nacionales e internacionales\, como también es mencionado en una veintena de libros de arte y publicidad de nuestro medio y el exterior Es fundador del MAD\, Museo de Arte Digital\, el primer portal de artes visuales de Paraguay y América\, de la primera facultad de diseño gráfico\, UCA\, en nuestro país\, el Círculo de Creativos del Paraguay\, el colectivo de acuarela Medium Aquae\, el Salón Anual de Acuarela y es Líder de Paraguay para IWS\, International Watercolor Society. \nLos talleres de desarrollan en éstos horarios: \nMartes\, en dos turnos\, de 09:00 hs. a 12:00 hs. y de 15:00 hs. a 18:00 hs. \nSábados que son de 09:00 hs. a 12:00 hs. \nMás información: \n\nContacto telefónico del ICPA-GZ | (021) 22 44 55\nMensaje vía WhatsApp | +595 983 307 150 
URL:https://www.icpa-gz.org.py/evento/taller-de-dibujo-y-pintura-gabriel-brizuela-santome-5-13-4/
LOCATION:Biblioteca Ulrich Schmidl del Instituto Cultural Paraguayo-Alemán – Goethe-Zentrum | ICPA-GZ\, Juan de Salazar 310 c/ Artigas_\, Asuncion\, Distrito Capital\, Paraguay
CATEGORIES:Arte,Biblioteca,Cultura,Evento presencial,Taller
ATTACH;FMTTYPE=image/jpeg:https://www.icpa-gz.org.py/wp-content/uploads/2025/02/WhatsApp-Image-2025-02-18-at-15.48.01.jpeg
END:VEVENT
BEGIN:VEVENT
DTSTART;TZID=America/Asuncion:20251111T150000
DTEND;TZID=America/Asuncion:20251111T180000
DTSTAMP:20260423T225858
CREATED:20251114T195400Z
LAST-MODIFIED:20251114T195400Z
UID:58113-1762873200-1762884000@www.icpa-gz.org.py
SUMMARY:Taller de Dibujo y Pintura | Gabriel Brizuela Santomé 6/13
DESCRIPTION:Dirigidos por el experimentado artista plástico Gabriel Brizuela Santomé los participantes hacen un recorrido por diversas técnicas como grafito\, pastel\, acuarela\, óleo pastel\, tinta\, mixtas y otras; a elección del estudiante\, al igual que los temas a desarrollar\, que van de la figura humana fundamentalmente a otros\, como bodegones\, naturaleza\, etc. En niveles de representación tanto figurativos como abstractos. \nGabriel Brizuela Santomé tiene un centenar de exposiciones realizadas en Paraguay y el exterior\, varias en representación de nuestro país en Brasil\, Argentina\, Uruguay\, España\, Portugal\, Italia\, USA\, en Bienales\, festivales\, concursos\, etc. Más de 20 premios nacionales e internacionales\, como también es mencionado en una veintena de libros de arte y publicidad de nuestro medio y el exterior Es fundador del MAD\, Museo de Arte Digital\, el primer portal de artes visuales de Paraguay y América\, de la primera facultad de diseño gráfico\, UCA\, en nuestro país\, el Círculo de Creativos del Paraguay\, el colectivo de acuarela Medium Aquae\, el Salón Anual de Acuarela y es Líder de Paraguay para IWS\, International Watercolor Society. \nLos talleres de desarrollan en éstos horarios: \nMartes\, en dos turnos\, de 09:00 hs. a 12:00 hs. y de 15:00 hs. a 18:00 hs. \nSábados que son de 09:00 hs. a 12:00 hs. \nMás información: \n\nContacto telefónico del ICPA-GZ | (021) 22 44 55\nMensaje vía WhatsApp | +595 983 307 150 
URL:https://www.icpa-gz.org.py/evento/taller-de-dibujo-y-pintura-gabriel-brizuela-santome-6-13-4/
LOCATION:Biblioteca Ulrich Schmidl del Instituto Cultural Paraguayo-Alemán – Goethe-Zentrum | ICPA-GZ\, Juan de Salazar 310 c/ Artigas_\, Asuncion\, Distrito Capital\, Paraguay
CATEGORIES:Arte,Biblioteca,Cultura,Evento presencial,Taller
ATTACH;FMTTYPE=image/jpeg:https://www.icpa-gz.org.py/wp-content/uploads/2025/02/WhatsApp-Image-2025-02-18-at-15.48.01.jpeg
END:VEVENT
BEGIN:VEVENT
DTSTART;TZID=America/Asuncion:20251111T190000
DTEND;TZID=America/Asuncion:20251111T210000
DTSTAMP:20260423T225858
CREATED:20251110T213412Z
LAST-MODIFIED:20251110T213956Z
UID:57946-1762887600-1762894800@www.icpa-gz.org.py
SUMMARY:Exposición "Relecturas de Kassel"
DESCRIPTION:Inaguración de la exposición “Relecturas de Kassel”\nEl ICPA Treff de noviembre estará cargado de arte\, cine y mucho más. Una de las propuestas será esta muestra de fotografías. Imágenes tomadas durante la muestra de arte “Documenta XII”.  El “Documenta”\, está considerado una de las exposiciones de arte más importantes del mundo\, y se desarrolla en Kassel\, Alemania. ¡Te esperamos! \nFecha: Martes 11 de noviembre\nHorario: 19:00 Hs.\nLugar:  Instituto Cultural Paraguayo-Alemán – Goethe-Zentrum\nJuan de Salazar 310 esq. Artigas
URL:https://www.icpa-gz.org.py/evento/exposicion-relecturas-de-kassel/
LOCATION:Instituto Cultural Paraguayo-Alemán – Goethe-Zentrum | ICPA-GZ\, Juan de Salazar 310 c/ Artigas_\, Asuncion\, 3500\, Paraguay
CATEGORIES:Arte,Cultura,Exposición,ICPA TREFF
ATTACH;FMTTYPE=image/jpeg:https://www.icpa-gz.org.py/wp-content/uploads/2025/11/WhatsApp-Image-2025-11-10-at-14.36.01.jpeg
END:VEVENT
BEGIN:VEVENT
DTSTART;TZID=America/Asuncion:20251111T190000
DTEND;TZID=America/Asuncion:20251111T210000
DTSTAMP:20260423T225858
CREATED:20251110T214749Z
LAST-MODIFIED:20251110T214749Z
UID:57968-1762887600-1762894800@www.icpa-gz.org.py
SUMMARY:Ciclo de Cine "Diferente de los demás" | Fernando Moure 1/3
DESCRIPTION:Martes 11\, jueves 13 y lunes 16 de noviembre 2025-  19:00 Hs.\nInstituto Cultural Paraguayo Alemán de Asunción. \nEste cine de temática LGBTQ+\, o queer\, cuenta las historias de personas que se atreven a desafiar las normas sociales\, narrando sus experiencias\, perspectivas y deseos desde posiciones divergentes con la heteronormatividad. A menudo\, sus formas cinemáticas también desafían las convenciones técnicas\, cuestionándolas o incluso trascendiéndolas. \nCurada por el crítico de arte Fernando Moure\, la selección de cuatro filmes del programa Diferente de los demás incluye dos cortometrajes noreamericanos\, American Reflexxx (2015) de la artista Signe Pierce y la pieza histórica Fireworks del cineasta experimental Kenneth Anger\, de 1947. Completa el programa la pieza de videoarte Too far with just enough del artista Andre Rolón (2023) y la película silente alemana Anders als die Andern (Diferente de los demás)\, el primer film de temática no heteronormativa\, de 1919\, que dá nombre al ciclo. \nEl programa (vigente del martes 11\, jueves 13 y lunes 16 de noviembre a las 19:00) \nAnders als die Andern/ Diferente de los demás. Director: Richard Oswald\, Alemania\, 50´ (fragmentos)\, blanco y negro\, silente\, 1919. \nAmerican Reflexxx. Directores: Alli Coates\, Signe Pierce\, USA\, video\, 15´\, 2015. \nFireworks. Director: Kenneth Anger\, 14´\, 16 mm.\, 1947. \nToo far with just enough\, dirigida por Andre Rolón\, video. 4´33″\, 2023 @hazelrbbts
URL:https://www.icpa-gz.org.py/evento/ciclo-de-cine-diferente-de-los-demas-fernando-moure-1-3/
LOCATION:Instituto Cultural Paraguayo-Alemán – Goethe-Zentrum | ICPA-GZ\, Juan de Salazar 310 c/ Artigas_\, Asuncion\, 3500\, Paraguay
CATEGORIES:apoyado por el ICPA-GZ,Arte,Cine,Cultura,Evento presencial
ATTACH;FMTTYPE=image/png:https://www.icpa-gz.org.py/wp-content/uploads/2025/11/Opera-Captura-de-pantalla_2025-11-10_183543_www.instagram.com_.png
END:VEVENT
BEGIN:VEVENT
DTSTART;TZID=America/Asuncion:20251111T190000
DTEND;TZID=America/Asuncion:20251111T210000
DTSTAMP:20260423T225858
CREATED:20251110T215915Z
LAST-MODIFIED:20251110T220204Z
UID:58014-1762887600-1762894800@www.icpa-gz.org.py
SUMMARY:Exposición Fehler / Error | Paul3
DESCRIPTION:Inauguración de la muestra “ERROR”\n\n\nEsta es muestra del artista Paul3\, que cuenta con la curaduría de Fernando Moure\, será inaugurada en el Contenedor del Instituto Cultural Paraguayo-Alemán – Goethe-Zentrum\, en el marco del ICPA Treff. \n\n\n\nMartes 11 de noviembre 2025\n19:00 Hs.\n\n\nInstituto Cultural Paraguayo-Alemán – Goethe-Zentrum\nJuan de Salazar 310 esq. Artigas
URL:https://www.icpa-gz.org.py/evento/exposicion-fehler-error-paul3/
LOCATION:Contenedor del ICPA-GZ\, Juan de Salazar 310 c/ Artigas Barrio Ricardo Brugada\, Asunción\, Distrito Capital\, Paraguay
CATEGORIES:Arte,Cultura,Evento presencial,Exposición,ICPA TREFF
ATTACH;FMTTYPE=image/png:https://www.icpa-gz.org.py/wp-content/uploads/2025/11/Opera-Captura-de-pantalla_2025-11-10_183508_www.instagram.com_.png
END:VEVENT
END:VCALENDAR