BEGIN:VCALENDAR
VERSION:2.0
PRODID:-//Instituto Cultural Paraguayo Alemán – Goethe-Zentrum - ECPv6.15.20//NONSGML v1.0//EN
CALSCALE:GREGORIAN
METHOD:PUBLISH
X-WR-CALNAME:Instituto Cultural Paraguayo Alemán – Goethe-Zentrum
X-ORIGINAL-URL:https://www.icpa-gz.org.py
X-WR-CALDESC:Eventos para Instituto Cultural Paraguayo Alemán – Goethe-Zentrum
REFRESH-INTERVAL;VALUE=DURATION:PT1H
X-Robots-Tag:noindex
X-PUBLISHED-TTL:PT1H
BEGIN:VTIMEZONE
TZID:America/Asuncion
BEGIN:STANDARD
TZOFFSETFROM:-0300
TZOFFSETTO:-0400
TZNAME:-04
DTSTART:20240324T030000
END:STANDARD
BEGIN:DAYLIGHT
TZOFFSETFROM:-0400
TZOFFSETTO:-0300
TZNAME:-03
DTSTART:20241006T040000
END:DAYLIGHT
BEGIN:STANDARD
TZOFFSETFROM:-0300
TZOFFSETTO:-0300
TZNAME:-03
DTSTART:20241015T030000
END:STANDARD
END:VTIMEZONE
BEGIN:VEVENT
DTSTART;TZID=America/Asuncion:20251104T090000
DTEND;TZID=America/Asuncion:20251104T120000
DTSTAMP:20260423T225440
CREATED:20251114T194414Z
LAST-MODIFIED:20251114T194414Z
UID:58053-1762246800-1762257600@www.icpa-gz.org.py
SUMMARY:Taller de Dibujo y Pintura | Gabriel Brizuela Santomé 2/13
DESCRIPTION:Dirigidos por el experimentado artista plástico Gabriel Brizuela Santomé los participantes hacen un recorrido por diversas técnicas como grafito\, pastel\, acuarela\, óleo pastel\, tinta\, mixtas y otras; a elección del estudiante\, al igual que los temas a desarrollar\, que van de la figura humana fundamentalmente a otros\, como bodegones\, naturaleza\, etc. En niveles de representación tanto figurativos como abstractos. \nGabriel Brizuela Santomé tiene un centenar de exposiciones realizadas en Paraguay y el exterior\, varias en representación de nuestro país en Brasil\, Argentina\, Uruguay\, España\, Portugal\, Italia\, USA\, en Bienales\, festivales\, concursos\, etc. Más de 20 premios nacionales e internacionales\, como también es mencionado en una veintena de libros de arte y publicidad de nuestro medio y el exterior Es fundador del MAD\, Museo de Arte Digital\, el primer portal de artes visuales de Paraguay y América\, de la primera facultad de diseño gráfico\, UCA\, en nuestro país\, el Círculo de Creativos del Paraguay\, el colectivo de acuarela Medium Aquae\, el Salón Anual de Acuarela y es Líder de Paraguay para IWS\, International Watercolor Society. \nLos talleres de desarrollan en éstos horarios: \nMartes\, en dos turnos\, de 09:00 hs. a 12:00 hs. y de 15:00 hs. a 18:00 hs. \nSábados que son de 09:00 hs. a 12:00 hs. \nMás información: \n\nContacto telefónico del ICPA-GZ | (021) 22 44 55\nMensaje vía WhatsApp | +595 983 307 150 
URL:https://www.icpa-gz.org.py/evento/taller-de-dibujo-y-pintura-gabriel-brizuela-santome-2-13-4/
LOCATION:Biblioteca Ulrich Schmidl del Instituto Cultural Paraguayo-Alemán – Goethe-Zentrum | ICPA-GZ\, Juan de Salazar 310 c/ Artigas_\, Asuncion\, Distrito Capital\, Paraguay
CATEGORIES:Arte,Biblioteca,Cultura,Evento presencial,Taller
ATTACH;FMTTYPE=image/jpeg:https://www.icpa-gz.org.py/wp-content/uploads/2025/02/WhatsApp-Image-2025-02-18-at-15.48.01.jpeg
END:VEVENT
BEGIN:VEVENT
DTSTART;TZID=America/Asuncion:20251104T150000
DTEND;TZID=America/Asuncion:20251104T180000
DTSTAMP:20260423T225440
CREATED:20251114T194609Z
LAST-MODIFIED:20251114T194609Z
UID:58068-1762268400-1762279200@www.icpa-gz.org.py
SUMMARY:Taller de Dibujo y Pintura | Gabriel Brizuela Santomé 3/13
DESCRIPTION:Dirigidos por el experimentado artista plástico Gabriel Brizuela Santomé los participantes hacen un recorrido por diversas técnicas como grafito\, pastel\, acuarela\, óleo pastel\, tinta\, mixtas y otras; a elección del estudiante\, al igual que los temas a desarrollar\, que van de la figura humana fundamentalmente a otros\, como bodegones\, naturaleza\, etc. En niveles de representación tanto figurativos como abstractos. \nGabriel Brizuela Santomé tiene un centenar de exposiciones realizadas en Paraguay y el exterior\, varias en representación de nuestro país en Brasil\, Argentina\, Uruguay\, España\, Portugal\, Italia\, USA\, en Bienales\, festivales\, concursos\, etc. Más de 20 premios nacionales e internacionales\, como también es mencionado en una veintena de libros de arte y publicidad de nuestro medio y el exterior Es fundador del MAD\, Museo de Arte Digital\, el primer portal de artes visuales de Paraguay y América\, de la primera facultad de diseño gráfico\, UCA\, en nuestro país\, el Círculo de Creativos del Paraguay\, el colectivo de acuarela Medium Aquae\, el Salón Anual de Acuarela y es Líder de Paraguay para IWS\, International Watercolor Society. \nLos talleres de desarrollan en éstos horarios: \nMartes\, en dos turnos\, de 09:00 hs. a 12:00 hs. y de 15:00 hs. a 18:00 hs. \nSábados que son de 09:00 hs. a 12:00 hs. \nMás información: \n\nContacto telefónico del ICPA-GZ | (021) 22 44 55\nMensaje vía WhatsApp | +595 983 307 150 
URL:https://www.icpa-gz.org.py/evento/taller-de-dibujo-y-pintura-gabriel-brizuela-santome-3-13-4/
LOCATION:Biblioteca Ulrich Schmidl del Instituto Cultural Paraguayo-Alemán – Goethe-Zentrum | ICPA-GZ\, Juan de Salazar 310 c/ Artigas_\, Asuncion\, Distrito Capital\, Paraguay
CATEGORIES:Arte,Biblioteca,Cultura,Evento presencial,Taller
ATTACH;FMTTYPE=image/jpeg:https://www.icpa-gz.org.py/wp-content/uploads/2025/02/WhatsApp-Image-2025-02-18-at-15.48.01.jpeg
END:VEVENT
BEGIN:VEVENT
DTSTART;TZID=America/Asuncion:20251104T170000
DTEND;TZID=America/Asuncion:20251104T210000
DTSTAMP:20260423T225440
CREATED:20251110T193752Z
LAST-MODIFIED:20251110T194722Z
UID:57789-1762275600-1762290000@www.icpa-gz.org.py
SUMMARY:Rhythmik im DAF-Unterricht | Alexander Riedmüller
DESCRIPTION:¡Taller de rítmica para las clases de alemán! \nEl taller “Rhythmik im DAF-Unterricht” o “Rítmica en las clases de alemán como lengua extranjera” \, será un único taller con eldocente Alexander Riedmüller.\nEstá dirigido a profesores de alemán\, así como a estudiantes de la Lic. en Lengua Alemana. El acceso es gratuito\, con inscripción previa.\nEs una actividad organizada por el ICPA-GZ y por APYPA \nFecha: Martes 4 de noviembre\nHorario: 17:00 Hs.\nModalidad: Presencial\nCosto: Gratis\nInscripciones cerradas. \nLugar: Instituto Cultural Paraguayo-Alemán – Goethe-Zentrum\nJuan de Salazar 310 esq. Artigas\, Asunción
URL:https://www.icpa-gz.org.py/evento/rhythmik-im-daf-unterricht-alexander-riedmuller/
LOCATION:Instituto Cultural Paraguayo-Alemán – Goethe-Zentrum | ICPA-GZ\, Juan de Salazar 310 c/ Artigas_\, Asuncion\, 3500\, Paraguay
CATEGORIES:apoyado por el ICPA-GZ,Arte,Asociación de profesores de alemán del Paraguay (APYPA),Capacitación,Cultura,Evento presencial,Música,Taller
ATTACH;FMTTYPE=image/png:https://www.icpa-gz.org.py/wp-content/uploads/2025/11/02-ICPA_RhythmikUndDeutsch-Feed.png
END:VEVENT
END:VCALENDAR