BEGIN:VCALENDAR
VERSION:2.0
PRODID:-//Instituto Cultural Paraguayo Alemán – Goethe-Zentrum - ECPv6.15.20//NONSGML v1.0//EN
CALSCALE:GREGORIAN
METHOD:PUBLISH
X-WR-CALNAME:Instituto Cultural Paraguayo Alemán – Goethe-Zentrum
X-ORIGINAL-URL:https://www.icpa-gz.org.py
X-WR-CALDESC:Eventos para Instituto Cultural Paraguayo Alemán – Goethe-Zentrum
REFRESH-INTERVAL;VALUE=DURATION:PT1H
X-Robots-Tag:noindex
X-PUBLISHED-TTL:PT1H
BEGIN:VTIMEZONE
TZID:America/Asuncion
BEGIN:STANDARD
TZOFFSETFROM:-0300
TZOFFSETTO:-0400
TZNAME:-04
DTSTART:20240324T030000
END:STANDARD
BEGIN:DAYLIGHT
TZOFFSETFROM:-0400
TZOFFSETTO:-0300
TZNAME:-03
DTSTART:20241006T040000
END:DAYLIGHT
BEGIN:STANDARD
TZOFFSETFROM:-0300
TZOFFSETTO:-0300
TZNAME:-03
DTSTART:20241015T030000
END:STANDARD
END:VTIMEZONE
BEGIN:VEVENT
DTSTART;TZID=America/Asuncion:20250921T190000
DTEND;TZID=America/Asuncion:20250921T210000
DTSTAMP:20260424T040852
CREATED:20250916T214303Z
LAST-MODIFIED:20250916T214303Z
UID:56936-1758481200-1758488400@www.icpa-gz.org.py
SUMMARY:Exposición "Og\, la última casa" | Luvier Casali 3/3
DESCRIPTION: “Og\, La última Casa”\, es una muestra de Luvier Casali\, que cuenta con la curaduría de Adriana Almada. La misma se podrá ver hasta el 21 de septiembre. La actividad se enmarca dentro de la bienal Pinta Sud. \n\n\n\nEl trabajo artístico y etnográfico de Luvier Casali rescata mediante el frottage\, los relieves de las casas tradicionales mbya\, hoy cada vez más escasas. La reflexión a la que nos lleva el artista y su etnografía resalta que las casas mbya no solo cumplen una función práctica\, sino que también poseen una dimensión simbólica.\n\n\n\nFecha: Hasta el 21 de septiembre\nHorario: De 19 a 21 Hs.\n\nLugar: Complejo Textilia\n\n\n\nEsta muestra cuenta con el apoyo del ICPA-GZ
URL:https://www.icpa-gz.org.py/evento/exposicion-og-la-ultima-casa-luvier-casali-3-3/
LOCATION:Complejo Textilia\, Av. Gral. Santos 1030 y Defensa Nacional\, Asunción\, Central\, Paraguay
CATEGORIES:apoyado por el ICPA-GZ,Arte,Cultura,Evento presencial,Exposición,PintaSudASU
ATTACH;FMTTYPE=image/jpeg:https://www.icpa-gz.org.py/wp-content/uploads/2025/09/WhatsApp-Image-2025-09-16-at-12.35.09.jpeg
END:VEVENT
END:VCALENDAR