BEGIN:VCALENDAR
VERSION:2.0
PRODID:-//Instituto Cultural Paraguayo Alemán – Goethe-Zentrum - ECPv6.15.20//NONSGML v1.0//EN
CALSCALE:GREGORIAN
METHOD:PUBLISH
X-WR-CALNAME:Instituto Cultural Paraguayo Alemán – Goethe-Zentrum
X-ORIGINAL-URL:https://www.icpa-gz.org.py
X-WR-CALDESC:Eventos para Instituto Cultural Paraguayo Alemán – Goethe-Zentrum
REFRESH-INTERVAL;VALUE=DURATION:PT1H
X-Robots-Tag:noindex
X-PUBLISHED-TTL:PT1H
BEGIN:VTIMEZONE
TZID:America/Asuncion
BEGIN:STANDARD
TZOFFSETFROM:-0300
TZOFFSETTO:-0400
TZNAME:-04
DTSTART:20240324T030000
END:STANDARD
BEGIN:DAYLIGHT
TZOFFSETFROM:-0400
TZOFFSETTO:-0300
TZNAME:-03
DTSTART:20241006T040000
END:DAYLIGHT
BEGIN:STANDARD
TZOFFSETFROM:-0300
TZOFFSETTO:-0300
TZNAME:-03
DTSTART:20241015T030000
END:STANDARD
END:VTIMEZONE
BEGIN:VEVENT
DTSTART;TZID=America/Asuncion:20250917T133000
DTEND;TZID=America/Asuncion:20250917T143000
DTSTAMP:20260424T040836
CREATED:20250915T205505Z
LAST-MODIFIED:20250915T205621Z
UID:56803-1758115800-1758119400@www.icpa-gz.org.py
SUMMARY:Preparación para profesionales de enfermería | Preintegración
DESCRIPTION:¿Querés vivir y trabajar en Alemania\, pero no sabés donde consultar?\n¡Agendate las próximas charlas informativas de Preintegración!\n\n\nPara sabes cómo aplicar a formaciones profesionales y cómo prepararse para la vida profesional en enfermería. Sumate y enterate de todo lo que necesitás saber para vivir y trabajar en Alemania. ⁣⁣⁣\n⁣⁣⁣\n17 de septiembre a las 13:30 h Argentina\, Paraguay y Uruguay⁣⁣⁣\n Por Zoom⁣⁣⁣\nGratis con inscripción previa\nEn este enlace: www.goethe.de/argentina/eventos\n⁣⁣⁣\nOrganizado por el Goethe-Institut Buenos Aires \n⁣⁣⁣
URL:https://www.icpa-gz.org.py/evento/preparacion-para-profesionales-de-enfermeria-preintegracion/
LOCATION:Online
CATEGORIES:Charla,Conferencia,Evento digital,Goethe-Institut,Vivir & trabajar en Alemania
ATTACH;FMTTYPE=image/png:https://www.icpa-gz.org.py/wp-content/uploads/2025/09/Preintegracion-septiembre-3-feed.png
ORGANIZER;CN="Goethe Institut Buenos Aires":MAILTO:info-buenosaires@goethe.de
END:VEVENT
END:VCALENDAR