BEGIN:VCALENDAR
VERSION:2.0
PRODID:-//Instituto Cultural Paraguayo Alemán – Goethe-Zentrum - ECPv6.15.20//NONSGML v1.0//EN
CALSCALE:GREGORIAN
METHOD:PUBLISH
X-WR-CALNAME:Instituto Cultural Paraguayo Alemán – Goethe-Zentrum
X-ORIGINAL-URL:https://www.icpa-gz.org.py
X-WR-CALDESC:Eventos para Instituto Cultural Paraguayo Alemán – Goethe-Zentrum
REFRESH-INTERVAL;VALUE=DURATION:PT1H
X-Robots-Tag:noindex
X-PUBLISHED-TTL:PT1H
BEGIN:VTIMEZONE
TZID:America/Asuncion
BEGIN:STANDARD
TZOFFSETFROM:-0300
TZOFFSETTO:-0400
TZNAME:-04
DTSTART:20240324T030000
END:STANDARD
BEGIN:DAYLIGHT
TZOFFSETFROM:-0400
TZOFFSETTO:-0300
TZNAME:-03
DTSTART:20241006T040000
END:DAYLIGHT
BEGIN:STANDARD
TZOFFSETFROM:-0300
TZOFFSETTO:-0300
TZNAME:-03
DTSTART:20241015T030000
END:STANDARD
END:VTIMEZONE
BEGIN:VEVENT
DTSTART;TZID=America/Asuncion:20250916T080000
DTEND;TZID=America/Asuncion:20250916T210000
DTSTAMP:20260424T022850
CREATED:20250916T214055Z
LAST-MODIFIED:20250916T214118Z
UID:56913-1758009600-1758056400@www.icpa-gz.org.py
SUMMARY:Exposición "Og\, la última casa" | Luvier Casali 2/3
DESCRIPTION: “Og\, La última Casa”\, es una muestra de Luvier Casali\, que cuenta con la curaduría de Adriana Almada. La misma se podrá ver hasta el 21 de septiembre. La actividad se enmarca dentro de la bienal Pinta Sud. \n\n\n\nEl trabajo artístico y etnográfico de Luvier Casali rescata mediante el frottage\, los relieves de las casas tradicionales mbya\, hoy cada vez más escasas. La reflexión a la que nos lleva el artista y su etnografía resalta que las casas mbya no solo cumplen una función práctica\, sino que también poseen una dimensión simbólica.\n\n\n\nFecha: Hasta el 21 de septiembre\nHorario: De 19 a 21 Hs.\n\nLugar: Complejo Textilia\n\n\n\nEsta muestra cuenta con el apoyo del ICPA-GZ
URL:https://www.icpa-gz.org.py/evento/exposicion-og-la-ultima-casa-luvier-casali/
LOCATION:Complejo Textilia\, Av. Gral. Santos 1030 y Defensa Nacional\, Asunción\, Central\, Paraguay
CATEGORIES:apoyado por el ICPA-GZ,Arte,Cultura,Evento presencial,Exposición,PintaSudASU
ATTACH;FMTTYPE=image/jpeg:https://www.icpa-gz.org.py/wp-content/uploads/2025/09/WhatsApp-Image-2025-09-16-at-12.35.09.jpeg
END:VEVENT
BEGIN:VEVENT
DTSTART;TZID=America/Asuncion:20250916T090000
DTEND;TZID=America/Asuncion:20250916T120000
DTSTAMP:20260424T022850
CREATED:20250902T211818Z
LAST-MODIFIED:20250902T211818Z
UID:56380-1758013200-1758024000@www.icpa-gz.org.py
SUMMARY:Taller de Dibujo y Pintura | Gabriel Brizuela Santomé 7/14
DESCRIPTION:Dirigidos por el experimentado artista plástico Gabriel Brizuela Santomé los participantes hacen un recorrido por diversas técnicas como grafito\, pastel\, acuarela\, óleo pastel\, tinta\, mixtas y otras; a elección del estudiante\, al igual que los temas a desarrollar\, que van de la figura humana fundamentalmente a otros\, como bodegones\, naturaleza\, etc. En niveles de representación tanto figurativos como abstractos. \nGabriel Brizuela Santomé tiene un centenar de exposiciones realizadas en Paraguay y el exterior\, varias en representación de nuestro país en Brasil\, Argentina\, Uruguay\, España\, Portugal\, Italia\, USA\, en Bienales\, festivales\, concursos\, etc. Más de 20 premios nacionales e internacionales\, como también es mencionado en una veintena de libros de arte y publicidad de nuestro medio y el exterior Es fundador del MAD\, Museo de Arte Digital\, el primer portal de artes visuales de Paraguay y América\, de la primera facultad de diseño gráfico\, UCA\, en nuestro país\, el Círculo de Creativos del Paraguay\, el colectivo de acuarela Medium Aquae\, el Salón Anual de Acuarela y es Líder de Paraguay para IWS\, International Watercolor Society. \nLos talleres de desarrollan en éstos horarios: \nMartes\, en dos turnos\, de 09:00 hs. a 12:00 hs. y de 15:00 hs. a 18:00 hs. \nSábados que son de 09:00 hs. a 12:00 hs. \nMás información: \n\nContacto telefónico del ICPA-GZ | (021) 22 44 55\nMensaje vía WhatsApp | +595 983 307 150 
URL:https://www.icpa-gz.org.py/evento/taller-de-dibujo-y-pintura-gabriel-brizuela-santome-7-14-2/
LOCATION:Instituto Cultural Paraguayo-Alemán – Goethe-Zentrum | ICPA-GZ\, Juan de Salazar 310 c/ Artigas_\, Asuncion\, 3500\, Paraguay
CATEGORIES:Arte,Cultura,Evento presencial,Taller
ATTACH;FMTTYPE=image/jpeg:https://www.icpa-gz.org.py/wp-content/uploads/2025/02/WhatsApp-Image-2025-02-18-at-15.48.01.jpeg
END:VEVENT
BEGIN:VEVENT
DTSTART;TZID=America/Asuncion:20250916T133000
DTEND;TZID=America/Asuncion:20250916T163000
DTSTAMP:20260424T022850
CREATED:20250915T203506Z
LAST-MODIFIED:20250915T205133Z
UID:56781-1758029400-1758040200@www.icpa-gz.org.py
SUMMARY:Aplicar a una formación profesional en alemania  | Preintegración
DESCRIPTION:¿Querés vivir y trabajar en Alemania\, pero no sabés donde consultar?\n¡Agendate las próximas charlas informativas de Preintegración!\n\n\nPara sabes cómo aplicar a formaciones profesionales y cómo prepararse para la vida profesional en enfermería. Sumate y enterate de todo lo que necesitás saber para vivir y trabajar en Alemania. ⁣⁣⁣\n⁣⁣⁣\n16 de septiembre a las 13:30 h Argentina\, Paraguay y Uruguay⁣⁣⁣\n Por Zoom⁣⁣⁣\nGratis con inscripción previa\nEn este enlace: www.goethe.de/argentina/eventos\n⁣⁣⁣\nOrganizado por el Goethe-Institut Buenos Aires \n⁣⁣⁣
URL:https://www.icpa-gz.org.py/evento/aplicar-a-una-formacion-profesional-en-alemania-preintegracion/
LOCATION:Online
CATEGORIES:Charla,Evento digital,Goethe-Institut,Vivir & trabajar en Alemania
ATTACH;FMTTYPE=image/png:https://www.icpa-gz.org.py/wp-content/uploads/2025/09/Preintegracion-septiembre-2-feed.png
ORGANIZER;CN="Goethe Institut Buenos Aires":MAILTO:info-buenosaires@goethe.de
END:VEVENT
BEGIN:VEVENT
DTSTART;TZID=America/Asuncion:20250916T150000
DTEND;TZID=America/Asuncion:20250916T180000
DTSTAMP:20260424T022850
CREATED:20250902T212022Z
LAST-MODIFIED:20250902T212022Z
UID:56395-1758034800-1758045600@www.icpa-gz.org.py
SUMMARY:Taller de Dibujo y Pintura | Gabriel Brizuela Santomé 8/14
DESCRIPTION:Dirigidos por el experimentado artista plástico Gabriel Brizuela Santomé los participantes hacen un recorrido por diversas técnicas como grafito\, pastel\, acuarela\, óleo pastel\, tinta\, mixtas y otras; a elección del estudiante\, al igual que los temas a desarrollar\, que van de la figura humana fundamentalmente a otros\, como bodegones\, naturaleza\, etc. En niveles de representación tanto figurativos como abstractos. \nGabriel Brizuela Santomé tiene un centenar de exposiciones realizadas en Paraguay y el exterior\, varias en representación de nuestro país en Brasil\, Argentina\, Uruguay\, España\, Portugal\, Italia\, USA\, en Bienales\, festivales\, concursos\, etc. Más de 20 premios nacionales e internacionales\, como también es mencionado en una veintena de libros de arte y publicidad de nuestro medio y el exterior Es fundador del MAD\, Museo de Arte Digital\, el primer portal de artes visuales de Paraguay y América\, de la primera facultad de diseño gráfico\, UCA\, en nuestro país\, el Círculo de Creativos del Paraguay\, el colectivo de acuarela Medium Aquae\, el Salón Anual de Acuarela y es Líder de Paraguay para IWS\, International Watercolor Society. \nLos talleres de desarrollan en éstos horarios: \nMartes\, en dos turnos\, de 09:00 hs. a 12:00 hs. y de 15:00 hs. a 18:00 hs. \nSábados que son de 09:00 hs. a 12:00 hs. \nMás información: \n\nContacto telefónico del ICPA-GZ | (021) 22 44 55\nMensaje vía WhatsApp | +595 983 307 150 
URL:https://www.icpa-gz.org.py/evento/taller-de-dibujo-y-pintura-gabriel-brizuela-santome-8-14-3/
LOCATION:Instituto Cultural Paraguayo-Alemán – Goethe-Zentrum | ICPA-GZ\, Juan de Salazar 310 c/ Artigas_\, Asuncion\, 3500\, Paraguay
CATEGORIES:Arte,Cultura,Evento presencial,Taller
END:VEVENT
END:VCALENDAR