BEGIN:VCALENDAR
VERSION:2.0
PRODID:-//Instituto Cultural Paraguayo Alemán – Goethe-Zentrum - ECPv6.15.20//NONSGML v1.0//EN
CALSCALE:GREGORIAN
METHOD:PUBLISH
X-WR-CALNAME:Instituto Cultural Paraguayo Alemán – Goethe-Zentrum
X-ORIGINAL-URL:https://www.icpa-gz.org.py
X-WR-CALDESC:Eventos para Instituto Cultural Paraguayo Alemán – Goethe-Zentrum
REFRESH-INTERVAL;VALUE=DURATION:PT1H
X-Robots-Tag:noindex
X-PUBLISHED-TTL:PT1H
BEGIN:VTIMEZONE
TZID:America/Asuncion
BEGIN:STANDARD
TZOFFSETFROM:-0300
TZOFFSETTO:-0400
TZNAME:-04
DTSTART:20240324T030000
END:STANDARD
BEGIN:DAYLIGHT
TZOFFSETFROM:-0400
TZOFFSETTO:-0300
TZNAME:-03
DTSTART:20241006T040000
END:DAYLIGHT
BEGIN:STANDARD
TZOFFSETFROM:-0300
TZOFFSETTO:-0300
TZNAME:-03
DTSTART:20241015T030000
END:STANDARD
END:VTIMEZONE
BEGIN:VEVENT
DTSTART;TZID=America/Asuncion:20250913T090000
DTEND;TZID=America/Asuncion:20250913T120000
DTSTAMP:20260424T022805
CREATED:20250902T211621Z
LAST-MODIFIED:20250902T211621Z
UID:56365-1757754000-1757764800@www.icpa-gz.org.py
SUMMARY:Taller de Dibujo y Pintura | Gabriel Brizuela Santomé 6/14
DESCRIPTION:Dirigidos por el experimentado artista plástico Gabriel Brizuela Santomé los participantes hacen un recorrido por diversas técnicas como grafito\, pastel\, acuarela\, óleo pastel\, tinta\, mixtas y otras; a elección del estudiante\, al igual que los temas a desarrollar\, que van de la figura humana fundamentalmente a otros\, como bodegones\, naturaleza\, etc. En niveles de representación tanto figurativos como abstractos. \nGabriel Brizuela Santomé tiene un centenar de exposiciones realizadas en Paraguay y el exterior\, varias en representación de nuestro país en Brasil\, Argentina\, Uruguay\, España\, Portugal\, Italia\, USA\, en Bienales\, festivales\, concursos\, etc. Más de 20 premios nacionales e internacionales\, como también es mencionado en una veintena de libros de arte y publicidad de nuestro medio y el exterior Es fundador del MAD\, Museo de Arte Digital\, el primer portal de artes visuales de Paraguay y América\, de la primera facultad de diseño gráfico\, UCA\, en nuestro país\, el Círculo de Creativos del Paraguay\, el colectivo de acuarela Medium Aquae\, el Salón Anual de Acuarela y es Líder de Paraguay para IWS\, International Watercolor Society. \nLos talleres de desarrollan en éstos horarios: \nMartes\, en dos turnos\, de 09:00 hs. a 12:00 hs. y de 15:00 hs. a 18:00 hs. \nSábados que son de 09:00 hs. a 12:00 hs. \nMás información: \n\nContacto telefónico del ICPA-GZ | (021) 22 44 55\nMensaje vía WhatsApp | +595 983 307 150 
URL:https://www.icpa-gz.org.py/evento/taller-de-dibujo-y-pintura-gabriel-brizuela-santome-6-14-2/
LOCATION:Instituto Cultural Paraguayo-Alemán – Goethe-Zentrum | ICPA-GZ\, Juan de Salazar 310 c/ Artigas_\, Asuncion\, 3500\, Paraguay
CATEGORIES:Arte,Cultura,Evento presencial,Taller
ATTACH;FMTTYPE=image/jpeg:https://www.icpa-gz.org.py/wp-content/uploads/2025/02/WhatsApp-Image-2025-02-18-at-15.48.01.jpeg
END:VEVENT
BEGIN:VEVENT
DTSTART;TZID=America/Asuncion:20250913T100000
DTEND;TZID=America/Asuncion:20250913T120000
DTSTAMP:20260424T022805
CREATED:20250902T214325Z
LAST-MODIFIED:20250902T214325Z
UID:56515-1757757600-1757764800@www.icpa-gz.org.py
SUMMARY:Taller de Cerámica | Jazi Brizuela 2/4
DESCRIPTION:Si hace tiempo querías aprender cerámica\, si ya tomaste algunas clases pero querés profundizar y practicar\, este taller es para vos. Se abre este espacio de introducción a la cerámica con Jazmín Brizuela García @jazibrizuela | Instagram. \n\n\n \n\n\nFecha: Todos los sábados\n\n\nHorario: De 10:00 a 12:00 Hs.\n\n\n\nInversión:\n\n\nGs. 380.000 por mes (4 clases)\n\n\nGs. 160.000 por clase (2 hs.)\n\n\nIncluye materiales\, cocción y piezas elaboradas.\n\n\n \n\n\nTaller libre:\n\n\nSi querés experimentar por primera vez o si experiencia y querés desarrollar proyectos personales. Podés consultar también por estas clases personalizadas.\n\n\n \n\n\nInscripciones y consultas\n\n\n +595 983 307 150 | WhatsApp\n +595 (21) 22 44 55
URL:https://www.icpa-gz.org.py/evento/taller-de-ceramica-jazi-brizuela-2-4-5/
LOCATION:Instituto Cultural Paraguayo-Alemán – Goethe-Zentrum | ICPA-GZ\, Juan de Salazar 310 c/ Artigas_\, Asuncion\, 3500\, Paraguay
CATEGORIES:Arte,Cultura,Evento presencial,Taller
ATTACH;FMTTYPE=image/jpeg:https://www.icpa-gz.org.py/wp-content/uploads/2025/05/WhatsApp-Image-2025-04-03-at-16.41.23.jpeg
END:VEVENT
BEGIN:VEVENT
DTSTART;TZID=America/Asuncion:20250913T200000
DTEND;TZID=America/Asuncion:20250913T210000
DTSTAMP:20260424T022805
CREATED:20250912T193011Z
LAST-MODIFIED:20250912T193030Z
UID:56736-1757793600-1757797200@www.icpa-gz.org.py
SUMMARY:Concierto "Patios y asuncenías" | Yenia & Quintás
DESCRIPTION:Te invitamos a difrutar del concierto “Patios y asuncenías”. Un guión hecho de versos de grandes escritores paraguayos\, de historias guardadas en libros y recuerdos personales de patios asuncenos. Esto se conecta con las canciones de la cantautora –grabadas en sus dos discos- con nuevos temas temas\, compuestos recientemente con Quintás\, aún inéditos.\n\n \n\n\nEste concierto está auspiciado por Fondos Culturales de la Municipalidad de Asunción (FOCMA) en su convocatoria 2024.\n\n\n \n\n\nSábado 13 de septiembre \n\n\n20:00 Hs. \n\n\n \n\n\nAuditorio Rolando Rasmussen \n\n\nInstituto Cultural Paraguayo-Alemán – Goethe-Zentrum\n\n\nJuan de Salazar 310 esq. Artigas \n\n\n \n\n\nCon el apoyo de Dirección Gral.de Cultura y Turismo de la Municipalidad de Asunción y el Instituto Cultural Paraguayo Alemán – Goethe Zentrum
URL:https://www.icpa-gz.org.py/evento/concierto-patios-y-asuncenias-yenia-quintas/
LOCATION:Salón Rolando Rasmussen del Instituto Cultural Paraguayo-Alemán – Goethe-Zentrum | ICPA-GZ\, Juan de Salazar 310 c/ Artigas Barrio Ricardo Brugada\, Asunción\, Distrito Capital\, Paraguay
CATEGORIES:apoyado por el ICPA-GZ,Arte,Concierto,Cultura,Evento presencial,Música
ATTACH;FMTTYPE=image/jpeg:https://www.icpa-gz.org.py/wp-content/uploads/2025/09/542443573_18407796226112392_1882184912410903785_n.jpg
END:VEVENT
END:VCALENDAR