BEGIN:VCALENDAR
VERSION:2.0
PRODID:-//Instituto Cultural Paraguayo Alemán – Goethe-Zentrum - ECPv6.15.20//NONSGML v1.0//EN
CALSCALE:GREGORIAN
METHOD:PUBLISH
X-WR-CALNAME:Instituto Cultural Paraguayo Alemán – Goethe-Zentrum
X-ORIGINAL-URL:https://www.icpa-gz.org.py
X-WR-CALDESC:Eventos para Instituto Cultural Paraguayo Alemán – Goethe-Zentrum
REFRESH-INTERVAL;VALUE=DURATION:PT1H
X-Robots-Tag:noindex
X-PUBLISHED-TTL:PT1H
BEGIN:VTIMEZONE
TZID:America/Asuncion
BEGIN:STANDARD
TZOFFSETFROM:-0300
TZOFFSETTO:-0400
TZNAME:-04
DTSTART:20240324T030000
END:STANDARD
BEGIN:DAYLIGHT
TZOFFSETFROM:-0400
TZOFFSETTO:-0300
TZNAME:-03
DTSTART:20241006T040000
END:DAYLIGHT
BEGIN:STANDARD
TZOFFSETFROM:-0300
TZOFFSETTO:-0300
TZNAME:-03
DTSTART:20241015T030000
END:STANDARD
END:VTIMEZONE
BEGIN:VEVENT
DTSTART;TZID=America/Asuncion:20250911T190000
DTEND;TZID=America/Asuncion:20250911T210000
DTSTAMP:20260424T022840
CREATED:20250909T213741Z
LAST-MODIFIED:20250916T213643Z
UID:56719-1757617200-1757624400@www.icpa-gz.org.py
SUMMARY:Exposición "Og\, La última casa" | Luvier Casali 1/3
DESCRIPTION:Inauguración de “Og\, La última casa”\n\n\n\nEste jueves 11 de septiembre se inaugura la muestra “Og\, La última Casa”\, de Luvier Casali\, que cuenta con la curaduría de Adriana Almada. La actividad se enmarca dentro de la bienal Pinta Sud. \n\n\n\nEl trabajo artístico y etnográfico de Luvier Casali rescata mediante el frottage\, los relieves de las casas tradicionales mbya\, hoy cada vez más escasas. La reflexión a la que nos lleva el artista y su etnografía resalta que las casas mbya no solo cumplen una función práctica\, sino que también poseen una dimensión simbólica.\n\n\n\nJueves 11 de septiembre\n19:00 Hs.\n\nComplejo Textilia\n\n\n\nEsta muestra cuenta con el apoyo del ICPA-GZ
URL:https://www.icpa-gz.org.py/evento/exposicion-os-la-ultima-casa-luvier-casali/
LOCATION:Complejo Textilia\, Av. Gral. Santos 1030 y Defensa Nacional\, Asunción\, Central\, Paraguay
CATEGORIES:apoyado por el ICPA-GZ,Arte,Cultura,Evento presencial,Festival,PintaSudASU
ATTACH;FMTTYPE=image/jpeg:https://www.icpa-gz.org.py/wp-content/uploads/2025/09/WhatsApp-Image-2025-09-08-at-14.11.50.jpeg
END:VEVENT
END:VCALENDAR