BEGIN:VCALENDAR
VERSION:2.0
PRODID:-//Instituto Cultural Paraguayo Alemán – Goethe-Zentrum - ECPv6.15.20//NONSGML v1.0//EN
CALSCALE:GREGORIAN
METHOD:PUBLISH
X-WR-CALNAME:Instituto Cultural Paraguayo Alemán – Goethe-Zentrum
X-ORIGINAL-URL:https://www.icpa-gz.org.py
X-WR-CALDESC:Eventos para Instituto Cultural Paraguayo Alemán – Goethe-Zentrum
REFRESH-INTERVAL;VALUE=DURATION:PT1H
X-Robots-Tag:noindex
X-PUBLISHED-TTL:PT1H
BEGIN:VTIMEZONE
TZID:America/Asuncion
BEGIN:STANDARD
TZOFFSETFROM:-0300
TZOFFSETTO:-0400
TZNAME:-04
DTSTART:20240324T030000
END:STANDARD
BEGIN:DAYLIGHT
TZOFFSETFROM:-0400
TZOFFSETTO:-0300
TZNAME:-03
DTSTART:20241006T040000
END:DAYLIGHT
BEGIN:STANDARD
TZOFFSETFROM:-0300
TZOFFSETTO:-0300
TZNAME:-03
DTSTART:20241015T030000
END:STANDARD
END:VTIMEZONE
BEGIN:VEVENT
DTSTART;TZID=America/Asuncion:20250813T080000
DTEND;TZID=America/Asuncion:20250813T200000
DTSTAMP:20260424T040836
CREATED:20250813T211745Z
LAST-MODIFIED:20250813T211745Z
UID:55605-1755072000-1755115200@www.icpa-gz.org.py
SUMMARY:Temporal – Festival de Performance Art 3/6
DESCRIPTION:Temporal – Festival de Performance Art\n\n\n\nTemporal tomará lugar del 11 al 16 de agosto 2025 en Asunción y alrededores.\nEs un festival dedicado a performance en espacios públicos y/o comunitarios. Este año es invitada la queeradora\, millenial y triple Piscis\, Mariana Rodríguez Iglesias (Buenos Aires\, AR).\nEl encuentro cuenta con el apoyo de Argentina Performance Art y el ICPA-GZ.\n\n\n\nSe transitán calles\, veredas\, plazas\, mercados y parques de la gran Asunción (incluyendo el área metropolitana) para generar arte acción\, happenings\, performance. También se ofrecerán talleres y conversatorios al público general sobre las prácticas y procesos artísticos.\n\n\n\nPara más info visitar:\nwww.festivaltemporal.com\nRed Gris | Instagram\n@artesedele | Instagram
URL:https://www.icpa-gz.org.py/evento/temporal-festival-de-performance-art-3-6/
LOCATION:Asunción\, Asunción\, Distrito Capital\, Paraguay
CATEGORIES:apoyado por el ICPA-GZ,Arte,Cultura,Evento presencial,Festival,Taller,Videoarte
ATTACH;FMTTYPE=image/jpeg:https://www.icpa-gz.org.py/wp-content/uploads/2025/08/WhatsApp-Image-2025-07-17-at-21.39.18-1.jpeg
END:VEVENT
BEGIN:VEVENT
DTSTART;TZID=America/Asuncion:20250813T190000
DTEND;TZID=America/Asuncion:20250813T210000
DTSTAMP:20260424T040836
CREATED:20250813T204759Z
LAST-MODIFIED:20250813T205357Z
UID:55568-1755111600-1755118800@www.icpa-gz.org.py
SUMMARY:Concierto de Graduación | Escuela Suzuki
DESCRIPTION:Te esperamos para el Concierto de Graduación 2025 de la Escuela Suzuki del Paraguay\nFecha: Miércoles 13 de agosto.\nHorario: 19 hs.\nAcceso Libre y Gratuito\n\nSalón Rolando Rasmussen\nInstituto Cultural Paraguayo-Alemán – Goethe-Zentrum\nJuan de Salazar 310 casi Artigas. 
URL:https://www.icpa-gz.org.py/evento/concierto-de-graduacion-escuela-suzuki/
LOCATION:Salón Rolando Rasmussen del Instituto Cultural Paraguayo-Alemán – Goethe-Zentrum | ICPA-GZ\, Juan de Salazar 310 c/ Artigas Barrio Ricardo Brugada\, Asunción\, Distrito Capital\, Paraguay
CATEGORIES:Arte,Concierto,Cultura,Evento presencial,Música
ATTACH;FMTTYPE=image/png:https://www.icpa-gz.org.py/wp-content/uploads/2025/08/ConciertoSuzuki.png
ORGANIZER;CN="Escuela de M%C3%BAsica Suzuki - Paraguay":MAILTO:suzukimusicaparaguay@gmail.com
END:VEVENT
END:VCALENDAR