BEGIN:VCALENDAR
VERSION:2.0
PRODID:-//Instituto Cultural Paraguayo Alemán – Goethe-Zentrum - ECPv6.15.20//NONSGML v1.0//EN
CALSCALE:GREGORIAN
METHOD:PUBLISH
X-WR-CALNAME:Instituto Cultural Paraguayo Alemán – Goethe-Zentrum
X-ORIGINAL-URL:https://www.icpa-gz.org.py
X-WR-CALDESC:Eventos para Instituto Cultural Paraguayo Alemán – Goethe-Zentrum
REFRESH-INTERVAL;VALUE=DURATION:PT1H
X-Robots-Tag:noindex
X-PUBLISHED-TTL:PT1H
BEGIN:VTIMEZONE
TZID:America/Asuncion
BEGIN:STANDARD
TZOFFSETFROM:-0300
TZOFFSETTO:-0400
TZNAME:-04
DTSTART:20240324T030000
END:STANDARD
BEGIN:DAYLIGHT
TZOFFSETFROM:-0400
TZOFFSETTO:-0300
TZNAME:-03
DTSTART:20241006T040000
END:DAYLIGHT
BEGIN:STANDARD
TZOFFSETFROM:-0300
TZOFFSETTO:-0300
TZNAME:-03
DTSTART:20241015T030000
END:STANDARD
END:VTIMEZONE
BEGIN:VEVENT
DTSTART;TZID=America/Asuncion:20250812T050000
DTEND;TZID=America/Asuncion:20250812T200000
DTSTAMP:20260424T040842
CREATED:20250813T211536Z
LAST-MODIFIED:20250813T211536Z
UID:55590-1754974800-1755028800@www.icpa-gz.org.py
SUMMARY:Temporal – Festival de Performance Art 2/6
DESCRIPTION:Temporal – Festival de Performance Art\n\n\n\nTemporal tomará lugar del 11 al 16 de agosto 2025 en Asunción y alrededores.\nEs un festival dedicado a performance en espacios públicos y/o comunitarios. Este año es invitada la queeradora\, millenial y triple Piscis\, Mariana Rodríguez Iglesias (Buenos Aires\, AR).\nEl encuentro cuenta con el apoyo de Argentina Performance Art y el ICPA-GZ.\n\n\n\nSe transitán calles\, veredas\, plazas\, mercados y parques de la gran Asunción (incluyendo el área metropolitana) para generar arte acción\, happenings\, performance. También se ofrecerán talleres y conversatorios al público general sobre las prácticas y procesos artísticos.\n\n\n\nPara más info visitar:\nwww.festivaltemporal.com\nRed Gris | Instagram\n@artesedele | Instagram
URL:https://www.icpa-gz.org.py/evento/temporal-festival-de-performance-art-2-6/
LOCATION:Asunción\, Asunción\, Distrito Capital\, Paraguay
CATEGORIES:apoyado por el ICPA-GZ,Arte,Charla,Cultura,Evento presencial,Festival,Taller,Videoarte
ATTACH;FMTTYPE=image/jpeg:https://www.icpa-gz.org.py/wp-content/uploads/2025/08/WhatsApp-Image-2025-07-17-at-21.39.18-1.jpeg
END:VEVENT
BEGIN:VEVENT
DTSTART;TZID=America/Asuncion:20250812T090000
DTEND;TZID=America/Asuncion:20250812T120000
DTSTAMP:20260424T040842
CREATED:20250807T193710Z
LAST-MODIFIED:20250807T193710Z
UID:55375-1754989200-1755000000@www.icpa-gz.org.py
SUMMARY:Taller de Dibujo y Pintura | Gabriel Brizuela Santomé 5/13
DESCRIPTION:Dirigidos por el experimentado artista plástico Gabriel Brizuela Santomé los participantes hacen un recorrido por diversas técnicas como grafito\, pastel\, acuarela\, óleo pastel\, tinta\, mixtas y otras; a elección del estudiante\, al igual que los temas a desarrollar\, que van de la figura humana fundamentalmente a otros\, como bodegones\, naturaleza\, etc. En niveles de representación tanto figurativos como abstractos. \nGabriel Brizuela Santomé tiene un centenar de exposiciones realizadas en Paraguay y el exterior\, varias en representación de nuestro país en Brasil\, Argentina\, Uruguay\, España\, Portugal\, Italia\, USA\, en Bienales\, festivales\, concursos\, etc. Más de 20 premios nacionales e internacionales\, como también es mencionado en una veintena de libros de arte y publicidad de nuestro medio y el exterior Es fundador del MAD\, Museo de Arte Digital\, el primer portal de artes visuales de Paraguay y América\, de la primera facultad de diseño gráfico\, UCA\, en nuestro país\, el Círculo de Creativos del Paraguay\, el colectivo de acuarela Medium Aquae\, el Salón Anual de Acuarela y es Líder de Paraguay para IWS\, International Watercolor Society. \nLos talleres de desarrollan en éstos horarios: \nMartes\, en dos turnos\, de 09:00 hs. a 12:00 hs. y de 15:00 hs. a 18:00 hs. \nSábados que son de 09:00 hs. a 12:00 hs. \nMás información: \n\nContacto telefónico del ICPA-GZ | (021) 22 44 55\nMensaje vía WhatsApp | +595 983 307 150 
URL:https://www.icpa-gz.org.py/evento/taller-de-dibujo-y-pintura-gabriel-brizuela-santome-5-13-3/
LOCATION:Biblioteca Ulrich Schmidl del Instituto Cultural Paraguayo-Alemán – Goethe-Zentrum | ICPA-GZ\, Juan de Salazar 310 c/ Artigas_\, Asuncion\, Distrito Capital\, Paraguay
CATEGORIES:Arte,Biblioteca,Cultura,Evento presencial,Taller
ATTACH;FMTTYPE=image/jpeg:https://www.icpa-gz.org.py/wp-content/uploads/2025/02/WhatsApp-Image-2025-02-18-at-15.48.01.jpeg
END:VEVENT
BEGIN:VEVENT
DTSTART;TZID=America/Asuncion:20250812T150000
DTEND;TZID=America/Asuncion:20250812T180000
DTSTAMP:20260424T040842
CREATED:20250807T194153Z
LAST-MODIFIED:20250807T194153Z
UID:55390-1755010800-1755021600@www.icpa-gz.org.py
SUMMARY:Taller de Dibujo y Pintura | Gabriel Brizuela Santomé 6/13
DESCRIPTION:Dirigidos por el experimentado artista plástico Gabriel Brizuela Santomé los participantes hacen un recorrido por diversas técnicas como grafito\, pastel\, acuarela\, óleo pastel\, tinta\, mixtas y otras; a elección del estudiante\, al igual que los temas a desarrollar\, que van de la figura humana fundamentalmente a otros\, como bodegones\, naturaleza\, etc. En niveles de representación tanto figurativos como abstractos. \nGabriel Brizuela Santomé tiene un centenar de exposiciones realizadas en Paraguay y el exterior\, varias en representación de nuestro país en Brasil\, Argentina\, Uruguay\, España\, Portugal\, Italia\, USA\, en Bienales\, festivales\, concursos\, etc. Más de 20 premios nacionales e internacionales\, como también es mencionado en una veintena de libros de arte y publicidad de nuestro medio y el exterior Es fundador del MAD\, Museo de Arte Digital\, el primer portal de artes visuales de Paraguay y América\, de la primera facultad de diseño gráfico\, UCA\, en nuestro país\, el Círculo de Creativos del Paraguay\, el colectivo de acuarela Medium Aquae\, el Salón Anual de Acuarela y es Líder de Paraguay para IWS\, International Watercolor Society. \nLos talleres de desarrollan en éstos horarios: \nMartes\, en dos turnos\, de 09:00 hs. a 12:00 hs. y de 15:00 hs. a 18:00 hs. \nSábados que son de 09:00 hs. a 12:00 hs. \nMás información: \n\nContacto telefónico del ICPA-GZ | (021) 22 44 55\nMensaje vía WhatsApp | +595 983 307 150 
URL:https://www.icpa-gz.org.py/evento/taller-de-dibujo-y-pintura-gabriel-brizuela-santome-6-13-3/
LOCATION:Biblioteca Ulrich Schmidl del Instituto Cultural Paraguayo-Alemán – Goethe-Zentrum | ICPA-GZ\, Juan de Salazar 310 c/ Artigas_\, Asuncion\, Distrito Capital\, Paraguay
CATEGORIES:Arte,Biblioteca,Cultura,Evento presencial,Taller
ATTACH;FMTTYPE=image/jpeg:https://www.icpa-gz.org.py/wp-content/uploads/2025/02/WhatsApp-Image-2025-02-18-at-15.48.01.jpeg
END:VEVENT
BEGIN:VEVENT
DTSTART;TZID=America/Asuncion:20250812T190000
DTEND;TZID=America/Asuncion:20250812T210000
DTSTAMP:20260424T040842
CREATED:20250808T200721Z
LAST-MODIFIED:20250808T201222Z
UID:55545-1755025200-1755032400@www.icpa-gz.org.py
SUMMARY:Conversatorio sobre patrimonio | Exposición "Viaje a las raíces"
DESCRIPTION:En el marco de la exposición “Viaje a las raíces” \, se presentará el Conversatorio de Patrimonio. El mismo será impartido por la Arq. Silvia Rey de la Secretaría Nacional de Cultura\, y el Arq. Carlos Sosa\, curador de la muestra. \nMartes 12 de agosto\n19:00hs\nInstituto Cultural Paraguayo-Alemán – Goethe-Zentrum\nJuan de Salazar 310 c/ Artigas. \nSobre la exposición “Viaje a las raíces” \nArtistas visuales y arquitectos miembros del colectivo de acuarelistas Medium Aquae se reúnen en una manifestación de valor sobre nuestra identidad y la recuperación de nuestra rica historia\, a través de sus miradas artísticas sobre 8 puntos patrimoniales.\nCuraduría a cargo del Arq. Carlos Sosa \nExpositores:\nAni Moreno\, Anibal Maidana\, Daniel Ayala\, Elba Ferreira\, Enrique Espí­nola\, Eugenia Ortigoza\, Félix Toranzos\, Gabriel Brizuela Santomé\, Ida De Los Ríos\, Isabel Fretes\, Jorge Cardozo De Lamar\, Jorge Ocampos\, Jorge Ruiz Duarte\, Leticia Casati\, Marco Reynaldi\, Maria Gloria Echauri\, Maria Lyakhovitskaya\, Mónica Pavez\, Monika Schuchardt\, Pedro Florentín Demestri\, Roberto Noguer\, William Paats\, Yuki Hayashi \nEl proyecto cuenta con el Apoyo de Fondos de Cultura 2025 de la Secretaría Nacional.
URL:https://www.icpa-gz.org.py/evento/conversatorio-sobre-patrimonio-exposicion-viaje-a-las-raices/
LOCATION:Instituto Cultural Paraguayo-Alemán – Goethe-Zentrum | ICPA-GZ\, Juan de Salazar 310 c/ Artigas_\, Asuncion\, 3500\, Paraguay
CATEGORIES:Arte,Conversatorio,Cultura,Evento presencial,Exposición
ATTACH;FMTTYPE=image/jpeg:https://www.icpa-gz.org.py/wp-content/uploads/2025/08/WhatsApp-Image-2025-08-08-at-14.50.51.jpeg
END:VEVENT
END:VCALENDAR