BEGIN:VCALENDAR
VERSION:2.0
PRODID:-//Instituto Cultural Paraguayo Alemán – Goethe-Zentrum - ECPv6.15.20//NONSGML v1.0//EN
CALSCALE:GREGORIAN
METHOD:PUBLISH
X-ORIGINAL-URL:https://www.icpa-gz.org.py
X-WR-CALDESC:Eventos para Instituto Cultural Paraguayo Alemán – Goethe-Zentrum
REFRESH-INTERVAL;VALUE=DURATION:PT1H
X-Robots-Tag:noindex
X-PUBLISHED-TTL:PT1H
BEGIN:VTIMEZONE
TZID:America/Asuncion
BEGIN:STANDARD
TZOFFSETFROM:-0300
TZOFFSETTO:-0400
TZNAME:-04
DTSTART:20240324T030000
END:STANDARD
BEGIN:DAYLIGHT
TZOFFSETFROM:-0400
TZOFFSETTO:-0300
TZNAME:-03
DTSTART:20241006T040000
END:DAYLIGHT
BEGIN:STANDARD
TZOFFSETFROM:-0300
TZOFFSETTO:-0300
TZNAME:-03
DTSTART:20241015T030000
END:STANDARD
END:VTIMEZONE
BEGIN:VEVENT
DTSTART;TZID=America/Asuncion:20250730T183000
DTEND;TZID=America/Asuncion:20250730T203000
DTSTAMP:20260424T095835
CREATED:20250728T214431Z
LAST-MODIFIED:20250728T214431Z
UID:55082-1753900200-1753907400@www.icpa-gz.org.py
SUMMARY:Orphea enamorada | Ciclo de Cine Alemán "Amores convulsionados" 
DESCRIPTION:Miércoles de cine en el ICPA-GZ. Te esperamos para ver el filrme “Orphea Enamorada “\, seguido de un espacio de charla – debate con Yosue Ayala\, coordinador del ciclo.\n\n\n \n\n\nMiércoles 29 de julio | 18:30 horas\n\n\n\nOrphea Enamorada |Alemania 2022 – 107 min. – Axel Ranisch – Musical/Drama\n\n\nNele escapa una y otra vez de su monótona vida laboral en Berlín con la ayuda de la música y la ópera\, pero todo cambia cuando conoce al bailarín callejero y delincuente de poca monta Kolya\, ambos se reconocen inmediatamente como almas gemelas y estrechan sus lazos a través de la música y la danza. Sin embargo\, el oscuro pasado de Nele pronto se interpone en su incipiente amor.\n\n\n \n\n\nAcceso libre y gratuito \n\n\n¡Te esperamos! \n\n\n \n\n\nInstituto Cultural Paraguayo-Alemán – Goethe-Zentrum\n\n\nJuan de Salazar 310 esq. Artigas
URL:https://www.icpa-gz.org.py/evento/orphea-enamorada-ciclo-de-cine-aleman-amores-convulsionados/
LOCATION:Biblioteca Ulrich Schmidl del Instituto Cultural Paraguayo-Alemán – Goethe-Zentrum | ICPA-GZ\, Juan de Salazar 310 c/ Artigas_\, Asuncion\, Distrito Capital\, Paraguay
CATEGORIES:apoyado por el ICPA-GZ,Arte,Biblioteca,Ciclos de Cine Alemán,Cine,Cultura,Evento presencial
ATTACH;FMTTYPE=image/png:https://www.icpa-gz.org.py/wp-content/uploads/2025/07/AC-CINE-DEBATE-7.png
END:VEVENT
END:VCALENDAR