BEGIN:VCALENDAR
VERSION:2.0
PRODID:-//Instituto Cultural Paraguayo Alemán – Goethe-Zentrum - ECPv6.15.20//NONSGML v1.0//EN
CALSCALE:GREGORIAN
METHOD:PUBLISH
X-WR-CALNAME:Instituto Cultural Paraguayo Alemán – Goethe-Zentrum
X-ORIGINAL-URL:https://www.icpa-gz.org.py
X-WR-CALDESC:Eventos para Instituto Cultural Paraguayo Alemán – Goethe-Zentrum
REFRESH-INTERVAL;VALUE=DURATION:PT1H
X-Robots-Tag:noindex
X-PUBLISHED-TTL:PT1H
BEGIN:VTIMEZONE
TZID:America/Asuncion
BEGIN:STANDARD
TZOFFSETFROM:-0300
TZOFFSETTO:-0400
TZNAME:-04
DTSTART:20240324T030000
END:STANDARD
BEGIN:DAYLIGHT
TZOFFSETFROM:-0400
TZOFFSETTO:-0300
TZNAME:-03
DTSTART:20241006T040000
END:DAYLIGHT
BEGIN:STANDARD
TZOFFSETFROM:-0300
TZOFFSETTO:-0300
TZNAME:-03
DTSTART:20241015T030000
END:STANDARD
END:VTIMEZONE
BEGIN:VEVENT
DTSTART;TZID=America/Asuncion:20250726T090000
DTEND;TZID=America/Asuncion:20250726T110000
DTSTAMP:20260424T151331
CREATED:20250723T213409Z
LAST-MODIFIED:20250723T214608Z
UID:55022-1753520400-1753527600@www.icpa-gz.org.py
SUMMARY:Taller de Introducción a la impresión 3D 1/3
DESCRIPTION:El Instituto Cultural Paraguayo-Alemán – Goethe-Zentrum presenta el Taller de Introducción a la Impresión de 3D. Son tres jornadas impartidas por el Ing. Gerardo Weiler\, de Rainbow Mechatronics.\n\n\n\n\n\nLa impresión de 3D tiene aplicaciones en áreas\, como en la salud\, en la mecánica\, tecnologías\, artes\, entre otras. Este taller busca mostrar las nociones básicas y sus posibilidades. Este taller cuenta con el apoyo del Goethe-Institut.\n\n\n\nSábados 26 de julio\, 2 y 9 de agosto\nDe 9:00 a 11:00 hs.\nPresencial\nEl costo es gratuito\, pero los cupos son limitados.\nInscribite ingresando a este enlace: https://forms.gle/QsVoyLKxSvtWHzhMA\n\nInstituto Cultural Paraguayo-Alemán – Goethe-Zentrum\nJuan de Salazar 310 esq. Artigas
URL:https://www.icpa-gz.org.py/evento/taller-de-introduccion-a-la-impresion-3d-1-3/
LOCATION:Instituto Cultural Paraguayo-Alemán – Goethe-Zentrum | ICPA-GZ\, Juan de Salazar 310 c/ Artigas_\, Asuncion\, 3500\, Paraguay
CATEGORIES:apoyado por el ICPA-GZ,Capacitación,Evento presencial,Goethe-Institut,Taller
ATTACH;FMTTYPE=image/png:https://www.icpa-gz.org.py/wp-content/uploads/2025/07/ICPA_CursoImpresion3D.png
END:VEVENT
BEGIN:VEVENT
DTSTART;TZID=America/Asuncion:20250726T090000
DTEND;TZID=America/Asuncion:20250726T120000
DTSTAMP:20260424T151331
CREATED:20250703T201355Z
LAST-MODIFIED:20250703T201355Z
UID:54528-1753520400-1753531200@www.icpa-gz.org.py
SUMMARY:Taller de Dibujo y Pintura | Gabriel Brizuela Santomé 12/14
DESCRIPTION:Dirigidos por el experimentado artista plástico Gabriel Brizuela Santomé los participantes hacen un recorrido por diversas técnicas como grafito\, pastel\, acuarela\, óleo pastel\, tinta\, mixtas y otras; a elección del estudiante\, al igual que los temas a desarrollar\, que van de la figura humana fundamentalmente a otros\, como bodegones\, naturaleza\, etc. En niveles de representación tanto figurativos como abstractos. \nGabriel Brizuela Santomé tiene un centenar de exposiciones realizadas en Paraguay y el exterior\, varias en representación de nuestro país en Brasil\, Argentina\, Uruguay\, España\, Portugal\, Italia\, USA\, en Bienales\, festivales\, concursos\, etc. Más de 20 premios nacionales e internacionales\, como también es mencionado en una veintena de libros de arte y publicidad de nuestro medio y el exterior Es fundador del MAD\, Museo de Arte Digital\, el primer portal de artes visuales de Paraguay y América\, de la primera facultad de diseño gráfico\, UCA\, en nuestro país\, el Círculo de Creativos del Paraguay\, el colectivo de acuarela Medium Aquae\, el Salón Anual de Acuarela y es Líder de Paraguay para IWS\, International Watercolor Society. \nLos talleres de desarrollan en éstos horarios: \nMartes\, en dos turnos\, de 09:00 hs. a 12:00 hs. y de 15:00 hs. a 18:00 hs. \nSábados que son de 09:00 hs. a 12:00 hs. \nMás información: \n\nContacto telefónico del ICPA-GZ | (021) 22 44 55\nMensaje vía WhatsApp | +595 983 307 150 
URL:https://www.icpa-gz.org.py/evento/taller-de-dibujo-y-pintura-gabriel-brizuela-santome-12-14-2/
LOCATION:Biblioteca Ulrich Schmidl del Instituto Cultural Paraguayo-Alemán – Goethe-Zentrum | ICPA-GZ\, Juan de Salazar 310 c/ Artigas_\, Asuncion\, Distrito Capital\, Paraguay
CATEGORIES:Arte,Biblioteca,Cultura,Evento presencial,Taller
ATTACH;FMTTYPE=image/jpeg:https://www.icpa-gz.org.py/wp-content/uploads/2025/02/WhatsApp-Image-2025-02-18-at-15.48.01.jpeg
END:VEVENT
BEGIN:VEVENT
DTSTART;TZID=America/Asuncion:20250726T100000
DTEND;TZID=America/Asuncion:20250726T120000
DTSTAMP:20260424T151331
CREATED:20250703T192936Z
LAST-MODIFIED:20250703T192936Z
UID:54348-1753524000-1753531200@www.icpa-gz.org.py
SUMMARY:Taller de Cerámica | Jazi Brizuela 4/4
DESCRIPTION:Si hace tiempo querías aprender cerámica\, si ya tomaste algunas clases pero querés profundizar y practicar\, este taller es para vos. Se abre este espacio de introducción a la cerámica con Jazmín Brizuela García @jazibrizuela | Instagram. \n\n\n \n\n\nFecha: Todos los sábados\n\n\nHorario: De 10:00 a 12:00 Hs.\n\n\n\nInversión:\n\n\nGs. 380.000 por mes (4 clases)\n\n\nGs. 160.000 por clase (2 hs.)\n\n\nIncluye materiales\, cocción y piezas elaboradas.\n\n\n \n\n\nTaller libre:\n\n\nSi querés experimentar por primera vez o si experiencia y querés desarrollar proyectos personales. Podés consultar también por estas clases personalizadas.\n\n\n \n\n\nInscripciones y consultas\n\n\n +595 983 307 150 | WhatsApp\n +595 (21) 22 44 55
URL:https://www.icpa-gz.org.py/evento/taller-de-ceramica-jazi-brizuela-4-4-4/
LOCATION:Biblioteca Ulrich Schmidl del Instituto Cultural Paraguayo-Alemán – Goethe-Zentrum | ICPA-GZ\, Juan de Salazar 310 c/ Artigas_\, Asuncion\, Distrito Capital\, Paraguay
CATEGORIES:Arte,Cultura,Evento presencial,Taller
ATTACH;FMTTYPE=image/jpeg:https://www.icpa-gz.org.py/wp-content/uploads/2025/05/WhatsApp-Image-2025-04-03-at-16.41.23.jpeg
END:VEVENT
BEGIN:VEVENT
DTSTART;TZID=America/Asuncion:20250726T180000
DTEND;TZID=America/Asuncion:20250726T200000
DTSTAMP:20260424T151331
CREATED:20250723T211635Z
LAST-MODIFIED:20250723T211838Z
UID:54997-1753552800-1753560000@www.icpa-gz.org.py
SUMMARY:Karl Oenike: un fotógrafo alemán en Paraguay (1889–1891)
DESCRIPTION:CAV/Museo del Barro\, invita a la inauguración de una exposición de fotografías de Karl Oenike\, artista alemán formado en la Academia de Arte de Berlín\, que registran paisajes del Paraguay del siglo XIX.\n\n\n\n\nLas imágenes reunidas en esta muestra\, recuperadas por el Centro de Documentación de la Inmigración de Habla Alemana (Argentina)\, revelan un “estado de ánimo del paisaje”\, una sensibilidad artística que\, según Inés Yjnovsky y Roberto Liebenthal\, se inscribe en la tradición del Stimmungsbild: obras que evocan la espiritualidad de los entornos.\n\n\n\nEn 1889\, el artista realizó una travesía por Sudamérica\, donde visitó colonias alemanas\, como San Bernardino\, donde fotografió la cervecería de Peter Herken\, así como otros pueblos paraguayos.\n\n\n\n\n\n\n Inauguración | Sábado 26 de julio\n19:00 hs.\n\nGabinete Florian Paucke\, Museo del Barro\nGrabadores del Cabichuí 2716\, Isla de Francia\, Asunción
URL:https://www.icpa-gz.org.py/evento/karl-oenike-un-fotografo-aleman-en-paraguay-1889-1891/
LOCATION:Museo del Barro\, Grabadores del Cabichuí 2716\, Asunción\, Paraguay
CATEGORIES:apoyado por el ICPA-GZ,Arte,Cultura,Evento presencial,Exposición,Fotografía
ATTACH;FMTTYPE=image/jpeg:https://www.icpa-gz.org.py/wp-content/uploads/2025/07/Flyer-Exposicion-Oenike-en-Museo-del-Barro-2025.7.26.jpg
END:VEVENT
BEGIN:VEVENT
DTSTART;TZID=America/Asuncion:20250726T200000
DTEND;TZID=America/Asuncion:20250726T210000
DTSTAMP:20260424T151331
CREATED:20250723T210246Z
LAST-MODIFIED:20250723T210246Z
UID:54981-1753560000-1753563600@www.icpa-gz.org.py
SUMMARY:"Die Mauer" - Teatro performance en alemán
DESCRIPTION:El ICPA-GZ presenta “Die Mauer”\, en alemán “El Muro”. Es una creación colectiva que surge a partir del taller “Aprender Alemán haciendo Teatro”\, por Juan Bürgin .\n\n\n\nEl espectáculo escenifica algunos sucesos históricos que se dieron en Berlín después de la segunda guerra mundial. El Muro de Berlín simbolizó no sólo la división de un país\, si no también\, “la guerra fría”\, para luego llegar a lo que se denomina “La Revolución Pacífica” o sea la caída del muro y la reunificación Alemana.\n\n\n\nActúan: Yosué Ayala\, Kerstin Martens\, Alejandro Medina\, Samira Villalba\, Leonardo Rivas\, Nadia Lagraña\, Alejandro Dominguez\, Christian Zarza\, Diana Aleli y Laurel Heisecke Cabrera.\n\n\n\nSi bien la presentación es en alemán\, quienes no lo entiendan\, igual lo podrán comprender.\n\n\n\nSábado 26 de Julio\n20:00 Hs.\nEntrada libre y gratuita\n\nInstituto Cultural Paraguayo-Alemán – Goethe-Zentrum\nJuan de Salazar 310\, Asunción
URL:https://www.icpa-gz.org.py/evento/die-mauer-teatro-performance-en-aleman/
LOCATION:Salón Rolando Rasmussen del Instituto Cultural Paraguayo-Alemán – Goethe-Zentrum | ICPA-GZ\, Juan de Salazar 310 c/ Artigas Barrio Ricardo Brugada\, Asunción\, Distrito Capital\, Paraguay
CATEGORIES:apoyado por el ICPA-GZ,Arte,Cultura,Evento presencial,Teatro
ATTACH;FMTTYPE=image/png:https://www.icpa-gz.org.py/wp-content/uploads/2025/07/CASTING.png
END:VEVENT
END:VCALENDAR