BEGIN:VCALENDAR
VERSION:2.0
PRODID:-//Instituto Cultural Paraguayo Alemán – Goethe-Zentrum - ECPv6.15.20//NONSGML v1.0//EN
CALSCALE:GREGORIAN
METHOD:PUBLISH
X-ORIGINAL-URL:https://www.icpa-gz.org.py
X-WR-CALDESC:Eventos para Instituto Cultural Paraguayo Alemán – Goethe-Zentrum
REFRESH-INTERVAL;VALUE=DURATION:PT1H
X-Robots-Tag:noindex
X-PUBLISHED-TTL:PT1H
BEGIN:VTIMEZONE
TZID:America/Asuncion
BEGIN:STANDARD
TZOFFSETFROM:-0300
TZOFFSETTO:-0400
TZNAME:-04
DTSTART:20220327T030000
END:STANDARD
BEGIN:DAYLIGHT
TZOFFSETFROM:-0400
TZOFFSETTO:-0300
TZNAME:-03
DTSTART:20221002T040000
END:DAYLIGHT
BEGIN:STANDARD
TZOFFSETFROM:-0300
TZOFFSETTO:-0400
TZNAME:-04
DTSTART:20230326T030000
END:STANDARD
BEGIN:DAYLIGHT
TZOFFSETFROM:-0400
TZOFFSETTO:-0300
TZNAME:-03
DTSTART:20231001T040000
END:DAYLIGHT
BEGIN:STANDARD
TZOFFSETFROM:-0300
TZOFFSETTO:-0400
TZNAME:-04
DTSTART:20240324T030000
END:STANDARD
BEGIN:DAYLIGHT
TZOFFSETFROM:-0400
TZOFFSETTO:-0300
TZNAME:-03
DTSTART:20241006T040000
END:DAYLIGHT
BEGIN:STANDARD
TZOFFSETFROM:-0300
TZOFFSETTO:-0300
TZNAME:-03
DTSTART:20241015T030000
END:STANDARD
END:VTIMEZONE
BEGIN:VEVENT
DTSTART;VALUE=DATE:20231002
DTEND;VALUE=DATE:20231103
DTSTAMP:20260423T181622
CREATED:20230713T184740Z
LAST-MODIFIED:20230928T191245Z
UID:11275-1696204800-1698969599@www.icpa-gz.org.py
SUMMARY:Inscripción para los exámenes internacionales | Noviembre de 2023
DESCRIPTION:Para más información \n+595 983 307 150 | WhatsApp\n+595 (021) 22 44 55 | Teléfono\ninformacion@icpa-gz.org.py\nhttps://icpa-gz.org.py/examenes-internacionales/
URL:https://www.icpa-gz.org.py/evento/inscripcion-para-los-examenes-internacionales-noviembre-de-2023/
LOCATION:Instituto Cultural Paraguayo-Alemán – Goethe-Zentrum | ICPA-GZ\, Juan de Salazar 310 c/ Artigas_\, Asuncion\, 3500\, Paraguay
CATEGORIES:Exámenes internacionales
ATTACH;FMTTYPE=image/jpeg:https://www.icpa-gz.org.py/wp-content/uploads/2023/07/ExamenesInternacionales-2doSemestre-2023-Feed4.jpg
END:VEVENT
BEGIN:VEVENT
DTSTART;VALUE=DATE:20231030
DTEND;VALUE=DATE:20231118
DTSTAMP:20260423T181622
CREATED:20230922T200024Z
LAST-MODIFIED:20231117T174707Z
UID:12904-1698624000-1700265599@www.icpa-gz.org.py
SUMMARY:Convocatoria para residencias | Akademie Schloss Solitude
DESCRIPTION:La Akademie Schloss Solitude apoya a jóvenes profesionales del arte\, la ciencia y la cultura a través de un amplio programa de becas de residencia que promueve la interrelación del arte y la ciencia\, en todas las disciplinas y campos de práctica. La convocatoria de solicitudes para su programa internacional y transdisciplinario de artistas en residencia se encuentra abierta para aproximadamente 65 becas de residencia de 2024 a 2026\, de 6 a 12 meses de duración. \nFecha límite de postulación | 30 de noviembre de 2023 \n\n\n\n➕ https://www.akademie-solitude.de/en/fellowship/fellowship-programs/solitude-fellowship/\n\n___\n\nEl Goethe-Institut abre un espacio para nuevas perspectivas con sus convocatorias y programas de residencias alrededor del mundo\, en el que artistas y profesionales del ámbito cultural llevan a cabo sus proyectos libres de presión económica y pueden establecer y fortalecer contactos duraderos.
URL:https://www.icpa-gz.org.py/evento/convocatoria-para-residencias-akademie-schloss-solitude/
LOCATION:en línea\, Paraguay
CATEGORIES:Beca,Convocatoria
ATTACH;FMTTYPE=image/jpeg:https://www.icpa-gz.org.py/wp-content/uploads/2023/09/380254542_710703201097383_231418683446268045_n.jpg
END:VEVENT
BEGIN:VEVENT
DTSTART;VALUE=DATE:20231101
DTEND;VALUE=DATE:20231126
DTSTAMP:20260423T181622
CREATED:20230713T185019Z
LAST-MODIFIED:20230928T190624Z
UID:11279-1698796800-1700956799@www.icpa-gz.org.py
SUMMARY:Inscripción para los exámenes internacionales | Diciembre de 2023
DESCRIPTION:Para más información \n+595 983 307 150 | WhatsApp\n+595 (021) 22 44 55 | Teléfono\ninformacion@icpa-gz.org.py\nhttps://icpa-gz.org.py/examenes-internacionales/
URL:https://www.icpa-gz.org.py/evento/inscripcion-para-los-examenes-internacionales-diciembre-de-2023/
LOCATION:Instituto Cultural Paraguayo-Alemán – Goethe-Zentrum | ICPA-GZ\, Juan de Salazar 310 c/ Artigas_\, Asuncion\, 3500\, Paraguay
CATEGORIES:Exámenes internacionales
ATTACH;FMTTYPE=image/jpeg:https://www.icpa-gz.org.py/wp-content/uploads/2023/07/ExamenesInternacionales-2doSemestre-2023-Feed5.jpg
END:VEVENT
BEGIN:VEVENT
DTSTART;VALUE=DATE:20231101
DTEND;VALUE=DATE:20231201
DTSTAMP:20260423T181622
CREATED:20231024T182840Z
LAST-MODIFIED:20231107T144350Z
UID:14993-1698796800-1701388799@www.icpa-gz.org.py
SUMMARY:La masacre alemana con motosierra | Cine de género de Alemania
DESCRIPTION:Schlingensief retrata la primera hora de la reunificación alemana como una matanza nacional. La noticia de la caída del muro provoca en la familia de un carnicero de Alemania Occidental una sed de sangre desenfrenada. En la cocina de un hotel destartalado\, masacran a ciudadanos de la RDA. “La masacre alemana con motosierra” es una reacción de corto plazo a un acontecimiento político de corto plazo. Los rápidos movimientos de cámara\, el sonido de fondo de una motosierra siempre presente y la actuación efectista los utiliza Schlingensief de manera consciente como elementos-basura. Así también interpreta la película la unidad alemana\, como un acto sangriento y caníbal de la incorporación del Este por el Oeste. \nLos alemanes celebran su reunificación frente a la Puerta de Brandemburgo\, en Berlín\, en octubre de 1990. El presidente federal Richard von Weizsäcker habla de unidad y libertad. Una joven mata a su marido con un enorme cuchillo y huye. Su coche\, un “Trabant”\, identifica a Clara como una “Ossi”. Pasa junto a los últimos restos de las antiguas tropas fronterizas y llega al Oeste. Una familia de carniceros estaba esperando a alguien como ella… Christoph Schlingensief\, el gran provocador\, da una respuesta inquietante y muy sangrienta a algunas preguntas sobre la reunificación alemana. \n“La matanza alemana con motosierra” es una mezcla provocadora\, casi histérica\, de rabia y sangre del género de “trash” como “La matnaza de Texas” y sus secuelas\, de Tobe Hooper\, o como al clásico de terror “Psicosis”\, de Hitchcock. Esto no es del gusto de todos. En varias entrevistas\, el autor y director se refirió al lado completamente siniestro y amargamente malvado\, aunque cómico\, de su obra. Al mismo tiempo\, también contó que en su época le enfurecían las “imágenes bananeras” y las “imágenes hipócritas” de la televisión\, cuando los nuevos visitantes del Este eran recibidos por Occidente con frutas tropicales (un bien escaso en la RDA)\, mientras que él mismo veía sobre todo la apropiación y la explotación por parte del poder económico occidental. \n___ \nEn el marco de Cine de género de Alemania\nPelícula en alemán\nSubtítulos en ES\, EN\, FR\, PL \nChristoph Schlingensief | director\n1990 | 63 minutos\nGénero | Terror\, sátira \nRegistro & gratuita\nHasta el jueves 30 de noviembre de 2023 \n>> A la película | Goethe On Demand \nGoethe on Demand es una plataforma de streaming del Goethe-Institut
URL:https://www.icpa-gz.org.py/evento/das-deutsche-kettensagenmassaker-cine-de-genero-de-alemania/
LOCATION:GOETHE ON DEMAND
CATEGORIES:Evento digital,Goethe on Demand
ATTACH;FMTTYPE=image/jpeg:https://www.icpa-gz.org.py/wp-content/uploads/2023/10/god_filme-genre_cms_banner_11-formatkey-jpg-w1022.jpg
END:VEVENT
BEGIN:VEVENT
DTSTART;TZID=America/Asuncion:20231102T180000
DTEND;TZID=America/Asuncion:20231102T200000
DTSTAMP:20260423T181622
CREATED:20231101T115200Z
LAST-MODIFIED:20231117T185529Z
UID:16311-1698948000-1698955200@www.icpa-gz.org.py
SUMMARY:Acción - Reflexión grupal | Häfen. Puertos. Portos de Sur a Süd
DESCRIPTION:Esta semana nuestro grupo de lectura decolonial abordará una primera sección del libro “Del trabajo ajeno y vacas ariscas” (2017) de la investigadora y socióloga Valentina Bonifacio sobre Puerto Casado\, en preparación de nuestra residencia flotante que nos llevará a este pueblo y a Concepción. El jueves 02 de noviembre a las 18:00hs en la Plaza de los Desaparecidos de Asunción tendrá lugar nuestra posterior sesión grupal de reflexión. En un país con una cultura cívica-política de sumisión y precariedad\, los comportamientos al utilizar el espacio público y/o comunitario evidencian una ansiedad generalizada y una colectiva necesidad de minimizar la presencia fuera de la comodidad y privacidad de ámbitos domésticos. Es un legado más de la dictadura y de sus pyragües. El simple gesto de estar a gusto en un espacio público conlleva un signo de irreverencia. Este contexto hace que una reflexión-acción de lectura decolonial en estos espacios sea leída doblemente como una transgresión.\n.\n\n\nJueves 02 | 18:00 horas\nPlaza de los Desaparecidos\nManuel Gondra\nAsunción\n\n.\nLa sesión es abierta al público. También compartimos un link virtual con acceso libre para participar: https://us06web.zoom.us/j/83843775730…\n\n.\nMiembrxs del colectivo de lectura decolonial | @Instagram\nSandra Dinnendahl López | @artesedele\nSimone Herdrich | @icpa_gz\nAndre Rolon | @hazelrbbts\nJames Muriel | @j4m3s1tx\nEdu Barreto | @eduamalofalso\nAna Ivanova | @la.ivanova\nBettina Brizuela | @bettinabrizuela\nMayeli Villalba | @yelialba\nCecilia Avati | @avatidaa\nVioleta Acuña | @guarani___nomada\nJuan Florenciáñez | @florencianezju\nLiliana Segovia | @lilianasen\nSonia Cabrera | @yacyatere\nLorena Diez | @ldiez\nChana Mamani | @chanamamani\n\n.\nEquipo curatoral del proyecto Häfen. Puertos. Portos\n\nLorena Diez | @ldiez\nChana Mamani | @chanamamani\n.\n\n<< A la página web del proyecto
URL:https://www.icpa-gz.org.py/evento/accion-reflexion-grupal/
LOCATION:Asunción\, Asunción\, Distrito Capital\, Paraguay
CATEGORIES:apoyado por el ICPA-GZ,Evento presencial
ATTACH;FMTTYPE=image/jpeg:https://www.icpa-gz.org.py/wp-content/uploads/2023/11/WhatsApp-Image-2023-11-01-at-08.36.42.jpeg
END:VEVENT
END:VCALENDAR