BEGIN:VCALENDAR
VERSION:2.0
PRODID:-//Instituto Cultural Paraguayo Alemán – Goethe-Zentrum - ECPv6.15.20//NONSGML v1.0//EN
CALSCALE:GREGORIAN
METHOD:PUBLISH
X-WR-CALNAME:Instituto Cultural Paraguayo Alemán – Goethe-Zentrum
X-ORIGINAL-URL:https://www.icpa-gz.org.py
X-WR-CALDESC:Eventos para Instituto Cultural Paraguayo Alemán – Goethe-Zentrum
REFRESH-INTERVAL;VALUE=DURATION:PT1H
X-Robots-Tag:noindex
X-PUBLISHED-TTL:PT1H
BEGIN:VTIMEZONE
TZID:America/Asuncion
BEGIN:STANDARD
TZOFFSETFROM:-0300
TZOFFSETTO:-0400
TZNAME:-04
DTSTART:20220327T030000
END:STANDARD
BEGIN:DAYLIGHT
TZOFFSETFROM:-0400
TZOFFSETTO:-0300
TZNAME:-03
DTSTART:20221002T040000
END:DAYLIGHT
BEGIN:STANDARD
TZOFFSETFROM:-0300
TZOFFSETTO:-0400
TZNAME:-04
DTSTART:20230326T030000
END:STANDARD
BEGIN:DAYLIGHT
TZOFFSETFROM:-0400
TZOFFSETTO:-0300
TZNAME:-03
DTSTART:20231001T040000
END:DAYLIGHT
BEGIN:STANDARD
TZOFFSETFROM:-0300
TZOFFSETTO:-0400
TZNAME:-04
DTSTART:20240324T030000
END:STANDARD
BEGIN:DAYLIGHT
TZOFFSETFROM:-0400
TZOFFSETTO:-0300
TZNAME:-03
DTSTART:20241006T040000
END:DAYLIGHT
BEGIN:STANDARD
TZOFFSETFROM:-0300
TZOFFSETTO:-0300
TZNAME:-03
DTSTART:20241015T030000
END:STANDARD
END:VTIMEZONE
BEGIN:VEVENT
DTSTART;VALUE=DATE:20231001
DTEND;VALUE=DATE:20231101
DTSTAMP:20260423T181354
CREATED:20230927T151123Z
LAST-MODIFIED:20231002T141430Z
UID:12977-1696118400-1698796799@www.icpa-gz.org.py
SUMMARY:El gabinete del Dr. Caligari | Cine de género de Alemania
DESCRIPTION:En el jardín de una clínica psiquiátrica\, el paciente Francis cuenta su historia: en la feria de un pequeño pueblo del norte de Alemania\, el Dr. Caligari\, de aspecto fantasmal\, anuncia actuaciones de hipnosis con su médium sin voluntad Cesare. Alan y Francis\, ambos enamorados de la misma chica\, asisten a la actuación de Caligari. Caligari anuncia que su médium responderá al público a preguntas sobre el futuro. Cuando Alan quiere saber cuánto tiempo vivirá\, oye la respuesta: “¡Hasta el amanecer!”. Al día siguiente aparece muerto. Su amigo Francis sospecha inmediatamente de Caligari… \nLa película se considera el punto culminante del expresionismo en la historia del cine. “Las películas deben ser dibujos animados”: éste era el lema de Hermann Warm en aquella época\, según el cual él y sus dos colegas Walter Röhrig y Walter Reimann construyeron escénicamente el mundo del Dr. Caligari. En consecuencia\, los decorados de CALIGARI eran una variedad de formas dentadas y puntiagudas\, que recordaban mucho a los modelos góticos”. (Siegfried Kracauer en “De Caligari a Hitler”) Las tomas se caracterizan por una metódica distorsión de las perspectivas\, el mundo parece como si hubiera sido inclinado fuera de quicio\, y la mirada del espectador experimenta una irritación sistemática. Mientras que hasta ahora en la historia del cine el decorado nunca había sido más que un decorado de fondo e ilustrativo\, aquí la escenografía adquiere una nueva función y significado. Los decorados\, y no la actuación de los actores\, transmiten la desesperación\, la tragedia y la desesperanza. \nEs poco probable que otra obra haya tenido una influencia tan intensa en el desarrollo posterior del cine mudo alemán; después de CALIGARI\, el interés ya existente por el cine fantástico se intensificó\, y con él comenzó un giro intenso hacia la psicopatología y las figuras criminales demoníacas y peligrosas. Siegfried Kracauer incluyó CALIGARI en las premoniciones cinematográficas de la tiranía de Hitler \nTrailer | El gabinete del Dr. Caligari \n_______ \nEn el marco de Cine de género de Alemania\nPelícula en alemán\nSubtítulos en ES\, EN \nRobert Wiene | director\n1920 | 77 minutos\nGénero | Horror \nRegistro & gratuita\nHasta el martes 31 de octubre de 2023 \n>> A la película | Goethe On Demand \nGoethe on Demand es una plataforma de streaming del Goethe-Institut
URL:https://www.icpa-gz.org.py/evento/el-gabinete-del-dr-caligari-cine-de-genero-de-alemania/
LOCATION:GOETHE ON DEMAND
CATEGORIES:Cine,Evento digital
ATTACH;FMTTYPE=image/jpeg:https://www.icpa-gz.org.py/wp-content/uploads/2023/09/F7EBehBW8AAi1Mu.jpg
END:VEVENT
BEGIN:VEVENT
DTSTART;VALUE=DATE:20231002
DTEND;VALUE=DATE:20231103
DTSTAMP:20260423T181354
CREATED:20230713T184740Z
LAST-MODIFIED:20230928T191245Z
UID:11275-1696204800-1698969599@www.icpa-gz.org.py
SUMMARY:Inscripción para los exámenes internacionales | Noviembre de 2023
DESCRIPTION:Para más información \n+595 983 307 150 | WhatsApp\n+595 (021) 22 44 55 | Teléfono\ninformacion@icpa-gz.org.py\nhttps://icpa-gz.org.py/examenes-internacionales/
URL:https://www.icpa-gz.org.py/evento/inscripcion-para-los-examenes-internacionales-noviembre-de-2023/
LOCATION:Instituto Cultural Paraguayo-Alemán – Goethe-Zentrum | ICPA-GZ\, Juan de Salazar 310 c/ Artigas_\, Asuncion\, 3500\, Paraguay
CATEGORIES:Exámenes internacionales
ATTACH;FMTTYPE=image/jpeg:https://www.icpa-gz.org.py/wp-content/uploads/2023/07/ExamenesInternacionales-2doSemestre-2023-Feed4.jpg
END:VEVENT
BEGIN:VEVENT
DTSTART;TZID=America/Asuncion:20231028T083000
DTEND;TZID=America/Asuncion:20231028T120000
DTSTAMP:20260423T181354
CREATED:20231009T211648Z
LAST-MODIFIED:20231019T190007Z
UID:13297-1698481800-1698494400@www.icpa-gz.org.py
SUMMARY:Taller de reciclaje artesanal de celulosa de papel y cartón usado | Semana de Acción Ambiental
DESCRIPTION:Con el artista Gustavo Benítez | @artegustavobenitez / Instagram \nSábado 28 | 08:30 hs. a 12:00 hs.\nInversión | 100.000 Gs.\nInscripción previa por WhatsApp | +595 983 307 150 o por correo electrónico | informacion@icpa-gz.org.py \nInstituto Cultural Paraguayo-Alemán – Goethe-Zentrum | ICPA-GZ\nJuan de Salazar 310 c/Artigas\nAsunción \nUn evento en el marco de la Semana de Acción Ambiental 2023 \n\n  \nCalendario de la Semana de Acción Ambiental | pdf \n¡Les esperamos! \n___ \nLas actividades de la Semana de Acción Ambiental | Octubre 2023 son organizadas por \nla Unión Europea | UEconParaguay\nla Embajada de la República Federal de Alemania Asunción\nel Instituto Cultural Paraguayo-Alemán – Goethe-Zentrum | ICPA-GZ\nla Alianza Francesa Asunción | af\nla Ambassade de France au Paraguay\nel Centro Cultural de España Juan de Salazar | CCEJS\nla Fundación Internacional y para Iberoamérica de Administración y Políticas Públicas | FIIAP
URL:https://www.icpa-gz.org.py/evento/taller-de-reciclaje-artesanal-de-celulosa-de-papel-y-carton-usado/
LOCATION:Instituto Cultural Paraguayo-Alemán – Goethe-Zentrum | ICPA-GZ\, Juan de Salazar 310 c/ Artigas_\, Asuncion\, 3500\, Paraguay
CATEGORIES:Semana de Acción Ambiental,Taller
ATTACH;FMTTYPE=image/png:https://www.icpa-gz.org.py/wp-content/uploads/2023/10/ICPA_TallerReciclajeCelulosa-1.png
END:VEVENT
BEGIN:VEVENT
DTSTART;TZID=America/Asuncion:20231028T100000
DTEND;TZID=America/Asuncion:20231028T120000
DTSTAMP:20260423T181354
CREATED:20231019T214039Z
LAST-MODIFIED:20231023T190203Z
UID:14143-1698487200-1698494400@www.icpa-gz.org.py
SUMMARY:Masterclass de Piano y Cello
DESCRIPTION:Reinhard Aremleder | Cello\nDagmar Hartmann | Piano \nDirigida a músicos y estudiantes \nEntrada libre y gratuita con inscripción previa \nSalón Rolando Rasmussen\nInstituto Cultural Paraguayo-Alemán – Goethe-Zentrum | ICPA-GZ\nJuan de Salazar 310 c/ Artigas\nAsunción \nApoyado por\nInstituto Cultural Paraguayo-Alemán – Goethe-Zentrum | ICPA-GZ\nEmbajada de Alemania en Asunción
URL:https://www.icpa-gz.org.py/evento/master-class-de-piano-y-cello/
LOCATION:Salón Rolando Rasmussen del Instituto Cultural Paraguayo-Alemán – Goethe-Zentrum | ICPA-GZ\, Juan de Salazar 310 c/ Artigas Barrio Ricardo Brugada\, Asunción\, Distrito Capital\, Paraguay
CATEGORIES:Evento presencial,Música,Taller
ATTACH;FMTTYPE=image/png:https://www.icpa-gz.org.py/wp-content/uploads/2023/10/ICPA_MasterclassPianoCello-2.png
ORGANIZER;CN="Embajada de Alemania":MAILTO:https://asuncion.diplo.de/py-es/sobre-nosotros/kontakt-formular
END:VEVENT
BEGIN:VEVENT
DTSTART;TZID=America/Asuncion:20231028T110000
DTEND;TZID=America/Asuncion:20231028T123000
DTSTAMP:20260423T181354
CREATED:20231024T173744Z
LAST-MODIFIED:20231026T183232Z
UID:14927-1698490800-1698496200@www.icpa-gz.org.py
SUMMARY:Plataformas y proyectos culturales en Paraguay | apoyado por el ICPA-GZ
DESCRIPTION:Plataformas y proyectos culturales en Paraguay\n\n\nEstrategias locales para gestión y curaduría. Con enfoque en la experiencia en centros culturales de Asunción.\nCharla abierta con la artista Sandra Dinnendahl López | @artesedele / Instagram\n\n\n \n\n\nSábado 28 | 11:00 a 12:30 hs.\n\n\nEntrada libre & gratuita\n\n\n\nCasa de la Cultura\nMariscal Francisco S. Lopez\nConcepción\n\n\n \n\n\nSe expedirán certificados de participación\n\n\n \n\n\n+ información\n\n\n\n\nJosé | +595 981 277 626\n\n\nElías | +595 975 590 548\n\n\n\n\n \n\n\nOrganizado por Ana Ivanova | @la.ivanova / Instagram\n\n\nApoyado por el ICPA-GZ | #icpa_gz\n\n\n___\n\n\n \n\n\nFortalecimiento de Espacio cultural en Concepción\, que cuenta con Fondos Concursables de la Secretaría Nacional de Cultura del Paraguay y el apoyo del Instituto Cultural Paraguayo-Alemán – Goethe-Zentrum | ICPA_GZ \, la Municipalidad de Concepción \, la José Argüello Estudio de Danza y el Club de Leones “Agustín Fernando de Pinedo”
URL:https://www.icpa-gz.org.py/evento/plataformas-y-proyectos-culturales-en-paraguay-apoyado-por-el-icpa-gz/
LOCATION:Casa de la Cultura Carlos Colombino de Concepción\, Mariscal Francisco Solano López\, Concepción\, Concepción\, Paraguay
CATEGORIES:apoyado por el ICPA-GZ,Charla,Evento presencial
ATTACH;FMTTYPE=image/jpeg:https://www.icpa-gz.org.py/wp-content/uploads/2023/10/WhatsApp-Image-2023-10-23-at-16.00.24.jpeg
END:VEVENT
BEGIN:VEVENT
DTSTART;TZID=America/Asuncion:20231028T190000
DTEND;TZID=America/Asuncion:20231028T210000
DTSTAMP:20260423T181354
CREATED:20231026T181453Z
LAST-MODIFIED:20231026T182619Z
UID:15534-1698519600-1698526800@www.icpa-gz.org.py
SUMMARY:Rosenda - Teatro | apoyado por el ICPA-GZ
DESCRIPTION:Fragmentos de un cuento de Christian Kent | @condeorloff  / Instagram\n\n\n \n\n\nSábado 28 | 19:00 hs.\n\n\nEntrada libre y gratuita\n\n\n \n\n\nCasa de la Cultura Carlos Colombino\n\n\nMariscal Francisco Solano López\n\n\nConcepción\n\n\n \n\n\nOrganizado por Ana Ivanova\nApoyado por el ICPA-GZ\n\n\n___\n\n\n \n\n\nFortalecimiento de Espacio cultural en Concepción\, que cuenta con Fondos Concursables de la Secretaría Nacional de Cultura del Paraguay y el apoyo del Instituto Cultural Paraguayo-Alemán – Goethe-Zentrum | ICPA_GZ \, la Municipalidad de Concepción \, la José Argüello Estudio de Danza y el Club de Leones “Agustín Fernando de Pinedo”
URL:https://www.icpa-gz.org.py/evento/rosenda-teatro-apoyado-por-el-icpa-gz/
LOCATION:Casa de la Cultura Carlos Colombino de Concepción\, Mariscal Francisco Solano López\, Concepción\, Concepción\, Paraguay
CATEGORIES:apoyado por el ICPA-GZ,Evento presencial,Teatro
ATTACH;FMTTYPE=image/jpeg:https://www.icpa-gz.org.py/wp-content/uploads/2023/10/WhatsApp-Image-2023-10-26-at-13.15.47.jpeg
END:VEVENT
END:VCALENDAR