BEGIN:VCALENDAR
VERSION:2.0
PRODID:-//Instituto Cultural Paraguayo Alemán – Goethe-Zentrum - ECPv6.15.20//NONSGML v1.0//EN
CALSCALE:GREGORIAN
METHOD:PUBLISH
X-ORIGINAL-URL:https://www.icpa-gz.org.py
X-WR-CALDESC:Eventos para Instituto Cultural Paraguayo Alemán – Goethe-Zentrum
REFRESH-INTERVAL;VALUE=DURATION:PT1H
X-Robots-Tag:noindex
X-PUBLISHED-TTL:PT1H
BEGIN:VTIMEZONE
TZID:America/Asuncion
BEGIN:STANDARD
TZOFFSETFROM:-0300
TZOFFSETTO:-0400
TZNAME:-04
DTSTART:20220327T030000
END:STANDARD
BEGIN:DAYLIGHT
TZOFFSETFROM:-0400
TZOFFSETTO:-0300
TZNAME:-03
DTSTART:20221002T040000
END:DAYLIGHT
BEGIN:STANDARD
TZOFFSETFROM:-0300
TZOFFSETTO:-0400
TZNAME:-04
DTSTART:20230326T030000
END:STANDARD
BEGIN:DAYLIGHT
TZOFFSETFROM:-0400
TZOFFSETTO:-0300
TZNAME:-03
DTSTART:20231001T040000
END:DAYLIGHT
BEGIN:STANDARD
TZOFFSETFROM:-0300
TZOFFSETTO:-0400
TZNAME:-04
DTSTART:20240324T030000
END:STANDARD
BEGIN:DAYLIGHT
TZOFFSETFROM:-0400
TZOFFSETTO:-0300
TZNAME:-03
DTSTART:20241006T040000
END:DAYLIGHT
BEGIN:STANDARD
TZOFFSETFROM:-0300
TZOFFSETTO:-0300
TZNAME:-03
DTSTART:20241015T030000
END:STANDARD
END:VTIMEZONE
BEGIN:VEVENT
DTSTART;VALUE=DATE:20231001
DTEND;VALUE=DATE:20231101
DTSTAMP:20260424T105555
CREATED:20230927T151123Z
LAST-MODIFIED:20231002T141430Z
UID:12977-1696118400-1698796799@www.icpa-gz.org.py
SUMMARY:El gabinete del Dr. Caligari | Cine de género de Alemania
DESCRIPTION:En el jardín de una clínica psiquiátrica\, el paciente Francis cuenta su historia: en la feria de un pequeño pueblo del norte de Alemania\, el Dr. Caligari\, de aspecto fantasmal\, anuncia actuaciones de hipnosis con su médium sin voluntad Cesare. Alan y Francis\, ambos enamorados de la misma chica\, asisten a la actuación de Caligari. Caligari anuncia que su médium responderá al público a preguntas sobre el futuro. Cuando Alan quiere saber cuánto tiempo vivirá\, oye la respuesta: “¡Hasta el amanecer!”. Al día siguiente aparece muerto. Su amigo Francis sospecha inmediatamente de Caligari… \nLa película se considera el punto culminante del expresionismo en la historia del cine. “Las películas deben ser dibujos animados”: éste era el lema de Hermann Warm en aquella época\, según el cual él y sus dos colegas Walter Röhrig y Walter Reimann construyeron escénicamente el mundo del Dr. Caligari. En consecuencia\, los decorados de CALIGARI eran una variedad de formas dentadas y puntiagudas\, que recordaban mucho a los modelos góticos”. (Siegfried Kracauer en “De Caligari a Hitler”) Las tomas se caracterizan por una metódica distorsión de las perspectivas\, el mundo parece como si hubiera sido inclinado fuera de quicio\, y la mirada del espectador experimenta una irritación sistemática. Mientras que hasta ahora en la historia del cine el decorado nunca había sido más que un decorado de fondo e ilustrativo\, aquí la escenografía adquiere una nueva función y significado. Los decorados\, y no la actuación de los actores\, transmiten la desesperación\, la tragedia y la desesperanza. \nEs poco probable que otra obra haya tenido una influencia tan intensa en el desarrollo posterior del cine mudo alemán; después de CALIGARI\, el interés ya existente por el cine fantástico se intensificó\, y con él comenzó un giro intenso hacia la psicopatología y las figuras criminales demoníacas y peligrosas. Siegfried Kracauer incluyó CALIGARI en las premoniciones cinematográficas de la tiranía de Hitler \nTrailer | El gabinete del Dr. Caligari \n_______ \nEn el marco de Cine de género de Alemania\nPelícula en alemán\nSubtítulos en ES\, EN \nRobert Wiene | director\n1920 | 77 minutos\nGénero | Horror \nRegistro & gratuita\nHasta el martes 31 de octubre de 2023 \n>> A la película | Goethe On Demand \nGoethe on Demand es una plataforma de streaming del Goethe-Institut
URL:https://www.icpa-gz.org.py/evento/el-gabinete-del-dr-caligari-cine-de-genero-de-alemania/
LOCATION:GOETHE ON DEMAND
CATEGORIES:Cine,Evento digital
ATTACH;FMTTYPE=image/jpeg:https://www.icpa-gz.org.py/wp-content/uploads/2023/09/F7EBehBW8AAi1Mu.jpg
END:VEVENT
BEGIN:VEVENT
DTSTART;VALUE=DATE:20231002
DTEND;VALUE=DATE:20231103
DTSTAMP:20260424T105555
CREATED:20230713T184740Z
LAST-MODIFIED:20230928T191245Z
UID:11275-1696204800-1698969599@www.icpa-gz.org.py
SUMMARY:Inscripción para los exámenes internacionales | Noviembre de 2023
DESCRIPTION:Para más información \n+595 983 307 150 | WhatsApp\n+595 (021) 22 44 55 | Teléfono\ninformacion@icpa-gz.org.py\nhttps://icpa-gz.org.py/examenes-internacionales/
URL:https://www.icpa-gz.org.py/evento/inscripcion-para-los-examenes-internacionales-noviembre-de-2023/
LOCATION:Instituto Cultural Paraguayo-Alemán – Goethe-Zentrum | ICPA-GZ\, Juan de Salazar 310 c/ Artigas_\, Asuncion\, 3500\, Paraguay
CATEGORIES:Exámenes internacionales
ATTACH;FMTTYPE=image/jpeg:https://www.icpa-gz.org.py/wp-content/uploads/2023/07/ExamenesInternacionales-2doSemestre-2023-Feed4.jpg
END:VEVENT
BEGIN:VEVENT
DTSTART;VALUE=DATE:20231023
DTEND;VALUE=DATE:20231028
DTSTAMP:20260424T105555
CREATED:20231018T180435Z
LAST-MODIFIED:20231022T180702Z
UID:13792-1698019200-1698451199@www.icpa-gz.org.py
SUMMARY:Añandu Unipersonales - Escena | apoyado por el ICPA-GZ
DESCRIPTION:Lunes 23 a jueves 26 | 20:30 hs.\nViernes 27 | 19:00 hs. y 21:00 hs. \nEntrada libre & gratuita\nEl organizador agradece un aporte voluntario de 10.000 Gs. \nSala La Correa | @salalacorrea\nGral. Diaz 1163 entre Profesor Doctor Luis Alberto Garcete y Don Bosco\nAsunción \nProducido por | @Instagram\nKamanga Pro – Creaciones artisticas | @kamangapro \nApoyado por | @Instagram\nInstituto Cultural Paraguayo-Alemán – Goethe-Zentrum | @icpa_gz\nFondo Nacional de la Cultura y las Artes (FONDEC) | @fondecpy\nEmbajada de la República Argentina | @argentinaenparaguay\nKAKUAA | @ekakuaa
URL:https://www.icpa-gz.org.py/evento/anandu-unipersonales-escena/
LOCATION:Sala La Correa\, Profesor Doctor Luis Alberto Garcete &\, Don Bosco\, Asunción\, Paraguay
CATEGORIES:apoyado por el ICPA-GZ,Danza,Evento presencial,Teatro
ATTACH;FMTTYPE=image/jpeg:https://www.icpa-gz.org.py/wp-content/uploads/2023/10/WhatsApp-Image-2023-10-22-at-15.06.05.jpeg
END:VEVENT
BEGIN:VEVENT
DTSTART;TZID=America/Asuncion:20231026T160000
DTEND;TZID=America/Asuncion:20231026T200000
DTSTAMP:20260424T105555
CREATED:20231017T211754Z
LAST-MODIFIED:20231022T190904Z
UID:13758-1698336000-1698350400@www.icpa-gz.org.py
SUMMARY:Masterclass "Cuerpo cómico" - Añandu Unipersonales | apoyado por el ICPA-GZ
DESCRIPTION:Gera Barientos | Actor\nArgentina\nTaller en el marco de Añandu Unipersonales 2023 | Kamanga Pro | Creaciones Artisticas \nMiércoles 25 | 16:00 hs. a 20:00 hs.\nJueves 26 | 16:00 hs. a 20:00 hs. \nInversión | 150.000 Gs. por día \nEspacio Ñakyra | @espacionakyra\nHerrera 115 esq. Independencia Nacional\nAsunción \nApoyado por | @Instagram\nInstituto Cultural Paraguayo-Alemán – Goethe-Zentrum | @icpa_gz\nFondo Nacional de la Cultura y las Artes (FONDEC) | @fondecpy\nEmbajada de la República Argentina | @argentinaenparaguay\nKAKUAA | @ekakuaa
URL:https://www.icpa-gz.org.py/evento/masterclass-cuerpo-comico-parte-ii-anandu-unipersonales-apoyado-por-el-icpa-gz/
LOCATION:Espacio Ñakyra\, Herrera 115 esq. Independencia Nacional\, Asunción\, Distrito Capital\, Paraguay
CATEGORIES:apoyado por el ICPA-GZ,Taller
ATTACH;FMTTYPE=image/jpeg:https://www.icpa-gz.org.py/wp-content/uploads/2023/10/IMG-20231022-WA0000.jpg
END:VEVENT
BEGIN:VEVENT
DTSTART;TZID=America/Asuncion:20231026T190000
DTEND;TZID=America/Asuncion:20231026T210000
DTSTAMP:20260424T105555
CREATED:20231023T202919Z
LAST-MODIFIED:20231023T203043Z
UID:14759-1698346800-1698354000@www.icpa-gz.org.py
SUMMARY:OPUESTOS - Exposición | apoyado por el ICPA-GZ
DESCRIPTION:Juanpi Pistilli | artista\nFred Brauner | artista \nJueves 26 | 19:00 hs.\nEntrada libre & gratuita \nSalón Rolando Rasmussen\nInstituto Cultural Paraguayo-Alemán – Goethe-Zentrum | ICPA-GZ\nJuan de Salazar 310 c/ Artigas\nAsunción \nApoyado por\nInstituto Cultural Paraguayo-Alemán – Goethe-Zentrum | ICPA-GZ \n 
URL:https://www.icpa-gz.org.py/evento/opuestos-exposicion/
LOCATION:Salón Rolando Rasmussen del Instituto Cultural Paraguayo-Alemán – Goethe-Zentrum | ICPA-GZ\, Juan de Salazar 310 c/ Artigas Barrio Ricardo Brugada\, Asunción\, Distrito Capital\, Paraguay
CATEGORIES:apoyado por el ICPA-GZ,Arte,Exposición
ATTACH;FMTTYPE=image/jpeg:https://www.icpa-gz.org.py/wp-content/uploads/2023/10/WhatsApp-Image-2023-10-23-at-09.33.34.jpeg
END:VEVENT
BEGIN:VEVENT
DTSTART;TZID=America/Asuncion:20231026T193000
DTEND;TZID=America/Asuncion:20231026T210000
DTSTAMP:20260424T105555
CREATED:20231002T193655Z
LAST-MODIFIED:20231016T191051Z
UID:13095-1698348600-1698354000@www.icpa-gz.org.py
SUMMARY:#ZusammenLesen - Club de lectura digital en alemán
DESCRIPTION:¿Te interesa la literatura alemana actual y te gustaría intercambiar ideas? ¿Te gustaría conocer personas con intereses similiares en un ambiente relajado y participar hablando en alemán  desde tu casa? El club de lectura digital #ZusammenLesen de los Goethe-Zentrum Mendoza y Asunción ofrece sugerencias de lectura de autoras y autores nuevos o no tan conocidos de habla alemana de la actualidad y encuentros mensuales para todas las personas interesadas con conocimientos de alemán a partir de nivel B2. \nLa lectura para el próximo encuentro \nEsther Kinsky\nFremdsprechen\nVerlag Matthes & Seitz Berlin\, 2013 \nAusgehend von einer Neuinterpretation des Turmbau-Mythos stellt Esther Kinsky in Fremdsprechen (2013\, Matthes & Seitz) ihre Gedanken zum Übersetzen vor. In diesen literarischen Essays beschreibt die Autorin und Übersetzerin das Verhältnis zwischen Sprache und Welt\, zwischen Eigenem und Fremdem\, und ruft damit Erfahrungen aller Sprachlernenden ins Gedächtnis. \nJueves | 26 de octubre de 2023 | 19:30 hs. | gratis | por Zoom | Inscripción por correo electrónico \n___ \n#ZusammenLesen tiene lugar el último jueves de cada mes a las 19:30 hs. por Zoom. Las reuniones son gratuitas\, solo se requiere inscripción. Si te interesa participar\, escribinos un correo electrónico a informacion@icpa-gz.org.py . Recibirás los textos para leer antes del siguiente encuentro. \nEl club de lectura #ZusammenLesen está dirigido por Martina Fernández Polcuch. Nació en Buenos Aires\, creció bilingüe\, trabaja como traductora literaria y coordina talleres de traducción. Además\, forma a docentes de alemán como lengua extranjera y traductoras y traductores\, y es jefa de cátedra de Alemán-Lectocomprensión en la Facultad de Filosofía y Letras (UBA). La literatura en lengua alemana la acompaña desde su infancia en Múnich\, cuando cada semana se llevaba a su casa libros de Erich Kästner y audiolibros de cuentos de la biblioteca de la ciudad. Se alegra aún más cuando le puede transmitir este placer por la literatura en lengua alemana a otras personas.
URL:https://www.icpa-gz.org.py/evento/zusammenlesen-club-de-lectura-digital-en-aleman-6/
LOCATION:en línea\, Paraguay
CATEGORIES:Biblioteca,ZusammenLesen
ATTACH;FMTTYPE=image/jpeg:https://www.icpa-gz.org.py/wp-content/uploads/2023/10/2023_Zusammenlesen_Oktober.jpg
END:VEVENT
BEGIN:VEVENT
DTSTART;TZID=America/Asuncion:20231026T203000
DTEND;TZID=America/Asuncion:20231026T220000
DTSTAMP:20260424T105555
CREATED:20231012T203338Z
LAST-MODIFIED:20231020T152526Z
UID:13483-1698352200-1698357600@www.icpa-gz.org.py
SUMMARY:Confusión elemental - Añandu Unipersonales | apoyado por el ICPA-GZ
DESCRIPTION:Carola Mazzotti / @carolamazzotti | Actriz\nDanza/Teatro | Paraguay\nProducido por Kamanga Pro | Creaciones artisticas \nJueves 26 | 20:30 hs.\nEntrada libre & gratuita | El organizador agradece un aporte voluntario de 10.000 Gs. \nSala La Correa | @salalacorrea\nGral. Diaz 1163 entre Profesor Doctor Luis Alberto Garcete y Don Bosco\nAsunción \nApoyado por | @Instagram\nInstituto Cultural Paraguayo-Alemán – Goethe-Zentrum | @icpa_gz\nFondo Nacional de la Cultura y las Artes (FONDEC) | @fondecpy\nEmbajada de la República Argentina | @argentinaenparaguay\nKAKUAA | @ekakuaa
URL:https://www.icpa-gz.org.py/evento/anandu-unipersonales-apoyado-por-el-icpa-gz-5/
LOCATION:Sala La Correa\, Profesor Doctor Luis Alberto Garcete &\, Don Bosco\, Asunción\, Paraguay
CATEGORIES:apoyado por el ICPA-GZ,Teatro
ATTACH;FMTTYPE=image/jpeg:https://www.icpa-gz.org.py/wp-content/uploads/2023/10/WhatsApp-Image-2023-10-20-at-12.22.00.jpeg
END:VEVENT
END:VCALENDAR