BEGIN:VCALENDAR
VERSION:2.0
PRODID:-//Instituto Cultural Paraguayo Alemán – Goethe-Zentrum - ECPv6.15.20//NONSGML v1.0//EN
CALSCALE:GREGORIAN
METHOD:PUBLISH
X-WR-CALNAME:Instituto Cultural Paraguayo Alemán – Goethe-Zentrum
X-ORIGINAL-URL:https://www.icpa-gz.org.py
X-WR-CALDESC:Eventos para Instituto Cultural Paraguayo Alemán – Goethe-Zentrum
REFRESH-INTERVAL;VALUE=DURATION:PT1H
X-Robots-Tag:noindex
X-PUBLISHED-TTL:PT1H
BEGIN:VTIMEZONE
TZID:America/Asuncion
BEGIN:STANDARD
TZOFFSETFROM:-0300
TZOFFSETTO:-0400
TZNAME:-04
DTSTART:20220327T030000
END:STANDARD
BEGIN:DAYLIGHT
TZOFFSETFROM:-0400
TZOFFSETTO:-0300
TZNAME:-03
DTSTART:20221002T040000
END:DAYLIGHT
BEGIN:STANDARD
TZOFFSETFROM:-0300
TZOFFSETTO:-0400
TZNAME:-04
DTSTART:20230326T030000
END:STANDARD
BEGIN:DAYLIGHT
TZOFFSETFROM:-0400
TZOFFSETTO:-0300
TZNAME:-03
DTSTART:20231001T040000
END:DAYLIGHT
BEGIN:STANDARD
TZOFFSETFROM:-0300
TZOFFSETTO:-0400
TZNAME:-04
DTSTART:20240324T030000
END:STANDARD
BEGIN:DAYLIGHT
TZOFFSETFROM:-0400
TZOFFSETTO:-0300
TZNAME:-03
DTSTART:20241006T040000
END:DAYLIGHT
BEGIN:STANDARD
TZOFFSETFROM:-0300
TZOFFSETTO:-0300
TZNAME:-03
DTSTART:20241015T030000
END:STANDARD
END:VTIMEZONE
BEGIN:VEVENT
DTSTART;VALUE=DATE:20231001
DTEND;VALUE=DATE:20231101
DTSTAMP:20260423T233412
CREATED:20230927T151123Z
LAST-MODIFIED:20231002T141430Z
UID:12977-1696118400-1698796799@www.icpa-gz.org.py
SUMMARY:El gabinete del Dr. Caligari | Cine de género de Alemania
DESCRIPTION:En el jardín de una clínica psiquiátrica\, el paciente Francis cuenta su historia: en la feria de un pequeño pueblo del norte de Alemania\, el Dr. Caligari\, de aspecto fantasmal\, anuncia actuaciones de hipnosis con su médium sin voluntad Cesare. Alan y Francis\, ambos enamorados de la misma chica\, asisten a la actuación de Caligari. Caligari anuncia que su médium responderá al público a preguntas sobre el futuro. Cuando Alan quiere saber cuánto tiempo vivirá\, oye la respuesta: “¡Hasta el amanecer!”. Al día siguiente aparece muerto. Su amigo Francis sospecha inmediatamente de Caligari… \nLa película se considera el punto culminante del expresionismo en la historia del cine. “Las películas deben ser dibujos animados”: éste era el lema de Hermann Warm en aquella época\, según el cual él y sus dos colegas Walter Röhrig y Walter Reimann construyeron escénicamente el mundo del Dr. Caligari. En consecuencia\, los decorados de CALIGARI eran una variedad de formas dentadas y puntiagudas\, que recordaban mucho a los modelos góticos”. (Siegfried Kracauer en “De Caligari a Hitler”) Las tomas se caracterizan por una metódica distorsión de las perspectivas\, el mundo parece como si hubiera sido inclinado fuera de quicio\, y la mirada del espectador experimenta una irritación sistemática. Mientras que hasta ahora en la historia del cine el decorado nunca había sido más que un decorado de fondo e ilustrativo\, aquí la escenografía adquiere una nueva función y significado. Los decorados\, y no la actuación de los actores\, transmiten la desesperación\, la tragedia y la desesperanza. \nEs poco probable que otra obra haya tenido una influencia tan intensa en el desarrollo posterior del cine mudo alemán; después de CALIGARI\, el interés ya existente por el cine fantástico se intensificó\, y con él comenzó un giro intenso hacia la psicopatología y las figuras criminales demoníacas y peligrosas. Siegfried Kracauer incluyó CALIGARI en las premoniciones cinematográficas de la tiranía de Hitler \nTrailer | El gabinete del Dr. Caligari \n_______ \nEn el marco de Cine de género de Alemania\nPelícula en alemán\nSubtítulos en ES\, EN \nRobert Wiene | director\n1920 | 77 minutos\nGénero | Horror \nRegistro & gratuita\nHasta el martes 31 de octubre de 2023 \n>> A la película | Goethe On Demand \nGoethe on Demand es una plataforma de streaming del Goethe-Institut
URL:https://www.icpa-gz.org.py/evento/el-gabinete-del-dr-caligari-cine-de-genero-de-alemania/
LOCATION:GOETHE ON DEMAND
CATEGORIES:Cine,Evento digital
ATTACH;FMTTYPE=image/jpeg:https://www.icpa-gz.org.py/wp-content/uploads/2023/09/F7EBehBW8AAi1Mu.jpg
END:VEVENT
BEGIN:VEVENT
DTSTART;VALUE=DATE:20231002
DTEND;VALUE=DATE:20231103
DTSTAMP:20260423T233412
CREATED:20230713T184740Z
LAST-MODIFIED:20230928T191245Z
UID:11275-1696204800-1698969599@www.icpa-gz.org.py
SUMMARY:Inscripción para los exámenes internacionales | Noviembre de 2023
DESCRIPTION:Para más información \n+595 983 307 150 | WhatsApp\n+595 (021) 22 44 55 | Teléfono\ninformacion@icpa-gz.org.py\nhttps://icpa-gz.org.py/examenes-internacionales/
URL:https://www.icpa-gz.org.py/evento/inscripcion-para-los-examenes-internacionales-noviembre-de-2023/
LOCATION:Instituto Cultural Paraguayo-Alemán – Goethe-Zentrum | ICPA-GZ\, Juan de Salazar 310 c/ Artigas_\, Asuncion\, 3500\, Paraguay
CATEGORIES:Exámenes internacionales
ATTACH;FMTTYPE=image/jpeg:https://www.icpa-gz.org.py/wp-content/uploads/2023/07/ExamenesInternacionales-2doSemestre-2023-Feed4.jpg
END:VEVENT
BEGIN:VEVENT
DTSTART;VALUE=DATE:20231016
DTEND;VALUE=DATE:20231023
DTSTAMP:20260423T233412
CREATED:20231005T164158Z
LAST-MODIFIED:20231025T202132Z
UID:13162-1697414400-1698019199@www.icpa-gz.org.py
SUMMARY:Semana de Acción Ambiental | Octubre 2023
DESCRIPTION:¡La Semana de Acción Ambiental de la Unión Europea está de regreso y con más emociones que nunca! Les espera una gran variedad de actividades y eventos: \n\n  \nCalendario de la Semana de Acción Ambiental | pdf \n¡Les esperamos! \n___ \nLas actividades de la Semana de Acción Ambiental | Octubre 2023 son organizadas por \nla Unión Europea | UEconParaguay\nla Embajada de la República Federal de Alemania Asunción\nel Instituto Cultural Paraguayo-Alemán – Goethe-Zentrum | ICPA-GZ\nla Alianza Francesa Asunción | af\nla Ambassade de France au Paraguay\nel Centro Cultural de España Juan de Salazar | CCEJS\nla Fundación Internacional y para Iberoamérica de Administración y Políticas Públicas | FIIAP
URL:https://www.icpa-gz.org.py/evento/semana-de-accion-ambiental/
LOCATION:Varios lugares\, Asunción\, Distrito Capital\, Paraguay
CATEGORIES:Semana de Acción Ambiental
ATTACH;FMTTYPE=image/jpeg:https://www.icpa-gz.org.py/wp-content/uploads/2023/10/370064494_18071890330411289_8111615699157113336_n.jpg
END:VEVENT
BEGIN:VEVENT
DTSTART;TZID=America/Asuncion:20231021T090000
DTEND;TZID=America/Asuncion:20231021T120000
DTSTAMP:20260423T233412
CREATED:20231010T174212Z
LAST-MODIFIED:20231020T174015Z
UID:13329-1697878800-1697889600@www.icpa-gz.org.py
SUMMARY:Hongos e insectos al descubierto. Paseo medioambiental | Semana de Acción Ambiental
DESCRIPTION:¿Te gustaría descubrir el maravilloso mundo de los hongos e insectos ¡Entonces esta es tu oportunidad!\n\n\n\nEste sábado 21 de octubre\, desde las 9:00\, podrías formar parte de un paseo medioambiental inédito y emocionante en el Jardín Botánico de Asunción.\nLas invitaciones son limitadas (solo para 50 personas)\, por eso necesitamos que te registres | las inscripciones ya están cerradas. ¡Te esperamos! En caso de lluvia\, el evento quedará pospuesto.\n\n\n\n.\n\nJardín Botánico de Asunción\nFrente al Museo de Historia Natural del Jardín Botánico\nAv. Primer Presidente\nAsunción\n.\nUn evento en el marco de la Semana de Acción Ambiental 2023\n\n  \nCalendario de la Semana de Acción Ambiental | pdf \n¡Les esperamos! \n___ \nLas actividades de la Semana de Acción Ambiental | Octubre 2023 son organizadas por \nla Unión Europea | UEconParaguay\nla Embajada de la República Federal de Alemania Asunción\nel Instituto Cultural Paraguayo-Alemán – Goethe-Zentrum | ICPA-GZ\nla Alianza Francesa Asunción | af\nla Ambassade de France au Paraguay\nel Centro Cultural de España Juan de Salazar | CCEJS\nla Fundación Internacional y para Iberoamérica de Administración y Políticas Públicas | FIIAP
URL:https://www.icpa-gz.org.py/evento/hongos-e-insectos-al-descubierto-paseo-medioambiental-semana-de-accion-ambiental/
LOCATION:Jardín Botánico\, Av Primer Presidente\, Asunción\, Distrito Capital\, Paraguay
CATEGORIES:Semana de Acción Ambiental
ATTACH;FMTTYPE=image/jpeg:https://www.icpa-gz.org.py/wp-content/uploads/2023/10/393313507_18073365412411289_4481280821864352923_n.jpg
END:VEVENT
BEGIN:VEVENT
DTSTART;TZID=America/Asuncion:20231021T090000
DTEND;TZID=America/Asuncion:20231021T190000
DTSTAMP:20260423T233412
CREATED:20230601T233913Z
LAST-MODIFIED:20231027T210823Z
UID:10827-1697878800-1697914800@www.icpa-gz.org.py
SUMMARY:Arte al Parque | Ciclo de actividades culturales y gratuitas para toda la familia
DESCRIPTION:Iniciado por el cluster EUNIC Asunción | EU National Institutes for Culture el ciclo de eventos ARTE AL PARQUE se realiza todos los sábados desde noviembre de 2021. Lleva actividades recreativas y culturales al Parque Caballero. Las actividades son gratuitas\, los materiales están incluidos. \n📌 Parque Público Bernardino Caballero | Barrio Ricardo Brugada | Asunción \n📍 P99H+7PP\, Asunción \n>> A la página de web del proyecto \n_______ \nEl cluster EUNIC Asunción | EU National Institutes for Culture\, En Común\, Los Amigos del Parque Caballero y la Delegación de la Unión Europea en Paraguay te invitan a participar en el ciclo “ARTE AL PARQUE”\, un programa de actividades culturales que se desarrolla en el Parque Caballero de Asunción. El ciclo se inauguró el sábado 6 de noviembre de 2021\, y desde entonces ofrece cada semana diferentes actividades\, como espectáculos\, teatro\, talleres de pintura\, bordado\, danza\, capoeira y mucho\, mucho más para todas las edades. La participación es gratuita. Se hace especial hincapié en los talleres y actividades para niños y jóvenes.
URL:https://www.icpa-gz.org.py/evento/arte-al-parque-ciclo-de-actividades-culturales-y-gratuitas-para-toda-la-familia/
LOCATION:Parque Público Bernardino Caballero\, Manuel Gondra y Andrés Barbero\, barrio Dr. Ricardo Brugada\, Asunción\, Distrito Capital\, Paraguay
CATEGORIES:apoyado por el ICPA-GZ,Arte al Parque
END:VEVENT
BEGIN:VEVENT
DTSTART;TZID=America/Asuncion:20231021T100000
DTEND;TZID=America/Asuncion:20231021T210000
DTSTAMP:20260423T233412
CREATED:20231010T171639Z
LAST-MODIFIED:20231019T180252Z
UID:13323-1697882400-1697922000@www.icpa-gz.org.py
SUMMARY:Eco-feria Juande a la calle | Semana de Acción Ambiental
DESCRIPTION:Sábado 21 | 10:00 a 21:00 horas \nCentro Cultural de España Juan de Salazar\nTacuari 745 | Herrera 834\nAsunción \nUn evento en el marco de la Semana de Acción Ambiental 2023 \n\n  \nCalendario de la Semana de Acción Ambiental | pdf \n¡Les esperamos! \n___ \nLas actividades de la Semana de Acción Ambiental | Octubre 2023 son organizadas por \nla Unión Europea | UEconParaguay\nla Embajada de la República Federal de Alemania Asunción\nel Instituto Cultural Paraguayo-Alemán – Goethe-Zentrum | ICPA-GZ\nla Alianza Francesa Asunción | af\nla Ambassade de France au Paraguay\nel Centro Cultural de España Juan de Salazar | CCEJS\nla Fundación Internacional y para Iberoamérica de Administración y Políticas Públicas | FIIAP
URL:https://www.icpa-gz.org.py/evento/eco-feria-juande-a-la-calle-semana-de-accion-ambiental/
LOCATION:Centro Cultural de España Juan de Salazar | CCEJS\, Herrera 834\, Asunción\, Distrito Capital\, Paraguay
CATEGORIES:Feria,Semana de Acción Ambiental
ATTACH;FMTTYPE=image/jpeg:https://www.icpa-gz.org.py/wp-content/uploads/2023/10/392861069_358220613226844_2524703914979873645_n.jpg
ORGANIZER;CN="Centro Cultural de Espa%C3%B1a Juan de Salazar | CCEJS":MAILTO:info.ccejs@aecid.es
END:VEVENT
BEGIN:VEVENT
DTSTART;TZID=America/Asuncion:20231021T153000
DTEND;TZID=America/Asuncion:20231021T180000
DTSTAMP:20260423T233412
CREATED:20231010T172340Z
LAST-MODIFIED:20231020T174144Z
UID:13326-1697902200-1697911200@www.icpa-gz.org.py
SUMMARY:Huellas europeas en Asunción. Recorrido histórico-cultural | Semana de Acción Ambiental
DESCRIPTION:Salida del Archivo Nacional | Iturbe y Mcal. Estigarribia hasta el Teatro Municipal | Pdte. Franco c/Alberdi \nSábado 21 | 15:30 hs. a 18:00 hs.\nPodés unirte al recorrido en bici o a pie \nAcceso gratuito con inscripción previa | inscripciones cerradas \nUn evento en el marco de la Semana de Acción Ambiental 2023 \n\n  \nCalendario de la Semana de Acción Ambiental | pdf \n¡Les esperamos! \n___ \nLas actividades de la Semana de Acción Ambiental | Octubre 2023 son organizadas por \nla Unión Europea | UEconParaguay\nla Embajada de la República Federal de Alemania Asunción\nel Instituto Cultural Paraguayo-Alemán – Goethe-Zentrum | ICPA-GZ\nla Alianza Francesa Asunción | af\nla Ambassade de France au Paraguay\nel Centro Cultural de España Juan de Salazar | CCEJS\nla Fundación Internacional y para Iberoamérica de Administración y Políticas Públicas | FIIAP
URL:https://www.icpa-gz.org.py/evento/huellas-europeas-en-asuncion-recorrido-historico-cultural-semana-de-accion-ambiental/
LOCATION:Centro Histórico de Asunción | CHA\, Centro Histórico de Asunción | CHA\, Asunción\, Distrito Capital\, Paraguay
CATEGORIES:Semana de Acción Ambiental
ATTACH;FMTTYPE=image/jpeg:https://www.icpa-gz.org.py/wp-content/uploads/2023/10/393747175_18073492150411289_1948601710159001757_n.jpg
END:VEVENT
END:VCALENDAR