BEGIN:VCALENDAR
VERSION:2.0
PRODID:-//Instituto Cultural Paraguayo Alemán – Goethe-Zentrum - ECPv6.15.20//NONSGML v1.0//EN
CALSCALE:GREGORIAN
METHOD:PUBLISH
X-ORIGINAL-URL:https://www.icpa-gz.org.py
X-WR-CALDESC:Eventos para Instituto Cultural Paraguayo Alemán – Goethe-Zentrum
REFRESH-INTERVAL;VALUE=DURATION:PT1H
X-Robots-Tag:noindex
X-PUBLISHED-TTL:PT1H
BEGIN:VTIMEZONE
TZID:America/Asuncion
BEGIN:STANDARD
TZOFFSETFROM:-0300
TZOFFSETTO:-0400
TZNAME:-04
DTSTART:20220327T030000
END:STANDARD
BEGIN:DAYLIGHT
TZOFFSETFROM:-0400
TZOFFSETTO:-0300
TZNAME:-03
DTSTART:20221002T040000
END:DAYLIGHT
BEGIN:STANDARD
TZOFFSETFROM:-0300
TZOFFSETTO:-0400
TZNAME:-04
DTSTART:20230326T030000
END:STANDARD
BEGIN:DAYLIGHT
TZOFFSETFROM:-0400
TZOFFSETTO:-0300
TZNAME:-03
DTSTART:20231001T040000
END:DAYLIGHT
BEGIN:STANDARD
TZOFFSETFROM:-0300
TZOFFSETTO:-0400
TZNAME:-04
DTSTART:20240324T030000
END:STANDARD
BEGIN:DAYLIGHT
TZOFFSETFROM:-0400
TZOFFSETTO:-0300
TZNAME:-03
DTSTART:20241006T040000
END:DAYLIGHT
BEGIN:STANDARD
TZOFFSETFROM:-0300
TZOFFSETTO:-0300
TZNAME:-03
DTSTART:20241015T030000
END:STANDARD
END:VTIMEZONE
BEGIN:VEVENT
DTSTART;VALUE=DATE:20231001
DTEND;VALUE=DATE:20231101
DTSTAMP:20260423T220905
CREATED:20230927T151123Z
LAST-MODIFIED:20231002T141430Z
UID:12977-1696118400-1698796799@www.icpa-gz.org.py
SUMMARY:El gabinete del Dr. Caligari | Cine de género de Alemania
DESCRIPTION:En el jardín de una clínica psiquiátrica\, el paciente Francis cuenta su historia: en la feria de un pequeño pueblo del norte de Alemania\, el Dr. Caligari\, de aspecto fantasmal\, anuncia actuaciones de hipnosis con su médium sin voluntad Cesare. Alan y Francis\, ambos enamorados de la misma chica\, asisten a la actuación de Caligari. Caligari anuncia que su médium responderá al público a preguntas sobre el futuro. Cuando Alan quiere saber cuánto tiempo vivirá\, oye la respuesta: “¡Hasta el amanecer!”. Al día siguiente aparece muerto. Su amigo Francis sospecha inmediatamente de Caligari… \nLa película se considera el punto culminante del expresionismo en la historia del cine. “Las películas deben ser dibujos animados”: éste era el lema de Hermann Warm en aquella época\, según el cual él y sus dos colegas Walter Röhrig y Walter Reimann construyeron escénicamente el mundo del Dr. Caligari. En consecuencia\, los decorados de CALIGARI eran una variedad de formas dentadas y puntiagudas\, que recordaban mucho a los modelos góticos”. (Siegfried Kracauer en “De Caligari a Hitler”) Las tomas se caracterizan por una metódica distorsión de las perspectivas\, el mundo parece como si hubiera sido inclinado fuera de quicio\, y la mirada del espectador experimenta una irritación sistemática. Mientras que hasta ahora en la historia del cine el decorado nunca había sido más que un decorado de fondo e ilustrativo\, aquí la escenografía adquiere una nueva función y significado. Los decorados\, y no la actuación de los actores\, transmiten la desesperación\, la tragedia y la desesperanza. \nEs poco probable que otra obra haya tenido una influencia tan intensa en el desarrollo posterior del cine mudo alemán; después de CALIGARI\, el interés ya existente por el cine fantástico se intensificó\, y con él comenzó un giro intenso hacia la psicopatología y las figuras criminales demoníacas y peligrosas. Siegfried Kracauer incluyó CALIGARI en las premoniciones cinematográficas de la tiranía de Hitler \nTrailer | El gabinete del Dr. Caligari \n_______ \nEn el marco de Cine de género de Alemania\nPelícula en alemán\nSubtítulos en ES\, EN \nRobert Wiene | director\n1920 | 77 minutos\nGénero | Horror \nRegistro & gratuita\nHasta el martes 31 de octubre de 2023 \n>> A la película | Goethe On Demand \nGoethe on Demand es una plataforma de streaming del Goethe-Institut
URL:https://www.icpa-gz.org.py/evento/el-gabinete-del-dr-caligari-cine-de-genero-de-alemania/
LOCATION:GOETHE ON DEMAND
CATEGORIES:Cine,Evento digital
ATTACH;FMTTYPE=image/jpeg:https://www.icpa-gz.org.py/wp-content/uploads/2023/09/F7EBehBW8AAi1Mu.jpg
END:VEVENT
BEGIN:VEVENT
DTSTART;VALUE=DATE:20231002
DTEND;VALUE=DATE:20231103
DTSTAMP:20260423T220905
CREATED:20230713T184740Z
LAST-MODIFIED:20230928T191245Z
UID:11275-1696204800-1698969599@www.icpa-gz.org.py
SUMMARY:Inscripción para los exámenes internacionales | Noviembre de 2023
DESCRIPTION:Para más información \n+595 983 307 150 | WhatsApp\n+595 (021) 22 44 55 | Teléfono\ninformacion@icpa-gz.org.py\nhttps://icpa-gz.org.py/examenes-internacionales/
URL:https://www.icpa-gz.org.py/evento/inscripcion-para-los-examenes-internacionales-noviembre-de-2023/
LOCATION:Instituto Cultural Paraguayo-Alemán – Goethe-Zentrum | ICPA-GZ\, Juan de Salazar 310 c/ Artigas_\, Asuncion\, 3500\, Paraguay
CATEGORIES:Exámenes internacionales
ATTACH;FMTTYPE=image/jpeg:https://www.icpa-gz.org.py/wp-content/uploads/2023/07/ExamenesInternacionales-2doSemestre-2023-Feed4.jpg
END:VEVENT
BEGIN:VEVENT
DTSTART;VALUE=DATE:20231016
DTEND;VALUE=DATE:20231021
DTSTAMP:20260423T220905
CREATED:20231006T191050Z
LAST-MODIFIED:20231006T191328Z
UID:13258-1697414400-1697846399@www.icpa-gz.org.py
SUMMARY:Ciclo de Cine de las Colectividades de Itapúa | apoyado por el ICPA-GZ
DESCRIPTION:Este mes el Cine Teatro del Centro celebra la multiculturalidad de Itapúa a través del séptimo arte.\nPrimera Edición del Ciclo de Cine de las Colectividades de Itapúa:\n5 colectividades – 5 películas \nLunes 16 | 🇦🇷 Fantasma vuelve al pueblo/AR\nMartes 17 | 🇮🇹 Nuovomondo/IT\nMiércoles 18 | 🇨🇵 Délicieux/FR\nJueves 19 | 🇩🇪 Cleo/AL\nViernes 20 | 🇯🇵 Every day a Good day/JP \nLas películas están habladas en idioma original y subtituladas al español \nLunes 16 al viernes 20 de octubre\n19:30 horas\nEntrada libre y gratuita \nCine Teatro del Centro\nVillarrica c/ J.L Mallorquín en la Galería Florida\, 2do. piso\nEncarnación \n___ \nApoyado por\nInstituto Cultural Paraguayo-Alemán – Goethe-Zentrum | ICPA-GZ\nInstituto de Artes Audiovisuales de Misiones | @iaavim\nAsociación de Francofonos y Francofilos de Encarnación | @affe_py\nSociedad Italiana de Itapua | @sociedaditalianaitapua\nEmbajada del Japón | @embajadadeljaponenparaguay\nSocietà Dante Alighieri | @societadantealighieri\nCentro Cultural Paraguayo Alemán de Encarnación | @ccpaencarnacion\nEmbajada de Francia en Paraguay \n¡Te esperamos!
URL:https://www.icpa-gz.org.py/evento/ciclo-de-cine-de-las-colectividades-de-itapua/
LOCATION:Cine Teatro del Centro\, Villarrica c/ J.L Mallorquín en la Galería Florida\, 2do. piso\, Encarnación\, Itapúa\, Paraguay
CATEGORIES:apoyado por el ICPA-GZ,Cine,Evento presencial
ATTACH;FMTTYPE=image/jpeg:https://www.icpa-gz.org.py/wp-content/uploads/2023/10/WhatsApp-Image-2023-10-06-at-15.50.06.jpeg
END:VEVENT
BEGIN:VEVENT
DTSTART;VALUE=DATE:20231016
DTEND;VALUE=DATE:20231023
DTSTAMP:20260423T220905
CREATED:20231005T164158Z
LAST-MODIFIED:20231025T202132Z
UID:13162-1697414400-1698019199@www.icpa-gz.org.py
SUMMARY:Semana de Acción Ambiental | Octubre 2023
DESCRIPTION:¡La Semana de Acción Ambiental de la Unión Europea está de regreso y con más emociones que nunca! Les espera una gran variedad de actividades y eventos: \n\n  \nCalendario de la Semana de Acción Ambiental | pdf \n¡Les esperamos! \n___ \nLas actividades de la Semana de Acción Ambiental | Octubre 2023 son organizadas por \nla Unión Europea | UEconParaguay\nla Embajada de la República Federal de Alemania Asunción\nel Instituto Cultural Paraguayo-Alemán – Goethe-Zentrum | ICPA-GZ\nla Alianza Francesa Asunción | af\nla Ambassade de France au Paraguay\nel Centro Cultural de España Juan de Salazar | CCEJS\nla Fundación Internacional y para Iberoamérica de Administración y Políticas Públicas | FIIAP
URL:https://www.icpa-gz.org.py/evento/semana-de-accion-ambiental/
LOCATION:Varios lugares\, Asunción\, Distrito Capital\, Paraguay
CATEGORIES:Semana de Acción Ambiental
ATTACH;FMTTYPE=image/jpeg:https://www.icpa-gz.org.py/wp-content/uploads/2023/10/370064494_18071890330411289_8111615699157113336_n.jpg
END:VEVENT
BEGIN:VEVENT
DTSTART;TZID=America/Asuncion:20231018T190000
DTEND;TZID=America/Asuncion:20231018T210000
DTSTAMP:20260423T220905
CREATED:20231009T203546Z
LAST-MODIFIED:20231019T180349Z
UID:13294-1697655600-1697662800@www.icpa-gz.org.py
SUMMARY:Dear Future Children - Cine | Semana de Acción Ambiental
DESCRIPTION:2021 | 89 min. | Alemania\nDirección | Franz Böhm\nReparto | Documental \nMiércoles 18 | 19:00 horas \nSalón Rolando Rasmussen\nInstituto Cultural Paraguayo-Alemán – Goethe-Zentrum | ICPA-GZ\nJuan de Salazar 310 c/Artigas\nAsunción \nSinopsis\nTres lugares\, tres conflictos y tres protagonistas: Hilda en Uganda\, Rayén en Santiago de Chile y Pepper en Hong Kong. Estas historias cuentan los retos\, las motivaciones y las consecuencias de su activismo. Ya sea por hacer justicia climática\, por los problemas y desigualdades sociales o las amenazas a la democracia; el futuro siempre está en juego. Dear future children pretende hacer visibles las motivaciones de los activistas y examina la forma avanzada en la que se organizan estas protestas. \nEl proyecto generado a lo largo de dos años y finalizado en 2021 fue posible gracias a una exitosa campaña de crowdfunding\, que recaudó más de 22.000 euros. En la producción de la película participaron\, además de Böhm como director y el camarógrafo Friedemann Leis\, cineastas\, periodistas\, activistas y una gran red de asesores y asesoras de más de 15 países. \nSu director Böhm comentó en una temprana declaración de intenciones sobre el proyecto: “Con nuestra película queremos documentar la energía\, la rabia\, el ingenio de los diversos actores de la protesta internacional contra el cambio climático\, la desigualdad social y la erosión de la democracia. Será un homenaje a las personas que se manifiestan desesperanzadas y se empoderan para actuar. Además\, se mostrarán los efectos que tienen sus acciones en todo el mundo”. \n \nProyección en el marco de la Semana de Acción Ambiental 2023 \n\n  \nCalendario de la Semana de Acción Ambiental | pdf \n___ \nLas actividades de la Semana de Acción Ambiental | Octubre 2023 son organizadas por \nla Unión Europea | UEconParaguay\nla Embajada de la República Federal de Alemania Asunción\nel Instituto Cultural Paraguayo-Alemán – Goethe-Zentrum | ICPA-GZ\nla Alianza Francesa Asunción | af\nla Ambassade de France au Paraguay\nel Centro Cultural de España Juan de Salazar | CCEJS\nla Fundación Internacional y para Iberoamérica de Administración y Políticas Públicas | FIIAP
URL:https://www.icpa-gz.org.py/evento/proyeccion-de-la-pelicula-dear-future-children-semana-de-accion-ambiental/
LOCATION:Salón Rolando Rasmussen del Instituto Cultural Paraguayo-Alemán – Goethe-Zentrum | ICPA-GZ\, Juan de Salazar 310 c/ Artigas Barrio Ricardo Brugada\, Asunción\, Distrito Capital\, Paraguay
CATEGORIES:Cine,Semana de Acción Ambiental
ATTACH;FMTTYPE=image/png:https://www.icpa-gz.org.py/wp-content/uploads/2023/10/ICPAKINO_SemanaAmbiental.png
END:VEVENT
END:VCALENDAR