BEGIN:VCALENDAR
VERSION:2.0
PRODID:-//Instituto Cultural Paraguayo Alemán – Goethe-Zentrum - ECPv6.15.20//NONSGML v1.0//EN
CALSCALE:GREGORIAN
METHOD:PUBLISH
X-WR-CALNAME:Instituto Cultural Paraguayo Alemán – Goethe-Zentrum
X-ORIGINAL-URL:https://www.icpa-gz.org.py
X-WR-CALDESC:Eventos para Instituto Cultural Paraguayo Alemán – Goethe-Zentrum
REFRESH-INTERVAL;VALUE=DURATION:PT1H
X-Robots-Tag:noindex
X-PUBLISHED-TTL:PT1H
BEGIN:VTIMEZONE
TZID:America/Asuncion
BEGIN:STANDARD
TZOFFSETFROM:-0300
TZOFFSETTO:-0400
TZNAME:-04
DTSTART:20220327T030000
END:STANDARD
BEGIN:DAYLIGHT
TZOFFSETFROM:-0400
TZOFFSETTO:-0300
TZNAME:-03
DTSTART:20221002T040000
END:DAYLIGHT
BEGIN:STANDARD
TZOFFSETFROM:-0300
TZOFFSETTO:-0400
TZNAME:-04
DTSTART:20230326T030000
END:STANDARD
BEGIN:DAYLIGHT
TZOFFSETFROM:-0400
TZOFFSETTO:-0300
TZNAME:-03
DTSTART:20231001T040000
END:DAYLIGHT
BEGIN:STANDARD
TZOFFSETFROM:-0300
TZOFFSETTO:-0400
TZNAME:-04
DTSTART:20240324T030000
END:STANDARD
BEGIN:DAYLIGHT
TZOFFSETFROM:-0400
TZOFFSETTO:-0300
TZNAME:-03
DTSTART:20241006T040000
END:DAYLIGHT
BEGIN:STANDARD
TZOFFSETFROM:-0300
TZOFFSETTO:-0300
TZNAME:-03
DTSTART:20241015T030000
END:STANDARD
END:VTIMEZONE
BEGIN:VEVENT
DTSTART;VALUE=DATE:20231001
DTEND;VALUE=DATE:20231101
DTSTAMP:20260423T233406
CREATED:20230927T151123Z
LAST-MODIFIED:20231002T141430Z
UID:12977-1696118400-1698796799@www.icpa-gz.org.py
SUMMARY:El gabinete del Dr. Caligari | Cine de género de Alemania
DESCRIPTION:En el jardín de una clínica psiquiátrica\, el paciente Francis cuenta su historia: en la feria de un pequeño pueblo del norte de Alemania\, el Dr. Caligari\, de aspecto fantasmal\, anuncia actuaciones de hipnosis con su médium sin voluntad Cesare. Alan y Francis\, ambos enamorados de la misma chica\, asisten a la actuación de Caligari. Caligari anuncia que su médium responderá al público a preguntas sobre el futuro. Cuando Alan quiere saber cuánto tiempo vivirá\, oye la respuesta: “¡Hasta el amanecer!”. Al día siguiente aparece muerto. Su amigo Francis sospecha inmediatamente de Caligari… \nLa película se considera el punto culminante del expresionismo en la historia del cine. “Las películas deben ser dibujos animados”: éste era el lema de Hermann Warm en aquella época\, según el cual él y sus dos colegas Walter Röhrig y Walter Reimann construyeron escénicamente el mundo del Dr. Caligari. En consecuencia\, los decorados de CALIGARI eran una variedad de formas dentadas y puntiagudas\, que recordaban mucho a los modelos góticos”. (Siegfried Kracauer en “De Caligari a Hitler”) Las tomas se caracterizan por una metódica distorsión de las perspectivas\, el mundo parece como si hubiera sido inclinado fuera de quicio\, y la mirada del espectador experimenta una irritación sistemática. Mientras que hasta ahora en la historia del cine el decorado nunca había sido más que un decorado de fondo e ilustrativo\, aquí la escenografía adquiere una nueva función y significado. Los decorados\, y no la actuación de los actores\, transmiten la desesperación\, la tragedia y la desesperanza. \nEs poco probable que otra obra haya tenido una influencia tan intensa en el desarrollo posterior del cine mudo alemán; después de CALIGARI\, el interés ya existente por el cine fantástico se intensificó\, y con él comenzó un giro intenso hacia la psicopatología y las figuras criminales demoníacas y peligrosas. Siegfried Kracauer incluyó CALIGARI en las premoniciones cinematográficas de la tiranía de Hitler \nTrailer | El gabinete del Dr. Caligari \n_______ \nEn el marco de Cine de género de Alemania\nPelícula en alemán\nSubtítulos en ES\, EN \nRobert Wiene | director\n1920 | 77 minutos\nGénero | Horror \nRegistro & gratuita\nHasta el martes 31 de octubre de 2023 \n>> A la película | Goethe On Demand \nGoethe on Demand es una plataforma de streaming del Goethe-Institut
URL:https://www.icpa-gz.org.py/evento/el-gabinete-del-dr-caligari-cine-de-genero-de-alemania/
LOCATION:GOETHE ON DEMAND
CATEGORIES:Cine,Evento digital
ATTACH;FMTTYPE=image/jpeg:https://www.icpa-gz.org.py/wp-content/uploads/2023/09/F7EBehBW8AAi1Mu.jpg
END:VEVENT
BEGIN:VEVENT
DTSTART;VALUE=DATE:20231002
DTEND;VALUE=DATE:20231103
DTSTAMP:20260423T233406
CREATED:20230713T184740Z
LAST-MODIFIED:20230928T191245Z
UID:11275-1696204800-1698969599@www.icpa-gz.org.py
SUMMARY:Inscripción para los exámenes internacionales | Noviembre de 2023
DESCRIPTION:Para más información \n+595 983 307 150 | WhatsApp\n+595 (021) 22 44 55 | Teléfono\ninformacion@icpa-gz.org.py\nhttps://icpa-gz.org.py/examenes-internacionales/
URL:https://www.icpa-gz.org.py/evento/inscripcion-para-los-examenes-internacionales-noviembre-de-2023/
LOCATION:Instituto Cultural Paraguayo-Alemán – Goethe-Zentrum | ICPA-GZ\, Juan de Salazar 310 c/ Artigas_\, Asuncion\, 3500\, Paraguay
CATEGORIES:Exámenes internacionales
ATTACH;FMTTYPE=image/jpeg:https://www.icpa-gz.org.py/wp-content/uploads/2023/07/ExamenesInternacionales-2doSemestre-2023-Feed4.jpg
END:VEVENT
BEGIN:VEVENT
DTSTART;TZID=America/Asuncion:20231014T090000
DTEND;TZID=America/Asuncion:20231014T110000
DTSTAMP:20260423T233406
CREATED:20231009T162722Z
LAST-MODIFIED:20231009T211409Z
UID:13286-1697274000-1697281200@www.icpa-gz.org.py
SUMMARY:Limpieza de la bahía de Asunción | Semana de Acción Ambiental
DESCRIPTION:¡Te esperamos con tu grupo de amigos/as el sábado 14 de octubre en una nueva edición de la limpieza de la bahía de Asunción – #EUBeachCleanup! \nLa actividad tiene acceso libre y gratuito\, y no requiere inscripción. Te sugerimos preparar calzados cómodos y agua. En caso de lluvia\, la actividad será postergada. ¿Te sumás? \n\n  \nCalendario de la Semana de Acción Ambiental | pdf \n___ \nLas actividades de la Semana de Acción Ambiental | Octubre 2023 son organizadas por \nla Unión Europea | UEconParaguay\nla Embajada de la República Federal de Alemania Asunción\nel Instituto Cultural Paraguayo-Alemán – Goethe-Zentrum | ICPA-GZ\nla Alianza Francesa Asunción | af\nla Ambassade de France au Paraguay\nel Centro Cultural de España Juan de Salazar | CCEJS\nla Fundación Internacional y para Iberoamérica de Administración y Políticas Públicas | FIIAP
URL:https://www.icpa-gz.org.py/evento/limpieza-de-la-bahia-de-asuncion-semana-de-accion-ambiental/
LOCATION:Turista Róga – Costanera\, José Asunción Flores\, Asunción\, Distrito Capital\, Paraguay
CATEGORIES:Evento presencial,Semana de Acción Ambiental
ATTACH;FMTTYPE=image/jpeg:https://www.icpa-gz.org.py/wp-content/uploads/2023/10/387094843_18072092845411289_4993023834808969380_n-1.jpg
END:VEVENT
BEGIN:VEVENT
DTSTART;TZID=America/Asuncion:20231014T140000
DTEND;TZID=America/Asuncion:20231014T180000
DTSTAMP:20260423T233406
CREATED:20231004T205732Z
LAST-MODIFIED:20231004T212353Z
UID:13141-1697292000-1697306400@www.icpa-gz.org.py
SUMMARY:Encuentro con el escritor Christian Kent | apoyado por el ICPA-GZ
DESCRIPTION:Christian Kent | @condeorloff  – Conversación sobre la creación literaria y intercambio intelectual sobre algunos textos. Muchas gracias a Ana Ivanova | la.ivanova por la invitación. \nCasa de la Cultura Carlos Colombino\nMariscal Francisco Solano Lopez\nConcepción \n+ información\nJosé | +595 981 277 626\nElías | +595 975 590 548 \nSe expedirán certificados de participación
URL:https://www.icpa-gz.org.py/evento/encuentro-con-el-escritor-christian-kent-apoyado-por-el-icpa-gz/
LOCATION:Casa de la Cultura Carlos Colombino de Concepción\, Mariscal Francisco Solano López\, Concepción\, Concepción\, Paraguay
CATEGORIES:apoyado por el ICPA-GZ,Biblioteca,Charla
ATTACH;FMTTYPE=image/jpeg:https://www.icpa-gz.org.py/wp-content/uploads/2023/10/WhatsApp-Image-2023-10-04-at-17.36.38.jpeg
END:VEVENT
BEGIN:VEVENT
DTSTART;TZID=America/Asuncion:20231014T160000
DTEND;TZID=America/Asuncion:20231014T220000
DTSTAMP:20260423T233406
CREATED:20231012T141322Z
LAST-MODIFIED:20231012T183803Z
UID:13417-1697299200-1697320800@www.icpa-gz.org.py
SUMMARY:Sorora Festival³ | apoyado por el ICPA-GZ
DESCRIPTION:Festival Sorora³\nVuelve el festival de Sorora Música – colectivo autoconvocado de mujeres trabajadoras de la industria musical \nSábado 14 | 16:00 hs.\nEntradas en tuti.com.py \nEstación de Ferrocarril\nAv. Mariscal López\nAsunción \n+ Información\n@sororamusica / Instagram\nDossier | pdf
URL:https://www.icpa-gz.org.py/evento/sorora-festival%c2%b3-apoyado-por-icpa-gz/
LOCATION:Estación Central del Ferrocarril Carlos Antonio López\, P98C+F3R\, Asunción\, Asunción\, Distrito Capital\, Paraguay
CATEGORIES:apoyado por el ICPA-GZ,Concierto
ATTACH;FMTTYPE=image/jpeg:https://www.icpa-gz.org.py/wp-content/uploads/2023/10/WhatsApp-Image-2023-10-12-at-08.34.25-1.jpeg
ORGANIZER;CN="Sorora M%C3%BAsica":MAILTO:sororamusica@gmail.com
END:VEVENT
BEGIN:VEVENT
DTSTART;TZID=America/Asuncion:20231014T190000
DTEND;TZID=America/Asuncion:20231014T210000
DTSTAMP:20260423T233406
CREATED:20231012T190331Z
LAST-MODIFIED:20231012T190331Z
UID:13471-1697310000-1697317200@www.icpa-gz.org.py
SUMMARY:INMIGRANT PY'A GUASU (desde el río\, y siempre desde adentro) | apoyado por el ICPA-GZ
DESCRIPTION:FUNCIÓN\nSábado 14 | 19:00 hs.\nTurista Róga – Costanera de Asunción \nENTRADAS\nFunción gratuita \n________ \nLibreto\, Visualización y Dirección | @Instagram\nFABIO ESTECHE CABRERA | @fabitoestechec \nIntérpretes y Colaboradores\nRUTH BOBADILLA | @ruthlafemme\nESTEBAN BOGADO | @estebanbogado\nANTONIA CABRERA DE ESTECHE | @cabreradeesteche\nORNELLA ALIANA COLMÁN | @alianaorne\nÓNIX FERNÁNDEZ BÁEZ | @onixdefuego\nROCÍO FERNÁNDEZ | @roelfer\nANALÍA GALEANO | @anagalemog\nCATALINA MARTÍNEZ |  @catmartinez\nMECHE RIVAS | @meche_rivas_\nJESÚS SÁNCHEZ |  @jesussanchezvera\nCAROLINA SANDOVAL |  @carosandovalpro\nJAZMÍN SERVÍN | @jazzservin\nDIANA VÁZQUEZ |  @madivazquez \nCoreografía\nNATALIA ALDANA | @natynill  & FABIO ESTECHE CABRERA | @fabitoestechec \nPreparación física\nNATALIA ALDANA | @natynill \nDiseño y Comunicación\nFABIO ESTECHE CABRERA | @fabitoestechec \nCorrección del Libreto\nVANESSA SANDOVAL NAKAO | @vanesando \nMúsica\nPEROTÁ CHINGÓ | @perota_chingo \nVestuario\nDISLEXIA SEVERA | @dislexiasevera \nIluminación\nMARTIN PIZZICHINI | @mpiluminacion \nSonido\nHÉCTOR ESTECHE CABRERA PARA “COMO VOS QUIERAS” | @hectoresteche @comovosquieras \nProducción general\nNATALIA ALDANA | @amandabogado\nAMANDA BOGADO PAULA BOZZANO | @p.bozzano\nFABIO ESTECHE CABRERA | @fabitoestechec \nApoyado por\nFondos Culturales de la Municipalidad de Asunción | @muniasu\nSecretaría Nacional de Cultura del Paraguay | @cultura_py\nInstituto Cultural Paraguayo-Alemán – Goethe-Zentrum (ICPA-GZ) | @icpa_gz\nEspacio E | @espacio_e\nPerotá Chingó | @perota_chingo\nEl Teatrario | @elteatrario\nComoVosQuierasPY | @comovosquieras\nCentro Paraguayo Japonés | @cpj_asu
URL:https://www.icpa-gz.org.py/evento/inmigrant-pya-guasu-desde-el-rio-y-siempre-desde-adentro-apoyado-por-el-icpa-gz/
LOCATION:Turista Róga – Costanera\, José Asunción Flores\, Asunción\, Distrito Capital\, Paraguay
CATEGORIES:apoyado por el ICPA-GZ,Danza,Evento presencial
ATTACH;FMTTYPE=image/jpeg:https://www.icpa-gz.org.py/wp-content/uploads/2023/10/WhatsApp-Image-2023-10-12-at-16.01.10.jpeg
END:VEVENT
BEGIN:VEVENT
DTSTART;TZID=America/Asuncion:20231014T210000
DTEND;TZID=America/Asuncion:20231014T230000
DTSTAMP:20260423T233406
CREATED:20231004T163217Z
LAST-MODIFIED:20231011T134534Z
UID:13133-1697317200-1697324400@www.icpa-gz.org.py
SUMMARY:Delta nuestro - Yenia y Rodrigo Quintás en concierto
DESCRIPTION:Sábado 14 | 21:00 horas \nSalón Rolando Rasmussen\nJuan de Salazar 310 c/Artigas\nAsunción \nVenta de entradas en puerta | 30.000 Gs.
URL:https://www.icpa-gz.org.py/evento/delta-nuestro-yenia-y-rodrigo-quintas-en-concierto-2/
LOCATION:Salón Rolando Rasmussen del Instituto Cultural Paraguayo-Alemán – Goethe-Zentrum | ICPA-GZ\, Juan de Salazar 310 c/ Artigas Barrio Ricardo Brugada\, Asunción\, Distrito Capital\, Paraguay
CATEGORIES:Concierto,Evento presencial,Música
ATTACH;FMTTYPE=image/jpeg:https://www.icpa-gz.org.py/wp-content/uploads/2023/10/Yenia-Flyer-Octubre-2023_5.jpg
END:VEVENT
END:VCALENDAR