BEGIN:VCALENDAR
VERSION:2.0
PRODID:-//Instituto Cultural Paraguayo Alemán – Goethe-Zentrum - ECPv6.15.20//NONSGML v1.0//EN
CALSCALE:GREGORIAN
METHOD:PUBLISH
X-ORIGINAL-URL:https://www.icpa-gz.org.py
X-WR-CALDESC:Eventos para Instituto Cultural Paraguayo Alemán – Goethe-Zentrum
REFRESH-INTERVAL;VALUE=DURATION:PT1H
X-Robots-Tag:noindex
X-PUBLISHED-TTL:PT1H
BEGIN:VTIMEZONE
TZID:America/Halifax
BEGIN:DAYLIGHT
TZOFFSETFROM:-0400
TZOFFSETTO:-0300
TZNAME:ADT
DTSTART:20220313T060000
END:DAYLIGHT
BEGIN:STANDARD
TZOFFSETFROM:-0300
TZOFFSETTO:-0400
TZNAME:AST
DTSTART:20221106T050000
END:STANDARD
BEGIN:DAYLIGHT
TZOFFSETFROM:-0400
TZOFFSETTO:-0300
TZNAME:ADT
DTSTART:20230312T060000
END:DAYLIGHT
BEGIN:STANDARD
TZOFFSETFROM:-0300
TZOFFSETTO:-0400
TZNAME:AST
DTSTART:20231105T050000
END:STANDARD
BEGIN:DAYLIGHT
TZOFFSETFROM:-0400
TZOFFSETTO:-0300
TZNAME:ADT
DTSTART:20240310T060000
END:DAYLIGHT
BEGIN:STANDARD
TZOFFSETFROM:-0300
TZOFFSETTO:-0400
TZNAME:AST
DTSTART:20241103T050000
END:STANDARD
END:VTIMEZONE
BEGIN:VEVENT
DTSTART;VALUE=DATE:20230901
DTEND;VALUE=DATE:20231001
DTSTAMP:20260423T162826
CREATED:20230802T185053Z
LAST-MODIFIED:20230802T185053Z
UID:11682-1693526400-1696118399@www.icpa-gz.org.py
SUMMARY:Inscripción para los exámenes internacionales | Octubre de 2023
DESCRIPTION:Para más información \n+595 983 307 150 | WhatsApp\n+595 (021) 22 44 55 | Teléfono\ninformacion@icpa-gz.org.py\nhttps://icpa-gz.org.py/examenes-internacionales/
URL:https://www.icpa-gz.org.py/evento/inscripcion-para-los-examenes-internacionales-octubre-de-2023/
LOCATION:Instituto Cultural Paraguayo-Alemán – Goethe-Zentrum | ICPA-GZ\, Juan de Salazar 310 c/ Artigas_\, Asuncion\, 3500\, Paraguay
CATEGORIES:Exámenes internacionales
ATTACH;FMTTYPE=image/jpeg:https://www.icpa-gz.org.py/wp-content/uploads/2023/08/ExamenesInternacionales-2doSemestre-2023-Feed3.jpg
END:VEVENT
BEGIN:VEVENT
DTSTART;VALUE=DATE:20230901
DTEND;VALUE=DATE:20231001
DTSTAMP:20260423T162826
CREATED:20230829T191030Z
LAST-MODIFIED:20230904T163756Z
UID:12245-1693526400-1696118399@www.icpa-gz.org.py
SUMMARY:Deutschlandreise | Cine de género de Alemania
DESCRIPTION:Un viaje en el tiempo por la Alemania del Este\, 30 años después de la reunificación y tras la primera gira cinematográfica del director y el cámara por la extinta RDA: ¿qué queda de las esperanzas\, los miedos y los cambios? \nTrailer | Deutschlandreise \n_______ \nEn el marco de Cine de género de Alemania\nPelícula en alemán\nSubtítulos en DE\, ES\, EN\, FR\, PT-PT\, PT-BR\, CZ\, RU\, ZH\, AR \nWolfgang Ettlich | director\n2020 | 87 minutos \nGénero | Documental\nClasificación de la película | / \nRegistro & gratuita\nHasta el sábado 30 de septiembre de 2023 \n>> A la película | Goethe On Demand \nGoethe on Demand es una plataforma de streaming del Goethe-Institut
URL:https://www.icpa-gz.org.py/evento/deutschlandreise-cine-de-genero-de-alemania/
LOCATION:GOETHE ON DEMAND
CATEGORIES:Cine,Evento digital,Goethe on Demand
ATTACH;FMTTYPE=image/jpeg:https://www.icpa-gz.org.py/wp-content/uploads/2023/08/IMG-20230904-WA0008.jpg
END:VEVENT
BEGIN:VEVENT
DTSTART;VALUE=DATE:20230920
DTEND;VALUE=DATE:20231002
DTSTAMP:20260423T162826
CREATED:20230720T220602Z
LAST-MODIFIED:20230921T172445Z
UID:11371-1695168000-1696204799@www.icpa-gz.org.py
SUMMARY:Convocatoria abierta: EXPYLAB 2023 | apoyado por el ICPA-GZ
DESCRIPTION:Convocatoria abierta hasta el domingo 01 de octubre de 2023 \n+ Información | Página web del EXPYLAB
URL:https://www.icpa-gz.org.py/evento/convocatoria-abierta-expylab-2023-apoyado-por-el-icpa-gz/
LOCATION:en línea\, Paraguay
CATEGORIES:apoyado por el ICPA-GZ,Convocatoria
ATTACH;FMTTYPE=image/png:https://www.icpa-gz.org.py/wp-content/uploads/2023/07/Expylab.png
ORGANIZER;CN="Laboratorio de Experiencias Inmersivas Paraguay | EXPYLAB":MAILTO:info@expy.com.py
END:VEVENT
BEGIN:VEVENT
DTSTART;TZID=America/Halifax:20230929T190000
DTEND;TZID=America/Halifax:20230929T203000
DTSTAMP:20260423T162826
CREATED:20230907T170508Z
LAST-MODIFIED:20230907T222247Z
UID:12518-1696014000-1696019400@www.icpa-gz.org.py
SUMMARY:INMIGRANT PY'A GUASU (desde adentro) | apoyado por el ICPA-GZ
DESCRIPTION:FUNCIONES\nViernes 29 | 19:00 hs. y 21:00 hs.\nCentro Paraguayo Japonés \nSábado 7 | 19:00 hs.\nDomingo 8 | 19:00 hs.\nSitio Memorial y Centro Cultural 1A \nENTRADAS\nanticipadas generales | 70.000 Gs.\nen venta\, comunicate con inmigrant danza_py | Instagram \n________ \nLibreto\, Visualización y Dirección | @Instagram\nFABIO ESTECHE CABRERA | @fabitoestechec \nIntérpretes y Colaboradores\nRUTH BOBADILLA | @ruthlafemme\nESTEBAN BOGADO | @estebanbogado\nANTONIA CABRERA DE ESTECHE | @cabreradeesteche\nORNELLA ALIANA COLMÁN | @alianaorne\nÓNIX FERNÁNDEZ BÁEZ | @onixdefuego\nROCÍO FERNÁNDEZ | @roelfer\nANALÍA GALEANO | @anagalemog\nCATALINA MARTÍNEZ |  @catmartinez\nMECHE RIVAS | @meche_rivas_\nJESÚS SÁNCHEZ |  @jesussanchezvera\nCAROLINA SANDOVAL |  @carosandovalpro\nJAZMÍN SERVÍN | @jazzservin\nDIANA VÁZQUEZ |  @madivazquez \nCoreografía\nNATALIA ALDANA | @natynill  & FABIO ESTECHE CABRERA | @fabitoestechec \nPreparación física\nNATALIA ALDANA | @natynill \nDiseño y Comunicación\nFABIO ESTECHE CABRERA | @fabitoestechec \nCorrección del Libreto\nVANESSA SANDOVAL NAKAO | @vanesando \nMúsica\nPEROTÁ CHINGÓ | @perota_chingo \nVestuario\nDISLEXIA SEVERA | @dislexiasevera \nIluminación\nMARTIN PIZZICHINI | @mpiluminacion \nSonido\nHÉCTOR ESTECHE CABRERA PARA “COMO VOS QUIERAS” | @hectoresteche @comovosquieras \nProducción general\nNATALIA ALDANA | @amandabogado\nAMANDA BOGADO PAULA BOZZANO | @p.bozzano\nFABIO ESTECHE CABRERA | @fabitoestechec \nApoyado por\nFondos Culturales de la Municipalidad de Asunción | @muniasu\nSecretaría Nacional de Cultura del Paraguay | @cultura_py\nInstituto Cultural Paraguayo-Alemán – Goethe-Zentrum (ICPA-GZ) | @icpa_gz\nEspacio E | @espacio_e\nPerotá Chingó | @perota_chingo\nEl Teatrario | @elteatrario\nComoVosQuierasPY | @comovosquieras\nCentro Paraguayo Japonés | @cpj_asu
URL:https://www.icpa-gz.org.py/evento/inmigrant-pya-guasu-desde-adentro/
LOCATION:Centro Paraguayo Japonés\, Domingo Portillo\, Asunción\, Distrito Capital\, Paraguay
CATEGORIES:apoyado por el ICPA-GZ,Teatro
ATTACH;FMTTYPE=image/jpeg:https://www.icpa-gz.org.py/wp-content/uploads/2023/09/WhatsApp-Image-2023-09-06-at-17.34.29-2.jpeg
END:VEVENT
BEGIN:VEVENT
DTSTART;TZID=America/Halifax:20230929T193000
DTEND;TZID=America/Halifax:20230929T213000
DTSTAMP:20260423T162826
CREATED:20230919T193359Z
LAST-MODIFIED:20230921T183040Z
UID:12729-1696015800-1696023000@www.icpa-gz.org.py
SUMMARY:Ciclo de música de cámara | Septiembre
DESCRIPTION:César Flecha | ViolínPedro Valle | Pianopresentado por el Movimiento Pu Joa \nObras de Ludwig van Beethoven & Ottorino Respighi \nViernes 29 | 19:30 hs.Entrada libre & gratuita Salón Rolando Rasmussen del ICPA-GZ \nConciertos de música de cámara mensuales de mayo a octubre de 2023 En convenio con el Instituto Cultural Paraguayo-Alemán – Goethe-Zentrum
URL:https://www.icpa-gz.org.py/evento/ciclo-de-musica-de-camara-septiembre/
LOCATION:Salón Rolando Rasmussen del Instituto Cultural Paraguayo-Alemán – Goethe-Zentrum | ICPA-GZ\, Juan de Salazar 310 c/ Artigas Barrio Ricardo Brugada\, Asunción\, Distrito Capital\, Paraguay
CATEGORIES:apoyado por el ICPA-GZ,Concierto,Evento presencial
ATTACH;FMTTYPE=image/jpeg:https://www.icpa-gz.org.py/wp-content/uploads/2023/09/WhatsApp-Image-2023-09-19-at-14.19.45.jpeg
END:VEVENT
BEGIN:VEVENT
DTSTART;TZID=America/Halifax:20230929T210000
DTEND;TZID=America/Halifax:20230929T223000
DTSTAMP:20260423T162826
CREATED:20230907T183440Z
LAST-MODIFIED:20230907T222223Z
UID:12529-1696021200-1696026600@www.icpa-gz.org.py
SUMMARY:INMIGRANT PY'A GUASU (desde adentro) | apoyado por el ICPA-GZ
DESCRIPTION:FUNCIONES\nViernes 29 | 19:00 hs. y 21:00 hs.\nCentro Paraguayo Japonés \nSábado 7 | 19:00 hs.\nDomingo 8 | 19:00 hs.\nSitio Memorial y Centro Cultural 1A \nENTRADAS\nanticipadas generales | 70.000 Gs.\nen venta\, comunicate con inmigrant danza_py | Instagram \n________ \nLibreto\, Visualización y Dirección | @Instagram\nFABIO ESTECHE CABRERA | @fabitoestechec \nIntérpretes y Colaboradores\nRUTH BOBADILLA | @ruthlafemme\nESTEBAN BOGADO | @estebanbogado\nANTONIA CABRERA DE ESTECHE | @cabreradeesteche\nORNELLA ALIANA COLMÁN | @alianaorne\nÓNIX FERNÁNDEZ BÁEZ | @onixdefuego\nROCÍO FERNÁNDEZ | @roelfer\nANALÍA GALEANO | @anagalemog\nCATALINA MARTÍNEZ |  @catmartinez\nMECHE RIVAS | @meche_rivas_\nJESÚS SÁNCHEZ |  @jesussanchezvera\nCAROLINA SANDOVAL |  @carosandovalpro\nJAZMÍN SERVÍN | @jazzservin\nDIANA VÁZQUEZ |  @madivazquez \nCoreografía\nNATALIA ALDANA | @natynill  & FABIO ESTECHE CABRERA | @fabitoestechec \nPreparación física\nNATALIA ALDANA | @natynill \nDiseño y Comunicación\nFABIO ESTECHE CABRERA | @fabitoestechec \nCorrección del Libreto\nVANESSA SANDOVAL NAKAO | @vanesando \nMúsica\nPEROTÁ CHINGÓ | @perota_chingo \nVestuario\nDISLEXIA SEVERA | @dislexiasevera \nIluminación\nMARTIN PIZZICHINI | @mpiluminacion \nSonido\nHÉCTOR ESTECHE CABRERA PARA “COMO VOS QUIERAS” | @hectoresteche @comovosquieras \nProducción general\nNATALIA ALDANA | @amandabogado\nAMANDA BOGADO PAULA BOZZANO | @p.bozzano\nFABIO ESTECHE CABRERA | @fabitoestechec \nApoyado por\nFondos Culturales de la Municipalidad de Asunción | @muniasu\nSecretaría Nacional de Cultura del Paraguay | @cultura_py\nInstituto Cultural Paraguayo-Alemán – Goethe-Zentrum (ICPA-GZ) | @icpa_gz\nEspacio E | @espacio_e\nPerotá Chingó | @perota_chingo\nEl Teatrario | @elteatrario\nComoVosQuierasPY | @comovosquieras\nCentro Paraguayo Japonés | @cpj_asu
URL:https://www.icpa-gz.org.py/evento/inmigrant-pya-guasu-desde-adentro-apoyado-por-el-icpa-gz/
LOCATION:Centro Paraguayo Japonés\, Domingo Portillo\, Asunción\, Distrito Capital\, Paraguay
CATEGORIES:apoyado por el ICPA-GZ,Teatro
ATTACH;FMTTYPE=image/jpeg:https://www.icpa-gz.org.py/wp-content/uploads/2023/09/WhatsApp-Image-2023-09-06-at-17.34.29-2.jpeg
END:VEVENT
END:VCALENDAR