BEGIN:VCALENDAR
VERSION:2.0
PRODID:-//Instituto Cultural Paraguayo Alemán – Goethe-Zentrum - ECPv6.15.20//NONSGML v1.0//EN
CALSCALE:GREGORIAN
METHOD:PUBLISH
X-WR-CALNAME:Instituto Cultural Paraguayo Alemán – Goethe-Zentrum
X-ORIGINAL-URL:https://www.icpa-gz.org.py
X-WR-CALDESC:Eventos para Instituto Cultural Paraguayo Alemán – Goethe-Zentrum
REFRESH-INTERVAL;VALUE=DURATION:PT1H
X-Robots-Tag:noindex
X-PUBLISHED-TTL:PT1H
BEGIN:VTIMEZONE
TZID:America/Halifax
BEGIN:DAYLIGHT
TZOFFSETFROM:-0400
TZOFFSETTO:-0300
TZNAME:ADT
DTSTART:20220313T060000
END:DAYLIGHT
BEGIN:STANDARD
TZOFFSETFROM:-0300
TZOFFSETTO:-0400
TZNAME:AST
DTSTART:20221106T050000
END:STANDARD
BEGIN:DAYLIGHT
TZOFFSETFROM:-0400
TZOFFSETTO:-0300
TZNAME:ADT
DTSTART:20230312T060000
END:DAYLIGHT
BEGIN:STANDARD
TZOFFSETFROM:-0300
TZOFFSETTO:-0400
TZNAME:AST
DTSTART:20231105T050000
END:STANDARD
BEGIN:DAYLIGHT
TZOFFSETFROM:-0400
TZOFFSETTO:-0300
TZNAME:ADT
DTSTART:20240310T060000
END:DAYLIGHT
BEGIN:STANDARD
TZOFFSETFROM:-0300
TZOFFSETTO:-0400
TZNAME:AST
DTSTART:20241103T050000
END:STANDARD
END:VTIMEZONE
BEGIN:VEVENT
DTSTART;VALUE=DATE:20230817
DTEND;VALUE=DATE:20230922
DTSTAMP:20260423T201229
CREATED:20230817T200619Z
LAST-MODIFIED:20230830T213721Z
UID:11800-1692230400-1695340799@www.icpa-gz.org.py
SUMMARY:Recordar es trabajar por el futuro | Convocatoria abierta del Premio de Artes Visuales 2023
DESCRIPTION:10ma. edición del Premio de Artes Visuales 2023\nLa Embajada de Alemania invita a la comunidad artística local a participar de su Premio de Artes Visuales bajo el lema “Recordar es trabajar por el futuro” en alusión a la importancia de practicar una cultura de la memoria. \nEl Premio se realiza en colaboración con el Instituto Cultural Paraguayo-Alemán – Goethe-Zentrum | ICPA-GZ y el Museo de las Memorias: Dictadura y Derechos Humanos y se propone en su 10ma. edición rescatar el valor de la cultura de la memoria. \nLa cultura de la memoria\nLa cultura de la memoria es una herramienta fundamental para el desarrollo de una nación. Es la forma en que una sociedad trata con su pasado y su historia e influye significativamente en su evolución. En la 10° edición del Premio de Artes Visuales\, la Embajada propone rescatar la importancia de la memoria histórica y realzar el rol del “Museo de las Memorias: Dictadura y Derechos Humanos” en este contexto como un espacio que permite recordar las vivencias de la nación paraguaya durante la dictadura militar\, conocer a sus protagonistas y honrar a quienes opusieron resistencia a un régimen de violencia. La obra ganadora del concurso será entregada para su exhibición permanente al Museo de las Memorias: Dictadura y Derechos Humanos. \nRequisitos de participación\nDel concurso podrán participar artistas mayores de 18 años radicados en Paraguay\, presentando obras artísticas de su autoría que hayan sido creadas en los últimos tres años. En cuanto al formato se pueden presentar obras bidimensionales (como pintura\, fotografía\, dibujo\, grabado\, etc.) y tridimensionales (como escultura\, instalación\, video arte\, etc.) de creación propia y alusivas al tema del concurso. Las obras efímeras no podrán participar. \nLa convocatoria para participar del concurso se encuentra abierta hasta el 21 de septiembre del año en curso. La postulación se realiza enviando la solicitud de participación con la correspondiente documentación conforme a las bases y condiciones vía correo electrónico a premiodeartesvisuales@gmail.com. \nUn jurado seleccionará entre las obras participantes la obra ganadora que será dotada con un premio de 1.500 Euros. El artista además será invitado a realizar una exposición individual en el Instituto Cultural Paraguayo-Alemán – Goethe-Zentrum. La obra ganadora del concurso será entregada para su exhibición permanente al Museo de las Memorias: Dictadura y Derechos Humanos. \nLa premiación se prevé para el día 9 de octubre. Las obras participantes se expondrán en una muestra colectiva en el Instituto Cultural Paraguayo Alemán\, Juan de Salazar 310 c/ Avda. Artigas en el mes de octubre. \nEdiciones anteriores\nLa Embajada organiza el Premio de Artes Visuales desde el año 2014 en colaboración con el Instituto Cultural Paraguayo-Alemán. Durante las primeras convocatorias se dirigía al género de la pintura y la fotografía\, para luego pasar al género del muralismo desde el año 2020 al año 2022\, entre otros motivos por la dificultad de realizar muestras colectivas por restricciones sanitarias. Las obras ganadoras de los últimos tres años se pueden observar hasta hoy en la Avenida Costanera de Asunción\, cerca de las oficinas de la Dirección General de Cultura y Turismo de la ciudad. Siempre en el afán de generar visibilidad e invitar a la reflexión sobre temas actuales y ante los sucesos ocasionados por la guerra de agresión rusa contra Ucrania\, la útlima convocatoria había tenido por lema “Paz es la respuesta”. \nEn el año 2023 el Premio vuelve a convocar a artistas de mútliples géneros y una muestra colectiva de los participantes\, invitando a refexionar sobre la importancia de la cultura de la memoria como una herramienta de crecimiento para las naciones\, en colaboración con el Museo de las Memorias: Dictadura y Derechos Humanos.
URL:https://www.icpa-gz.org.py/evento/recordar-es-trabajar-por-el-futuro-convocatoria-abierta-del-premio-de-artes-visuales-2023/
LOCATION:Instituto Cultural Paraguayo-Alemán – Goethe-Zentrum | ICPA-GZ\, Juan de Salazar 310 c/ Artigas_\, Asuncion\, 3500\, Paraguay
CATEGORIES:Arte,Convocatoria,Evento presencial
ATTACH;FMTTYPE=image/jpeg:https://www.icpa-gz.org.py/wp-content/uploads/2023/08/WhatsApp-Image-2023-08-17-at-15.26.23.jpeg
ORGANIZER;CN="Embajada de Alemania":MAILTO:https://asuncion.diplo.de/py-es/sobre-nosotros/kontakt-formular
END:VEVENT
BEGIN:VEVENT
DTSTART;VALUE=DATE:20230901
DTEND;VALUE=DATE:20231001
DTSTAMP:20260423T201229
CREATED:20230802T185053Z
LAST-MODIFIED:20230802T185053Z
UID:11682-1693526400-1696118399@www.icpa-gz.org.py
SUMMARY:Inscripción para los exámenes internacionales | Octubre de 2023
DESCRIPTION:Para más información \n+595 983 307 150 | WhatsApp\n+595 (021) 22 44 55 | Teléfono\ninformacion@icpa-gz.org.py\nhttps://icpa-gz.org.py/examenes-internacionales/
URL:https://www.icpa-gz.org.py/evento/inscripcion-para-los-examenes-internacionales-octubre-de-2023/
LOCATION:Instituto Cultural Paraguayo-Alemán – Goethe-Zentrum | ICPA-GZ\, Juan de Salazar 310 c/ Artigas_\, Asuncion\, 3500\, Paraguay
CATEGORIES:Exámenes internacionales
ATTACH;FMTTYPE=image/jpeg:https://www.icpa-gz.org.py/wp-content/uploads/2023/08/ExamenesInternacionales-2doSemestre-2023-Feed3.jpg
END:VEVENT
BEGIN:VEVENT
DTSTART;VALUE=DATE:20230901
DTEND;VALUE=DATE:20231001
DTSTAMP:20260423T201229
CREATED:20230829T191030Z
LAST-MODIFIED:20230904T163756Z
UID:12245-1693526400-1696118399@www.icpa-gz.org.py
SUMMARY:Deutschlandreise | Cine de género de Alemania
DESCRIPTION:Un viaje en el tiempo por la Alemania del Este\, 30 años después de la reunificación y tras la primera gira cinematográfica del director y el cámara por la extinta RDA: ¿qué queda de las esperanzas\, los miedos y los cambios? \nTrailer | Deutschlandreise \n_______ \nEn el marco de Cine de género de Alemania\nPelícula en alemán\nSubtítulos en DE\, ES\, EN\, FR\, PT-PT\, PT-BR\, CZ\, RU\, ZH\, AR \nWolfgang Ettlich | director\n2020 | 87 minutos \nGénero | Documental\nClasificación de la película | / \nRegistro & gratuita\nHasta el sábado 30 de septiembre de 2023 \n>> A la película | Goethe On Demand \nGoethe on Demand es una plataforma de streaming del Goethe-Institut
URL:https://www.icpa-gz.org.py/evento/deutschlandreise-cine-de-genero-de-alemania/
LOCATION:GOETHE ON DEMAND
CATEGORIES:Cine,Evento digital,Goethe on Demand
ATTACH;FMTTYPE=image/jpeg:https://www.icpa-gz.org.py/wp-content/uploads/2023/08/IMG-20230904-WA0008.jpg
END:VEVENT
BEGIN:VEVENT
DTSTART;VALUE=DATE:20230907
DTEND;VALUE=DATE:20230924
DTSTAMP:20260423T201229
CREATED:20230911T213504Z
LAST-MODIFIED:20230911T214545Z
UID:12600-1694044800-1695513599@www.icpa-gz.org.py
SUMMARY:11° Festival de Cine Alemán en Venezuela
DESCRIPTION:El Festival de Cine Alemán en Venezuela organizado por el Goethe-Institut con la curaduría conjunta con la Fundación Trasnocho Cultural llega a su onceava edición. \nA continuación puedes encontrar toda la programación online\, que se encuentra de manera gratuita y accesible a nivel nacional desde el 07 al 23 de septiembre. \nEn este 2023 tenemos una selección especial de dos películas que destaca el trabajo de historias de vida de guionistas y directoras mujeres en el marco de nuestro proyecto regional Mi Vida es de Película. \nIvie wie Ivie\nDirección Sarah Blaßkiewitz | 109 minutos \n \n  \nThe Case You\nDirección Alison Kuhn | 80 minutos \n \n  \nCon sólo un registro gratuito previo\, tendrás el mejor cine alemán directamente en tu casa. Para conocer más sobre cómo ver tu película escogida\, haz click aquí. \nSi deseas conocer el resto de la programación en salas de cine\, dirígete a la página oficial del 11° Festival de Cine Alemán.
URL:https://www.icpa-gz.org.py/evento/11-festival-de-cine-aleman-en-venezuela/
LOCATION:GOETHE ON DEMAND
CATEGORIES:apoyado por el ICPA-GZ,Goethe on Demand
ATTACH;FMTTYPE=image/jpeg:https://www.icpa-gz.org.py/wp-content/uploads/2023/09/WhatsApp-Image-2023-09-11-at-17.18.03.jpeg
END:VEVENT
BEGIN:VEVENT
DTSTART;TZID=America/Halifax:20230913T180000
DTEND;TZID=America/Halifax:20230913T203000
DTSTAMP:20260423T201229
CREATED:20230821T194414Z
LAST-MODIFIED:20230821T204235Z
UID:11873-1694628000-1694637000@www.icpa-gz.org.py
SUMMARY:El Colmenar de Artes Vivas | apoyado por el ICPA-GZ
DESCRIPTION:El Colmenar de Artes Vivas – Diplomado intensivo de performance art y prácticas artísticas contemporáneas | 1ra edición pretende ser un espacio transversal para contención de preguntas y haceres\, polinizando y enriqueciéndose desde las disidencias\, donde convergen creadores de todas las disciplinas y artistas indisciplinados en busca de prácticas y reflexión de senti-pensares individuales y colectivos que orbitan en torno a lo duracional\, anarchivo\, la toma de postura socio-política del artista y derivas citadinas. \nTendrá a cargo los días de seminario y lecturas Sandra Dinnendahl\, dos encuentros con Pancho López (Perfored MX) sobre videoarte (via streaming) y con aliados egresados de la MITAV-UNAL (Co) mas sesiones de laboratorio con Violeta Acuña y sesiones abiertas a publico en formato entrevista-charlatorios con artistas nacionales del performance art y artivismos. \nLos encuentros serán desde la ultima semana de agosto\, con frecuencia de dos veces por semana\, los miércoles de 18:00 a 20:30 hs. y los sábados de 14:00 a 16:00 hs. en el Salón Rolando Rasmussen del ICPA-GZ . El acceso es gratuito con inscripción previa. \nEncontrarás información actualizada sobre los distintos actos en la cuenta de Plataforma Nómada | @plataformanomadapy / Instagram.
URL:https://www.icpa-gz.org.py/evento/el-colmenar-de-artes-vivas-apoyado-por-el-icpa-gz-7/
LOCATION:Salón Rolando Rasmussen del Instituto Cultural Paraguayo-Alemán – Goethe-Zentrum | ICPA-GZ\, Juan de Salazar 310 c/ Artigas Barrio Ricardo Brugada\, Asunción\, Distrito Capital\, Paraguay
CATEGORIES:apoyado por el ICPA-GZ,Evento presencial,Taller
ATTACH;FMTTYPE=image/jpeg:https://www.icpa-gz.org.py/wp-content/uploads/2023/08/WhatsApp-Image-2023-08-21-at-14.05.34.jpeg
END:VEVENT
END:VCALENDAR