BEGIN:VCALENDAR
VERSION:2.0
PRODID:-//Instituto Cultural Paraguayo Alemán – Goethe-Zentrum - ECPv6.15.20//NONSGML v1.0//EN
CALSCALE:GREGORIAN
METHOD:PUBLISH
X-WR-CALNAME:Instituto Cultural Paraguayo Alemán – Goethe-Zentrum
X-ORIGINAL-URL:https://www.icpa-gz.org.py
X-WR-CALDESC:Eventos para Instituto Cultural Paraguayo Alemán – Goethe-Zentrum
REFRESH-INTERVAL;VALUE=DURATION:PT1H
X-Robots-Tag:noindex
X-PUBLISHED-TTL:PT1H
BEGIN:VTIMEZONE
TZID:America/Sao_Paulo
BEGIN:STANDARD
TZOFFSETFROM:-0300
TZOFFSETTO:-0300
TZNAME:-03
DTSTART:20220101T000000
END:STANDARD
END:VTIMEZONE
BEGIN:VTIMEZONE
TZID:America/Halifax
BEGIN:DAYLIGHT
TZOFFSETFROM:-0400
TZOFFSETTO:-0300
TZNAME:ADT
DTSTART:20220313T060000
END:DAYLIGHT
BEGIN:STANDARD
TZOFFSETFROM:-0300
TZOFFSETTO:-0400
TZNAME:AST
DTSTART:20221106T050000
END:STANDARD
BEGIN:DAYLIGHT
TZOFFSETFROM:-0400
TZOFFSETTO:-0300
TZNAME:ADT
DTSTART:20230312T060000
END:DAYLIGHT
BEGIN:STANDARD
TZOFFSETFROM:-0300
TZOFFSETTO:-0400
TZNAME:AST
DTSTART:20231105T050000
END:STANDARD
BEGIN:DAYLIGHT
TZOFFSETFROM:-0400
TZOFFSETTO:-0300
TZNAME:ADT
DTSTART:20240310T060000
END:DAYLIGHT
BEGIN:STANDARD
TZOFFSETFROM:-0300
TZOFFSETTO:-0400
TZNAME:AST
DTSTART:20241103T050000
END:STANDARD
END:VTIMEZONE
BEGIN:VEVENT
DTSTART;VALUE=DATE:20230801
DTEND;VALUE=DATE:20230901
DTSTAMP:20260423T233405
CREATED:20230713T184422Z
LAST-MODIFIED:20230830T183205Z
UID:11271-1690848000-1693526399@www.icpa-gz.org.py
SUMMARY:Inscripción para los exámenes internacionales | Septiembre de 2023
DESCRIPTION:Para más información \n+595 983 307 150 | WhatsApp\n+595 (021) 22 44 55 | Teléfono\ninformacion@icpa-gz.org.py\nhttps://icpa-gz.org.py/examenes-internacionales/
URL:https://www.icpa-gz.org.py/evento/inscripcion-para-los-examenes-internacionales-septiembre-de-2023/
LOCATION:Instituto Cultural Paraguayo-Alemán – Goethe-Zentrum | ICPA-GZ\, Juan de Salazar 310 c/ Artigas_\, Asuncion\, 3500\, Paraguay
CATEGORIES:Exámenes internacionales
ATTACH;FMTTYPE=image/jpeg:https://www.icpa-gz.org.py/wp-content/uploads/2023/07/ExamenesInternacionales-2doSemestre-2023-Feed2.jpg
END:VEVENT
BEGIN:VEVENT
DTSTART;VALUE=DATE:20230801
DTEND;VALUE=DATE:20230901
DTSTAMP:20260423T233405
CREATED:20230727T195511Z
LAST-MODIFIED:20230801T212148Z
UID:11540-1690848000-1693526399@www.icpa-gz.org.py
SUMMARY:Mission Ulja Funk | Cine de género de Alemania
DESCRIPTION:Ulja es una chica de 12 años no sólo enamorada de la astronomía\, sino capaz de descubrir y predecir la caída de un nuevo asteroide. El problema es que ni sus padres ni el pastor de la iglesia local se la toman en serio y\, mucho menos\, van a permitirle que atraviese media Europa\, de Alemania a Bielorrusia\, para asistir al impacto del meteorito. A Ulja no le va a quedar otra que robar un coche fúnebre\, alistar al pobre Henk\, que sabe conducir\, y salir pitando con sus padres y todo el pueblo detrás\, tratando de alcanzarles. \n \n_______ \nEn el marco de Cine de género de Alemania\nPelícula en alemán\nSubtítulos en  ES | DE | EN | FR | PT | RU | AR | ZH \nBarbara Kronenberg | directora\n2021 | 93 minutos \nGénero | Road Movie\, película infantil\nClasificación de la película | 6 años \nRegistro & gratuita\nHasta el jueves 31 de agosto de 2023 \n>> A la película | Goethe On Demand \nGoethe on Demand es una plataforma de streaming del Goethe-Institut
URL:https://www.icpa-gz.org.py/evento/mission-ulja-funk-cine-de-genero-de-alemania/
LOCATION:GOETHE ON DEMAND
CATEGORIES:Ciclos de Cine Alemán,Cine,Evento digital,Goethe on Demand
ATTACH;FMTTYPE=image/jpeg:https://www.icpa-gz.org.py/wp-content/uploads/2023/07/363348745_649702527192284_5064777093597408570_n.jpg
END:VEVENT
BEGIN:VEVENT
DTSTART;VALUE=DATE:20230801
DTEND;VALUE=DATE:20230905
DTSTAMP:20260423T233405
CREATED:20230731T211026Z
LAST-MODIFIED:20230830T213654Z
UID:11638-1690848000-1693871999@www.icpa-gz.org.py
SUMMARY:Callecultura 2023 | Inscripción abierta
DESCRIPTION:Empezamos a recibir propuestas para este año!\nCallecultura 2023 es el sábado de 9 septiembre\, de 16 hs. a 20hs. \nTodas las actividades en Callecultura son ofrecimientos gratuitos de personas e instituciones\, logrando así que el acceso sea libre y gratuito para todo el barrio y ciudadanía en general. Está permitido hacer actividades ‘a la gorra’\, pero no está permitido cobrar por shows o talleres. \nInscripción abierta | Prometemos responderte lo antes posible \nInstituto Cultural Paraguayo-Alemán – Goethe-Zentrum (ICPA-GZ) | Anglo | El Granel | Stael Ruffinelli de Ortiz – English | Colegio del Sol
URL:https://www.icpa-gz.org.py/evento/calle-cultura-2023-inscripcion-abierta/
LOCATION:Instituto Cultural Paraguayo-Alemán – Goethe-Zentrum | ICPA-GZ\, Juan de Salazar 310 c/ Artigas_\, Asuncion\, 3500\, Paraguay
CATEGORIES:Calle Cultura
ATTACH;FMTTYPE=image/png:https://www.icpa-gz.org.py/wp-content/uploads/2023/07/calle-cultura-5-orga-1.png
END:VEVENT
BEGIN:VEVENT
DTSTART;TZID=America/Halifax:20230803T150000
DTEND;TZID=America/Halifax:20230803T163000
DTSTAMP:20260423T233405
CREATED:20230802T195454Z
LAST-MODIFIED:20230802T200148Z
UID:11685-1691074800-1691080200@www.icpa-gz.org.py
SUMMARY:Spielerische Aktivitäten im Unterricht | organizado por APYPA
DESCRIPTION:Enlace de zoom por correo electrónico a info.apypa@gmail.com
URL:https://www.icpa-gz.org.py/evento/spielerische-aktivitaten-im-unterricht-organizado-por-apypa/
LOCATION:en línea\, Paraguay
CATEGORIES:Capacitación,Charla
ATTACH;FMTTYPE=image/jpeg:https://www.icpa-gz.org.py/wp-content/uploads/2023/08/WhatsApp-Image-2023-08-02-at-15.48.41.jpeg
ORGANIZER;CN="Asociaci%C3%B3n de profesores de alem%C3%A1n del Paraguay":MAILTO:info.apypa@gmail.com
END:VEVENT
BEGIN:VEVENT
DTSTART;TZID=America/Sao_Paulo:20230803T180000
DTEND;TZID=America/Sao_Paulo:20230803T200000
DTSTAMP:20260423T233405
CREATED:20230721T171029Z
LAST-MODIFIED:20230721T171029Z
UID:11379-1691085600-1691092800@www.icpa-gz.org.py
SUMMARY:Desafíos democráticos en la coyuntura política actual | Conversatorio
DESCRIPTION:Jueves 03 | 18:00 hs.\nEntrada libre y gratuito \nSalón Rolando Rasmussen del ICPA-GZ\nJuan de Salazar y Espinoza 310 c/Av. Artigas \n___ \nEn la búsqueda de analizar la coyuntura política actual e identificar los desafíos para la consolidación de la democracia en Paraguay\, BASE-IS invita al conversatorio “Desafíos democráticos en la coyuntura política actual”\, que se desarrollará el 3 de agosto próximo en el Instituto Paraguayo-Alemán (Juan de Salazar 310) desde las 18 horas. El evento tendrá como expositores iniciales a referentes y analistas que brindarán su mirada sobre la situación a modo de disparar el debate con los presentes. \n“Invitamos a la ciudadanía en general\, particularmente a militantes sociales\, activistas\, mujeres\, jóvenes\, estudiantes\, movimiento campesino y otros sectores sociales a tener un diálogo abierto\, franco y comprometido para hacer una caracterización del momento que vivimos y de los desafíos que vendrán a partir de la asunción del nuevo gobierno\, donde ya existen signos preocupantes\, como lo que se está debatiendo últimamente respecto al copamiento del Estado por parte del sector que encabezan Santiago Peña y Horacio Cartes” señaló Abel Irala\, director de BASE-IS. \nLos expositores que darán apertura al debate son: \n\nJorge Lara Castro\, abogado\, sociólogo y docente; canciller de Paraguay en los años 2011 y 2012\, quien realizará una caracterización del contexto político y principales desafíos.\nRamona Acuña\, de la Organización Cultiva Paraguay\, Ingeniera agroecóloga\, dirigente campesina y activista por los derechos humanos y feminista\, quién brindará un análisis de la realidad desde la mirada de los movimientos campesinos.\nAna Portillo – Socióloga\, feminista\, investigadora y docente de nivel medio\, quien profundizará respecto a la mirada del momento actual y los desafíos desde los feminismos enfocándose en el debate cultural planteado en los últimos tiempos.\n\nLos organizadores señalan que las ultimas campañas electorales han reflejado una situación de crisis de institucionalidad y de credibilidad hacia los partidos políticos y también ha demostrado lo frágil que se ha vuelto manipular la acción electoral en nuestro país\, “cuando se pone el acto eleccionario como el eje central de la democracia y este es manipulado para favorecer la victoria permanente de determinado grupo\, entendemos que existen elementos democráticos que deben ser revisados y analizados” indican. Al mismo tiempo\, señalan que otro elemento que debe ser analizado en torno a los desafíos democráticos es la acción de “sectores económicos muy poderosos que buscan perpetuar estos privilegios basados en la desigualdad social\, cultural\, económica y de acceso a la tierra”. \nEl conversatorio es de acceso libre y gratuito abierto a toda la ciudadanía y en el marco del encuentro también estarán a disposición los últimos materiales de investigación editados por BASE-IS a fin de que las personas que lo deseen puedan acceder a los mismos.
URL:https://www.icpa-gz.org.py/evento/desafios-democraticos-en-la-coyuntura-politica-actual-conversatorio/
LOCATION:Salón Rolando Rasmussen del Instituto Cultural Paraguayo-Alemán – Goethe-Zentrum | ICPA-GZ\, Juan de Salazar 310 c/ Artigas Barrio Ricardo Brugada\, Asunción\, Distrito Capital\, Paraguay
CATEGORIES:Charla
ATTACH;FMTTYPE=image/jpeg:https://www.icpa-gz.org.py/wp-content/uploads/2023/07/362241823_262491013150804_2376202925945455847_n.jpg
ORGANIZER;CN="Base Investigaciones Sociales | BASE-IS":MAILTO:baseis@baseis.org.py
END:VEVENT
END:VCALENDAR