BEGIN:VCALENDAR
VERSION:2.0
PRODID:-//Instituto Cultural Paraguayo Alemán – Goethe-Zentrum - ECPv6.15.20//NONSGML v1.0//EN
CALSCALE:GREGORIAN
METHOD:PUBLISH
X-ORIGINAL-URL:https://www.icpa-gz.org.py
X-WR-CALDESC:Eventos para Instituto Cultural Paraguayo Alemán – Goethe-Zentrum
REFRESH-INTERVAL;VALUE=DURATION:PT1H
X-Robots-Tag:noindex
X-PUBLISHED-TTL:PT1H
BEGIN:VTIMEZONE
TZID:America/Sao_Paulo
BEGIN:STANDARD
TZOFFSETFROM:-0300
TZOFFSETTO:-0300
TZNAME:-03
DTSTART:20220101T000000
END:STANDARD
END:VTIMEZONE
BEGIN:VEVENT
DTSTART;VALUE=DATE:20230701
DTEND;VALUE=DATE:20230801
DTSTAMP:20260423T220908
CREATED:20230706T211833Z
LAST-MODIFIED:20230706T211833Z
UID:11186-1688169600-1690847999@www.icpa-gz.org.py
SUMMARY:Alicia en las ciudades | Cine de género de Alemania
DESCRIPTION:En un aeropuerto\, el periodista de Munich Philip Winter conoce a Lisa y a su hija Alice\, de nueve años. Por necesidad\, Philip y Lisa se hacen amigos. La road movie de Wim Wenders habla de la falta de hogar\, la búsqueda de identidad y la soledad. \nEl periodista de Munich Philip Winter debe escribir un reportaje sobre el paisaje americano para una editorial. Lo único que trae tras su viaje de cuatro semanas por Estados Unidos son algunas fotos Polaroid. Philip quiere volver a Alemania. En el aeropuerto conoce a Lisa y a su hija Alice\, de nueve años. Cuando Lisa tiene que cancelar el vuelo\, le pide que se lleve a Alice con él. Ella se reuniría con él pronto. Por necesidad\, Philip y Alice se hacen amigos. Después de esperar a Lisa en vano\, toman un autobús a Wuppertal\, porque Alice cree que sus abuelos viven allí. Lo único que tienen es una vieja foto amarillenta de la casa de los abuelos. Juntos inician un viaje por la región del Ruhr… \nLas películas de Wenders siempre giran en torno a los temas del desarraigo\, la búsqueda de la identidad\, la soledad. Sus personajes encuentran su identidad en el movimiento\, en viaje; sólo así se encuentran y entablan relaciones que rompen su mutismo. De este modo\, los personajes de Wenders buscan su lugar social\, su hogar. En ALICIA EN LAS CIUDADES\, el viaje exterior se corresponde con el interior. También se narra el viaje de un acercamiento\, de una amistad entre la pareja desigual que forman Philip y Alice. Las tomas de la región del Ruhr\, los paisajes industriales y callejeros\, parecen monótonos y\, sin embargo\, se distinguen cuando se observan detenidamente. Wenders quiere despertar la conciencia de lo perdido\, crear una conexión entre la visión de uno mismo y el mundo. \nWolfgang Jacobsen \n \n_______ \nEn el marco de Cine de género de Alemania\nPelícula en alemán\nSubtítulos en  ES | DE | EN | FR | PT |RU \nWim Wenders | director\n1974 | 112 minutos \nRegistro & gratuita\nHasta el lunes 31 de julio de 2023 \n>> A la película | Goethe On Demand \nGoethe on Demand es una plataforma de streaming del Goethe-Institut
URL:https://www.icpa-gz.org.py/evento/alicia-en-las-ciudades-cine-de-genero-de-alemania/
LOCATION:GOETHE ON DEMAND
CATEGORIES:Cine,Goethe on Demand
ATTACH;FMTTYPE=image/jpeg:https://www.icpa-gz.org.py/wp-content/uploads/2023/07/Fz4MCHhakAIaHg2.jpg
END:VEVENT
BEGIN:VEVENT
DTSTART;VALUE=DATE:20230701
DTEND;VALUE=DATE:20230801
DTSTAMP:20260423T220908
CREATED:20230713T184257Z
LAST-MODIFIED:20230713T184257Z
UID:11269-1688169600-1690847999@www.icpa-gz.org.py
SUMMARY:Inscripción para los exámenes internacionales | Agosto de 2023
DESCRIPTION:Para más información \n+595 983 307 150 | WhatsApp\n+595 (021) 22 44 55 | Teléfono\ninformacion@icpa-gz.org.py\nhttps://icpa-gz.org.py/examenes-internacionales/
URL:https://www.icpa-gz.org.py/evento/inscripcion-para-los-examenes-internacionales-agosto-de-2023/
LOCATION:Instituto Cultural Paraguayo-Alemán – Goethe-Zentrum | ICPA-GZ\, Juan de Salazar 310 c/ Artigas_\, Asuncion\, 3500\, Paraguay
CATEGORIES:Exámenes internacionales
END:VEVENT
BEGIN:VEVENT
DTSTART;TZID=America/Sao_Paulo:20230724T150000
DTEND;TZID=America/Sao_Paulo:20230728T180000
DTSTAMP:20260423T220908
CREATED:20230717T232920Z
LAST-MODIFIED:20230728T155913Z
UID:11308-1690210800-1690567200@www.icpa-gz.org.py
SUMMARY:Taller "Análisis\, desmontaje y reescritura de obras" con Mariela Ruggeri | apoyado por el ICPA-GZ
DESCRIPTION:TALLER “ANÁLISIS\, DESMONTAJE Y REESCRITURA DE OBRAS” con Mariela Ruggeri \nLa obra “BAÑADAS” de Sergio Nuñez | sergio.nunez1 / IG y Elenco Alas Abiertas | @elencoalasabiertas / IG será abordada desde en el Taller ANÁLISIS\, DESMONTAJE Y REESCRITURA DE OBRA\, con Mariela Ruggieri\, dirigida al elenco. \nAún podés inscribirte al TALLER “ANÁLISIS\, DESMONTAJE Y REESCRITURA DE OBRAS” de Mariela Ruggeri y Alejandra Díaz.\nEl taller se desarrollará teniendo en cuenta dos aspectos:\n1. Contenidos y metodología de movimiento realizados en el proceso de investigación original de la obra Mensajes del Silencio.\n2. Abordaje de análisis\, desmontaje y reescritura de la obra. \nMariela Ruggeri | ARG Coreógrafa y docente de danza. Lic. en Composición Coreográfica . Posgrado en Antropología Social y Política. Reconocida con becas y premios internacionales\, sus obras se han presentado en diversos países. \nAlejandra Díaz Bailarina\, coreógrafa\, investigadora y gestora cultural argentina-paraguaya\, con más de doce obras de creación original multidisciplinaria independiente. Fundadora y Directora de Crear en Libertad. Formada en Argentina con perfeccionamiento en diversos países. \nLunes 24 al viernes 28 de julio\n15:00 hs. a 18:00 hs.\nICPA-GZ / CCEJS / ISBA \nInscripción previa \nContacto y información | (+595) 971 128 660
URL:https://www.icpa-gz.org.py/evento/taller-analisis-desmontaje-y-reescritura-de-obras-con-mariela-ruggeri-apoyado-por-el-icpa-gz/
LOCATION:Salón Rolando Rasmussen del Instituto Cultural Paraguayo-Alemán – Goethe-Zentrum | ICPA-GZ\, Juan de Salazar 310 c/ Artigas Barrio Ricardo Brugada\, Asunción\, Distrito Capital\, Paraguay
CATEGORIES:apoyado por el ICPA-GZ,Capacitación,Danza,Taller
ATTACH;FMTTYPE=image/png:https://www.icpa-gz.org.py/wp-content/uploads/2023/07/Opera-Captura-de-pantalla_2023-07-24_163615_www.instagram.com_.png
END:VEVENT
END:VCALENDAR