BEGIN:VCALENDAR
VERSION:2.0
PRODID:-//Instituto Cultural Paraguayo Alemán – Goethe-Zentrum - ECPv6.15.20//NONSGML v1.0//EN
CALSCALE:GREGORIAN
METHOD:PUBLISH
X-WR-CALNAME:Instituto Cultural Paraguayo Alemán – Goethe-Zentrum
X-ORIGINAL-URL:https://www.icpa-gz.org.py
X-WR-CALDESC:Eventos para Instituto Cultural Paraguayo Alemán – Goethe-Zentrum
REFRESH-INTERVAL;VALUE=DURATION:PT1H
X-Robots-Tag:noindex
X-PUBLISHED-TTL:PT1H
BEGIN:VTIMEZONE
TZID:America/Sao_Paulo
BEGIN:STANDARD
TZOFFSETFROM:-0300
TZOFFSETTO:-0300
TZNAME:-03
DTSTART:20220101T000000
END:STANDARD
END:VTIMEZONE
BEGIN:VEVENT
DTSTART;VALUE=DATE:20230601
DTEND;VALUE=DATE:20230701
DTSTAMP:20260424T125018
CREATED:20230529T185758Z
LAST-MODIFIED:20230601T204746Z
UID:10481-1685577600-1688169599@www.icpa-gz.org.py
SUMMARY:Echo | Cine de género de Alemania
DESCRIPTION:El inspector jefe Harder es enviado a Friedland\, en provincias. Un nuevo comienzo tras una misión traumática. En Friedland todo sigue bien en el mundo. O al menos todo vuelve a estar bien\, porque el pasado fue hace mucho tiempo. Pero el páramo no olvida. \n \n_______ \nEn el marco de Cine de género de Alemania\nPelícula en alemán\nSubtítulos en alemán / ingles \nMareike Wegener | directora\n2022 | 98 minutos | apta mayores de 16 años \nRegistro & gratuita\nHasta el viernes 30 de junio de 2023 \n>> A la película | Goethe On Demand \nGoethe on Demand es una plataforma de streaming del Goethe-Institut
URL:https://www.icpa-gz.org.py/evento/echo-cine-de-genero-de-alemania/
LOCATION:GOETHE ON DEMAND
CATEGORIES:Cine,Goethe on Demand
ATTACH;FMTTYPE=image/jpeg:https://www.icpa-gz.org.py/wp-content/uploads/2023/05/347404907_6208837519224310_4719515907169101280_n.jpg
END:VEVENT
BEGIN:VEVENT
DTSTART;VALUE=DATE:20230601
DTEND;VALUE=DATE:20230701
DTSTAMP:20260424T125018
CREATED:20230530T183619Z
LAST-MODIFIED:20230530T183619Z
UID:10502-1685577600-1688169599@www.icpa-gz.org.py
SUMMARY:Inscripción para los exámenes internacionales | Julio de 2023
DESCRIPTION:Para más información \n+595 983 307 150 | WhatsApp\n+595 (021) 22 44 55 | Teléfono\ninformacion@icpa-gz.org.py\nhttps://icpa-gz.org.py/examenes-internacionales/
URL:https://www.icpa-gz.org.py/evento/inscripcion-para-los-examenes-internacionales-julio-de-2023/
LOCATION:Instituto Cultural Paraguayo-Alemán – Goethe-Zentrum | ICPA-GZ\, Juan de Salazar 310 c/ Artigas_\, Asuncion\, 3500\, Paraguay
CATEGORIES:Exámenes internacionales
ATTACH;FMTTYPE=image/png:https://www.icpa-gz.org.py/wp-content/uploads/2022/12/0723.png
END:VEVENT
BEGIN:VEVENT
DTSTART;VALUE=DATE:20230608
DTEND;VALUE=DATE:20230623
DTSTAMP:20260424T125018
CREATED:20230606T193309Z
LAST-MODIFIED:20230615T171856Z
UID:10944-1686182400-1687478399@www.icpa-gz.org.py
SUMMARY:Ciclos de cine alemán de 2023 | Junio: Perspectivas - Cine diverso
DESCRIPTION:El Instituto Cultural Paraguayo-Alemán\, con apoyo del Goethe Institut\, invita a todo el público interesado a los ciclos de cine alemán que tendrán lugar en los meses de junio a noviembre del corriente año. Las proyecciones tendrán lugar en el salón auditorio del ICPA-GZ (Juan de Salazar 310 c/ Artigas)\, a las 19:00 horas. La entrada es libre y gratuita. Las películas se emiten en alemán con subtítulos en español. Los ciclos abordan diferentes temáticas. \nSOBRE EL CICLO EN JUNIO | PERSPECTIVAS – CINE DIVERSO \nTres propuestas muy distintas entre sí conforman un cine con perspectiva de género. “Enfant Terrible” la película biográfica sobre R.W. Fassbinder hace foco en el proceso creativo desde sus inicios en su dimensión más sádica y perturbadora\, sin por eso dejar el brillo de lado. Durante un verano en Kreuzberg.\, Nora emerge de su capullo llegando a la mayoría de edad y descubriendo su deseo y orientación sexual en “Kokon”\, el film inaugural de la sección “Generación” en la Berlinale 2020. En contra de toda recomendación\, Rebecca se acerca al Dennis\, supuesto culpable del suicidio de su hermano\, quien vuelve al pueblo luego de una larga ausencia. Ella necesita comprender qué sucedió\, mientras su familia pretende mantener su buena imagen. Rebecca descubre mucho más que los posibles motivos por los que su hermano se quitó la vida en “Pesadilla”. \nPor el mes del orgullo | Sortearemos entre los presentes una pelota con los colores de la bandera LGBTIQ+ \n___ \nENFANT TERRIBLE\nJueves\, 08 de junio las 19:00 horas\nOskar Roehler\, 2020\, color\, 134 min. \nLa película biográfica sobre R.W. Fassbinder transcurre en una escenografía teatral con aire de leyenda. Encarnado por la gran actuación de Oliver Masucci y lejos de una simple romantización de nuestro ídolo\, Enfant Terrible hace foco en el proceso creativo y pertinaz de R.W. Fassbinder desde sus inicios en su dimensión más sádica y perturbadora. Sin por eso dejar el brillo de lado\, el director Oskar Roehler devela un universo creativo pasional y fascinante combinado con manipulación\, sometimiento y lucha de poder. \n___ \nKOKON | CAPULLO\nJueves\, 15 de junio las 19:00 horas\nLeonie Krippendorff\, 2020\, color\, 99 min. \nDurante un caluroso verano en Kreuzberg\, Nora de 14 años emerge de su capullo como una encantadora mariposa: una película relatada con un agudo sentido por la realidad callejera y los mensajes entre líneas; acerca tanto de llegar a la mayoría de edad\, así como de salir del clóset; ya que con los cambios físicos y el despertar sexual\, se vuelve claro para Nora que le gustan más las chicas que los chicos. \n___ \nALBTRÄUMER | PESADILLA\nJueves\, 22 de junio las 19:00 horas\nPhilipp Klinger\, 2020\, color\, 93 min. \nDesde que el joven Dennis se quitó la vida a los diecisiete años tirándose de un puente\, su hermana\, Rebecca\, intenta asimilar su suicido. Sus padres se esfuerzan\, al contrario\, en proteger su buena imagen familiar. Éstos culpan a Vincent\, un amigo con el que su hijo solía pasar tiempo; pero este hecho nunca se pudo demostrar. Cuando Vincent aparece de nuevo por el pueblo\, Rebecca busca su cercanía y pretende así saber más sobre su hermano. Rebecca se siente atraída por él\, pero el comportamiento de Vincent es tan volátil como apasionado. Este acercamiento lleva a Rebecca a adentrarse más y más en el mundo oculto de su hermano y descubre que su relación con Vincent fue algo más que una amistad.
URL:https://www.icpa-gz.org.py/evento/ciclos-de-cine-aleman-de-2023/
LOCATION:Instituto Cultural Paraguayo-Alemán – Goethe-Zentrum | ICPA-GZ\, Juan de Salazar 310 c/ Artigas_\, Asuncion\, 3500\, Paraguay
CATEGORIES:Ciclos de Cine Alemán,Cine
ATTACH;FMTTYPE=image/png:https://www.icpa-gz.org.py/wp-content/uploads/2023/06/ICPA_Cine1.png
END:VEVENT
BEGIN:VEVENT
DTSTART;TZID=America/Sao_Paulo:20230613T190000
DTEND;TZID=America/Sao_Paulo:20230613T200000
DTSTAMP:20260424T125018
CREATED:20230601T213333Z
LAST-MODIFIED:20230605T222108Z
UID:10809-1686682800-1686686400@www.icpa-gz.org.py
SUMMARY:Cambio climático en Paraguay | Lanzamiento del cuaderno
DESCRIPTION:Lanzamiento del cuaderno: Cambio climático en Paraguay | Concurso de cómics\nGanadores del concurso\nCuadernos del ICPA-GZ\n[11] | 02.2023 \nLista de trabajos premiados\nLos títulos y autores de las obras premiadas son como sigue:\n1.er puesto: La sed\, de Néstor Nahuel Vera Von Lucken y Marcelo Adrián Gill Ibarra\, “debido a su poderosa narrativa gráfica y su originalidad\, pues responde a las consecuencias del cambio climático de forma posapocalíptica”.\n2.º puesto: Ríos voladores\, de Francis Etchevarría y Alan Javier Jara Vera\, “por su universalidad y localidad al mismo tiempo\, y su gran nivel de uso de los colores”.\n3.er puesto: Lo inevitable hablando de lo evitable\, de Catalino Manuel Sosa Filártiga\, por su “impecable abordaje de la narrativa gráfico y su uso correcto del lenguaje poético”.\nMención honorífica: Don Kururu\, de Jacobo Sebastián Wittkowski Mier\, por su “notable nivel gráfico y composición”\, mientras que “resuelve acertadamente la problemática y la solución al cambio climático”. \nMartes 13 | 19:00 hs.\nInstituto Cultural Paraguayo-Alemán – Goethe-Zentrum | ICPA-GZ\nJuan de Salazar y Espinoza 310 c/Artigas\nEntrada libre & gratuita \nDespués te invitamos al ICPA-TREFF | Junio \n  \nCuadernos
URL:https://www.icpa-gz.org.py/evento/cambio-climatico-en-paraguay-lanzamiento-del-cuaderno/
LOCATION:Instituto Cultural Paraguayo-Alemán – Goethe-Zentrum | ICPA-GZ\, Juan de Salazar 310 c/ Artigas_\, Asuncion\, 3500\, Paraguay
CATEGORIES:Biblioteca,Presentación del libro
ATTACH;FMTTYPE=image/png:https://www.icpa-gz.org.py/wp-content/uploads/2023/06/ICPA_TREFF-Junio2psd.png
END:VEVENT
BEGIN:VEVENT
DTSTART;TZID=America/Sao_Paulo:20230613T193000
DTEND;TZID=America/Sao_Paulo:20230613T223000
DTSTAMP:20260424T125018
CREATED:20230526T201523Z
LAST-MODIFIED:20230605T224807Z
UID:10476-1686684600-1686695400@www.icpa-gz.org.py
SUMMARY:ICPA-Treff | Junio
DESCRIPTION:¡Gastronomía\, Arte\, Música & Buen Vivir!\nGastronomía con deliciosa comida de Manduca Paraguay | manducapy / Instagram \nEntrada libre & gratuita\nMartes 13 | a partir de las 19:30 hs. \nEn el patio del ICPA-GZ\nJuan de Salazar y Espinoza 310 c/Av. Artigas \n¡Te esperamos!
URL:https://www.icpa-gz.org.py/evento/icpa-treff-junio/
LOCATION:Instituto Cultural Paraguayo-Alemán – Goethe-Zentrum | ICPA-GZ\, Juan de Salazar 310 c/ Artigas_\, Asuncion\, 3500\, Paraguay
CATEGORIES:Cultura,ICPA TREFF
ATTACH;FMTTYPE=image/png:https://www.icpa-gz.org.py/wp-content/uploads/2023/06/ICPA_TREFF-Junio.png
END:VEVENT
END:VCALENDAR