BEGIN:VCALENDAR
VERSION:2.0
PRODID:-//Instituto Cultural Paraguayo Alemán – Goethe-Zentrum - ECPv6.15.20//NONSGML v1.0//EN
CALSCALE:GREGORIAN
METHOD:PUBLISH
X-WR-CALNAME:Instituto Cultural Paraguayo Alemán – Goethe-Zentrum
X-ORIGINAL-URL:https://www.icpa-gz.org.py
X-WR-CALDESC:Eventos para Instituto Cultural Paraguayo Alemán – Goethe-Zentrum
REFRESH-INTERVAL;VALUE=DURATION:PT1H
X-Robots-Tag:noindex
X-PUBLISHED-TTL:PT1H
BEGIN:VTIMEZONE
TZID:America/Sao_Paulo
BEGIN:STANDARD
TZOFFSETFROM:-0300
TZOFFSETTO:-0300
TZNAME:-03
DTSTART:20220101T000000
END:STANDARD
END:VTIMEZONE
BEGIN:VEVENT
DTSTART;VALUE=DATE:20230425
DTEND;VALUE=DATE:20230601
DTSTAMP:20260424T125028
CREATED:20230425T233926Z
LAST-MODIFIED:20230426T165206Z
UID:9934-1682380800-1685577599@www.icpa-gz.org.py
SUMMARY:Becas para Las Aguadas | Residencia de Arte
DESCRIPTION:***English version see below***\n\n\n \n\n\nContamos con 2 becas para Las Aguadas | Residencia de Arte! \n\n\nLa residencia cuenta con 2 becas que cubrirán los gastos de estadía para 1 artista visual y 1 artista escénicx. Las becas exoneran a estxs 2 participantes de los costos de la residencia. No cubre viáticos y expensas personales.\n\n\n \n\n\nFechas de la residencia: julio & septiembre de 2023\n\n\nConvocatoria abierta hasta el miércoles 31 de mayo de 2023\n\n\n \n\n\n+ Info | www.lasaguadas.com\n\n\n_______\n\n\n \n\n\nWe have 2 scholarships for Las Aguadas Artist-in-Residence! \n\n\n \n\n\nWe are able to offer to scholarships that cover the Residence’s costs for 1\n\n\na visual artist and a performing artist. This exonerates the two selected artists from paying the Residence fees. It does not include travel costs and personal expenses.\n\n\n \n\n\nResidence dates: July & September 2023\n\n\nApply by May 31st!\n\n\n \n\n\n+ Info | www.lasaguadas.com\n\n_______\n\nEn colaboración con\n\n@artesedele | IG\n\n\n@red.gris | IG\n\n\n@Espacio E
URL:https://www.icpa-gz.org.py/evento/becas-para-las-aguadas-residencia-de-arte/
LOCATION:Instituto Cultural Paraguayo-Alemán – Goethe-Zentrum | ICPA-GZ\, Juan de Salazar 310 c/ Artigas_\, Asuncion\, 3500\, Paraguay
CATEGORIES:Arte,Beca,Convocatoria
ATTACH;FMTTYPE=image/jpeg:https://www.icpa-gz.org.py/wp-content/uploads/2023/04/WhatsApp-Image-2023-04-25-at-17.20.08.jpeg
END:VEVENT
BEGIN:VEVENT
DTSTART;TZID=America/Sao_Paulo:20230428T000000
DTEND;TZID=America/Sao_Paulo:20230605T183000
DTSTAMP:20260424T125028
CREATED:20230404T184053Z
LAST-MODIFIED:20230605T155659Z
UID:9777-1682640000-1685989800@www.icpa-gz.org.py
SUMMARY:Inscripción para los exámenes internacionales | Junio de 2023
DESCRIPTION:Para más información \n+595 983 307 150 | WhatsApp\n+595 (021) 22 44 55 | Teléfono\ninformacion@icpa-gz.org.py\nhttps://icpa-gz.org.py/examenes-internacionales/
URL:https://www.icpa-gz.org.py/evento/examenes-internacionales-junio-2023/
LOCATION:Instituto Cultural Paraguayo-Alemán – Goethe-Zentrum | ICPA-GZ\, Juan de Salazar 310 c/ Artigas_\, Asuncion\, 3500\, Paraguay
CATEGORIES:Exámenes internacionales
ATTACH;FMTTYPE=image/png:https://www.icpa-gz.org.py/wp-content/uploads/2022/12/0623.png
END:VEVENT
BEGIN:VEVENT
DTSTART;VALUE=DATE:20230501
DTEND;VALUE=DATE:20230601
DTSTAMP:20260424T125028
CREATED:20230424T163723Z
LAST-MODIFIED:20230510T203333Z
UID:9929-1682899200-1685577599@www.icpa-gz.org.py
SUMMARY:Das Massaker von Anröchte | Cine de género de Alemania
DESCRIPTION:En Anröchte tiene lugar una masacre en la que la gente es decapitada al azar. Los dos detectives que investigan\, Konka y Walter\, descubren el lado oscuro de la pequeña ciudad mientras resuelven el caso. Una absurda película policíaca que juega con las convenciones del género criminal.\n\n\n \n\n\n\n\nEn el marco de Cine de género de Alemania\n\n\n\n\nPelícula en alemán\nSubtítulos en español / alemán / ++\nRegistro & gratuita\n\n\nHasta el miércoles 31 de mayo de 2023\n\n\n\nhttps://genrekino.goethe-on-demand.de/movies/das-massaker-von-anrochte\n\n\nGoethe on Demand es una plataforma de streaming del Goethe-Institut
URL:https://www.icpa-gz.org.py/evento/das-massaker-von-anrochte-cine-de-genero-de-alemania/
LOCATION:GOETHE ON DEMAND
CATEGORIES:Cine,Goethe on Demand
ATTACH;FMTTYPE=image/jpeg:https://www.icpa-gz.org.py/wp-content/uploads/2023/04/344765337_233431065942550_6791835156574623647_n.jpg
END:VEVENT
BEGIN:VEVENT
DTSTART;TZID=America/Sao_Paulo:20230520T143000
DTEND;TZID=America/Sao_Paulo:20230520T170000
DTSTAMP:20260424T125028
CREATED:20230420T232004Z
LAST-MODIFIED:20230508T165241Z
UID:9916-1684593000-1684602000@www.icpa-gz.org.py
SUMMARY:Asamblea General de Asociación de profesores de alemán del Paraguay (APYPA) | apoyado por el ICPA-GZ
DESCRIPTION:Lugar: ICPA-GZ | Juan de Salazar y Espinoza 310 c/Av. Artigas | Ricardo Brugada | Asunción
URL:https://www.icpa-gz.org.py/evento/asamblea-general-de-asociacion-de-profesores-de-aleman-del-paraguay-apypa/
LOCATION:Instituto Cultural Paraguayo-Alemán – Goethe-Zentrum | ICPA-GZ\, Juan de Salazar 310 c/ Artigas_\, Asuncion\, 3500\, Paraguay
ATTACH;FMTTYPE=image/jpeg:https://www.icpa-gz.org.py/wp-content/uploads/2023/04/WhatsApp-Image-2023-04-20-at-18.16.19.jpeg
ORGANIZER;CN="Asociaci%C3%B3n de profesores de alem%C3%A1n del Paraguay":MAILTO:info.apypa@gmail.com
END:VEVENT
BEGIN:VEVENT
DTSTART;TZID=America/Sao_Paulo:20230520T193000
DTEND;TZID=America/Sao_Paulo:20230520T213000
DTSTAMP:20260424T125028
CREATED:20230511T211300Z
LAST-MODIFIED:20230518T184846Z
UID:10164-1684611000-1684618200@www.icpa-gz.org.py
SUMMARY:Noches Mágicas - Notti magiche | Italia - XIV Ciclo de Cine Europeo
DESCRIPTION:Comedia dramática\n2018 | 110 min. | color\nPaolo Virzì | director\nEntrada libre & gratuita \nEsta comedia dramática y de misterio italiana data del verano de 1990\, cuando en Roma\, mientras Italia pierde ante Argentina en la Copa Mundial FIFA\, cae al río Tíber un lujoso vehículo en el que viaja un famoso productor de cine. Es un asesinato y los sospechosos son tres aspirantes guionistas que van revelando sus historias. La trama policial permite narrar una ágil y divertida historia de personajes diversos y retratar el ocaso de la gloriosa época del cine italiano. \nPelícula de Italia en el marco del XIV Ciclo de Cine Europeo en Paraguay\nEmbajada de Italia en Paraguay | Facebook \n_______ \nLas películas serán proyectadas\, con acceso gratuito\, durante el mes de mayo en el Instituto Cultural Paraguayo-Alemán – Goethe-Zentrum (ICPA-GZ)\, la Alianza Francesa\, el Centro Cultural de España Juan de Salazar y el Cine Villamorra. \nLa programación es parte de las actividades con ocasión del Mes de Europa y en conmemoración del Día de Europa que se celebra el 9 de mayo. Esta fecha marca el aniversario de la histórica “Declaración de Schuman” en la que Robert Schuman\, Ministro de Asuntos Exteriores de Francia\, expuso la idea de una nueva forma de cooperación política en Europa\, que haría inconcebible la guerra entre naciones europeas. Su propuesta\, hecha en 1950\, se considera el comienzo de lo que es hoy la Unión Europea. \nLos detalles de la programación\, sinopsis de las películas\, trailers y otros contenidos interactivos estarán disponibles a lo largo del festival en las distintas redes sociales oficiales de la Unión Europea en Paraguay (@UEenParaguay). \nA la página web de los Ciclos de Cine Europeo en Paraguay
URL:https://www.icpa-gz.org.py/evento/noches-magicas-notti-magiche-italia-xiv-ciclo-de-cine-europeo/
LOCATION:Cine Villamorra\, Av. Mariscal López 3794 | Shopping Villamorra\, Asunción\, Distrito Capital\, Paraguay
CATEGORIES:Ciclo de Cine Europeo en Paraguay
ATTACH;FMTTYPE=image/jpeg:https://www.icpa-gz.org.py/wp-content/uploads/2023/05/FwQ4PpOWAAwG-LK.jpg
END:VEVENT
BEGIN:VEVENT
DTSTART;TZID=America/Sao_Paulo:20230520T210000
DTEND;TZID=America/Sao_Paulo:20230520T223000
DTSTAMP:20260424T125028
CREATED:20230428T183927Z
LAST-MODIFIED:20230514T212537Z
UID:9966-1684616400-1684621800@www.icpa-gz.org.py
SUMMARY:Barquitos de papel | apoyado por el ICPA-GZ
DESCRIPTION:Unipersonal de Gloria M. Morel | @glo_eme / Instagram \nSábado 20 | 21:00 hs.\nDomingo 21 | 19:00 hs. \nSala la Correa\nGral. Díaz 1163 c/ Hernandarias y Don Bosco \nEntrada\nanticipada 50.000 Gs.\nen Boletería 60.000 Gs.\nPromo 2×1 a 60.000 Gs. para estudiantes de danza y teatro\nReserva | +595 981 410 132 \n  \nBARQUITOS DE PAPEL es una obra escénica que explora caminos de resignificación en ese\nenfrentamiento que tenemos desde lo vital y esa sustancia de vida como es la finitud. Sobre\nlas posibilidades de unidad y reconciliación interna con la historia propia que hallamos junto a\nquienes han trascendido. \nLa pieza se construye a partir de un universo sonoro y corporal\, viajando entre textos e\nimágenes personales y familiares\, estableciendo un diálogo en donde (como con la memoria\ny su poesía) el gesto brota en el espacio a través de conexiones\, puntos de encuentro y\nsignificaciones. \nBARQUITOS DE PAPEL cuenta con asesoría dramatúrgica de Jorge Báez\, la asistencia\ntécnica de Silvia Aguero\, diseño gráfico/visualización por Edu Barreto. El registro fotográfico y\naudiovisual de Juan Sosa\, la iluminación a cargo de MP iluminación. En prensa y difusión Pili\nOrtíz. \n  \nLa puesta tiene el auspicio del Fondo Nacional de la Cultura y las Artes (Fondec) y el apoyo de Tercer Espacio Colectivo\, Evolución Academia de Danza\, Instituto Cultural Paraguayo-Alemán – Goethe-Zentrum (ICPA-GZ). Agradecimientos a Paola Irún y Fabian Da Silva.
URL:https://www.icpa-gz.org.py/evento/barquitos-de-papel-apoyado-por-el-icpa-gz-2/
LOCATION:Sala La Correa\, Profesor Doctor Luis Alberto Garcete &\, Don Bosco\, Asunción\, Paraguay
CATEGORIES:apoyado por el ICPA-GZ,Danza,Teatro
ATTACH;FMTTYPE=image/jpeg:https://www.icpa-gz.org.py/wp-content/uploads/2023/04/WhatsApp-Image-2023-05-10-at-13.40.05.jpeg
END:VEVENT
END:VCALENDAR