BEGIN:VCALENDAR
VERSION:2.0
PRODID:-//Instituto Cultural Paraguayo Alemán – Goethe-Zentrum - ECPv6.15.20//NONSGML v1.0//EN
CALSCALE:GREGORIAN
METHOD:PUBLISH
X-ORIGINAL-URL:https://www.icpa-gz.org.py
X-WR-CALDESC:Eventos para Instituto Cultural Paraguayo Alemán – Goethe-Zentrum
REFRESH-INTERVAL;VALUE=DURATION:PT1H
X-Robots-Tag:noindex
X-PUBLISHED-TTL:PT1H
BEGIN:VTIMEZONE
TZID:America/Sao_Paulo
BEGIN:STANDARD
TZOFFSETFROM:-0300
TZOFFSETTO:-0300
TZNAME:-03
DTSTART:20220101T000000
END:STANDARD
END:VTIMEZONE
BEGIN:VEVENT
DTSTART;TZID=America/Sao_Paulo:20230401T000000
DTEND;TZID=America/Sao_Paulo:20230429T120000
DTSTAMP:20260424T202021
CREATED:20230301T171149Z
LAST-MODIFIED:20230426T164259Z
UID:9344-1680307200-1682769600@www.icpa-gz.org.py
SUMMARY:Exámenes internacionales | Mayo de 2023
DESCRIPTION:Para más información \n+595 983 307 150 | WhatsApp\n+595 (021) 22 44 55 | Teléfono\ninformacion@icpa-gz.org.py\nhttps://icpa-gz.org.py/examenes-internacionales/ \n 
URL:https://www.icpa-gz.org.py/evento/examenes-internacionales-mayo-2023/
LOCATION:Instituto Cultural Paraguayo-Alemán – Goethe-Zentrum | ICPA-GZ\, Juan de Salazar 310 c/ Artigas_\, Asuncion\, 3500\, Paraguay
CATEGORIES:Exámenes internacionales
ATTACH;FMTTYPE=image/png:https://www.icpa-gz.org.py/wp-content/uploads/2022/12/0523.png
END:VEVENT
BEGIN:VEVENT
DTSTART;VALUE=DATE:20230404
DTEND;VALUE=DATE:20230501
DTSTAMP:20260424T202021
CREATED:20230404T185315Z
LAST-MODIFIED:20230408T213717Z
UID:9779-1680566400-1682899199@www.icpa-gz.org.py
SUMMARY:Freies Land | Cine de género de Alemania
DESCRIPTION:Invierno de 1992\, en algún lugar del noreste de Alemania: dos investigadores -uno del Oeste y otro del Este- deben resolver el asesinato de dos chicas; un thriller con sentido histórico.\n\n\n.\nEn el marco de Cine de género de Alemania\n\n\nSubtítulos en español / alemán\n\n\nHasta domingo 30 de abril de 2023\n.\n\n\nhttps://genrekino.goethe-on-demand.de/movies/freies-land\n\n.\nGoethe on Demand es una plataforma del Goethe-Institut
URL:https://www.icpa-gz.org.py/evento/freies-land/
LOCATION:GOETHE ON DEMAND
CATEGORIES:Goethe on Demand
ATTACH;FMTTYPE=image/jpeg:https://www.icpa-gz.org.py/wp-content/uploads/2023/04/WhatsApp-Image-2023-04-04-at-14.24.48.jpeg
END:VEVENT
BEGIN:VEVENT
DTSTART;VALUE=DATE:20230425
DTEND;VALUE=DATE:20230601
DTSTAMP:20260424T202021
CREATED:20230425T233926Z
LAST-MODIFIED:20230426T165206Z
UID:9934-1682380800-1685577599@www.icpa-gz.org.py
SUMMARY:Becas para Las Aguadas | Residencia de Arte
DESCRIPTION:***English version see below***\n\n\n \n\n\nContamos con 2 becas para Las Aguadas | Residencia de Arte! \n\n\nLa residencia cuenta con 2 becas que cubrirán los gastos de estadía para 1 artista visual y 1 artista escénicx. Las becas exoneran a estxs 2 participantes de los costos de la residencia. No cubre viáticos y expensas personales.\n\n\n \n\n\nFechas de la residencia: julio & septiembre de 2023\n\n\nConvocatoria abierta hasta el miércoles 31 de mayo de 2023\n\n\n \n\n\n+ Info | www.lasaguadas.com\n\n\n_______\n\n\n \n\n\nWe have 2 scholarships for Las Aguadas Artist-in-Residence! \n\n\n \n\n\nWe are able to offer to scholarships that cover the Residence’s costs for 1\n\n\na visual artist and a performing artist. This exonerates the two selected artists from paying the Residence fees. It does not include travel costs and personal expenses.\n\n\n \n\n\nResidence dates: July & September 2023\n\n\nApply by May 31st!\n\n\n \n\n\n+ Info | www.lasaguadas.com\n\n_______\n\nEn colaboración con\n\n@artesedele | IG\n\n\n@red.gris | IG\n\n\n@Espacio E
URL:https://www.icpa-gz.org.py/evento/becas-para-las-aguadas-residencia-de-arte/
LOCATION:Instituto Cultural Paraguayo-Alemán – Goethe-Zentrum | ICPA-GZ\, Juan de Salazar 310 c/ Artigas_\, Asuncion\, 3500\, Paraguay
CATEGORIES:Arte,Beca,Convocatoria
ATTACH;FMTTYPE=image/jpeg:https://www.icpa-gz.org.py/wp-content/uploads/2023/04/WhatsApp-Image-2023-04-25-at-17.20.08.jpeg
END:VEVENT
BEGIN:VEVENT
DTSTART;TZID=America/Sao_Paulo:20230428T000000
DTEND;TZID=America/Sao_Paulo:20230605T183000
DTSTAMP:20260424T202021
CREATED:20230404T184053Z
LAST-MODIFIED:20230605T155659Z
UID:9777-1682640000-1685989800@www.icpa-gz.org.py
SUMMARY:Inscripción para los exámenes internacionales | Junio de 2023
DESCRIPTION:Para más información \n+595 983 307 150 | WhatsApp\n+595 (021) 22 44 55 | Teléfono\ninformacion@icpa-gz.org.py\nhttps://icpa-gz.org.py/examenes-internacionales/
URL:https://www.icpa-gz.org.py/evento/examenes-internacionales-junio-2023/
LOCATION:Instituto Cultural Paraguayo-Alemán – Goethe-Zentrum | ICPA-GZ\, Juan de Salazar 310 c/ Artigas_\, Asuncion\, 3500\, Paraguay
CATEGORIES:Exámenes internacionales
ATTACH;FMTTYPE=image/png:https://www.icpa-gz.org.py/wp-content/uploads/2022/12/0623.png
END:VEVENT
BEGIN:VEVENT
DTSTART;TZID=America/Sao_Paulo:20230429T160000
DTEND;TZID=America/Sao_Paulo:20230429T190000
DTSTAMP:20260424T202021
CREATED:20230428T163404Z
LAST-MODIFIED:20230428T170605Z
UID:9949-1682784000-1682794800@www.icpa-gz.org.py
SUMMARY:Proyección de los cortometrajes & Charla con Nancy Camaldo
DESCRIPTION:Proyección de los cortometrajes\n+ Charla con la directora Nancy Camaldo: la busqueda de una voz propia en el cine \nSábado 29 | 16:00 hs.\nSalón Rolando Rasmussen | ICPA-GZ\nInscripción previa | https://bit.ly/Charla_NancyCamaldo \n_______ \nEn colaboración con\nPop Up Film Residency\nAcademia de Artes y Ciencias Cinematográficas del Paraguay\nColumbia University
URL:https://www.icpa-gz.org.py/evento/proyeccion-de-los-cortometrajes-charla-con-nancy-camaldo/
LOCATION:Salón Rolando Rasmussen del Instituto Cultural Paraguayo-Alemán – Goethe-Zentrum | ICPA-GZ\, Juan de Salazar 310 c/ Artigas Barrio Ricardo Brugada\, Asunción\, Distrito Capital\, Paraguay
CATEGORIES:Charla,Cine
ATTACH;FMTTYPE=image/jpeg:https://www.icpa-gz.org.py/wp-content/uploads/2023/04/WhatsApp-Image-2023-04-27-at-20.16.50.jpeg
END:VEVENT
END:VCALENDAR