BEGIN:VCALENDAR
VERSION:2.0
PRODID:-//Instituto Cultural Paraguayo Alemán – Goethe-Zentrum - ECPv6.15.20//NONSGML v1.0//EN
CALSCALE:GREGORIAN
METHOD:PUBLISH
X-ORIGINAL-URL:https://www.icpa-gz.org.py
X-WR-CALDESC:Eventos para Instituto Cultural Paraguayo Alemán – Goethe-Zentrum
REFRESH-INTERVAL;VALUE=DURATION:PT1H
X-Robots-Tag:noindex
X-PUBLISHED-TTL:PT1H
BEGIN:VTIMEZONE
TZID:America/Sao_Paulo
BEGIN:STANDARD
TZOFFSETFROM:-0300
TZOFFSETTO:-0300
TZNAME:-03
DTSTART:20200101T000000
END:STANDARD
END:VTIMEZONE
BEGIN:VEVENT
DTSTART;TZID=America/Sao_Paulo:20211024T080000
DTEND;TZID=America/Sao_Paulo:20211215T170000
DTSTAMP:20260423T210922
CREATED:20211218T113029Z
LAST-MODIFIED:20211109T191814Z
UID:2765-1635062400-1639587600@www.icpa-gz.org.py
SUMMARY:CALLE CULTURA 2021 | LA CALLE COMO ESPACIO CULTURAL Y RECREATIVO
DESCRIPTION:Programación de la Calle Cultura 2021 \n 
URL:https://www.icpa-gz.org.py/evento/calle-cultura-2021/
ATTACH;FMTTYPE=image/png:https://www.icpa-gz.org.py/wp-content/uploads/2021/09/Calle-Cultura-2021.png
END:VEVENT
BEGIN:VEVENT
DTSTART;VALUE=DATE:20211123
DTEND;VALUE=DATE:20211217
DTSTAMP:20260423T210922
CREATED:20211123T142651Z
LAST-MODIFIED:20211210T182552Z
UID:3677-1637625600-1639699199@www.icpa-gz.org.py
SUMMARY:Convocatoria: Juntos hagamos más bello el patio del ICPA-GZ
DESCRIPTION:HASTA EL 16/ 12 EXTENDEMOS LA CONVOCATORIA: \nEl Instituto Cultural Paraguayo-Alemán – Goethe-Zentrum presenta la convocatoria “Juntos hagamos más bello el patio del ICPA”. Las ideas y propuestas deben corresponder específicamente a acciones o situaciones aplicables para embellecer el patio de la institución  [leer más | pdf]
URL:https://www.icpa-gz.org.py/evento/convocatoria-juntos-hagamos-mas-bello-el-patio-del-icpa-gz/
LOCATION:Instituto Cultural Paraguayo-Alemán – Goethe-Zentrum | ICPA-GZ\, Juan de Salazar 310 c/ Artigas_\, Asuncion\, 3500\, Paraguay
ATTACH;FMTTYPE=image/png:https://www.icpa-gz.org.py/wp-content/uploads/2021/11/ICPA_Patio-1.png
END:VEVENT
BEGIN:VEVENT
DTSTART;TZID=America/Sao_Paulo:20211125T190000
DTEND;TZID=America/Sao_Paulo:20211204T183000
DTSTAMP:20260423T210922
CREATED:20211018T151029Z
LAST-MODIFIED:20211123T143331Z
UID:3073-1637866800-1638642600@www.icpa-gz.org.py
SUMMARY:La República de los Sueños: una experiencia multisensorial | Instalación
DESCRIPTION:INSTALACIÓN INMERSIVA SOBRE TEXTOS DE BRUNO SCHULZ\nEstreno sudamericano presentado por el Goethe-Institut en coproducción con el Festival Internacional de Literatura Filba. \nLa República de los Sueños (The Republic of Dreams) es un proyecto de exploración multimedia de la obra de Bruno Schulz: textos cargados de imágenes simbólicas y metafóricas que se mueven en la frontera entre  la vigilia y el sueño. La República de los Sueños es una instalación inmersiva que lleva a las y los visitantes a un viaje a través del universo literario de Schulz. \nBruno Schulz fue un escritor\, pintor y artista visual polaco de origenjudío\, asesinado por los nazis en su ciudad natal de Drohóbych (en la actual Ucrania) en 1942. Sus obras desafían las interpretaciones unívocas: están llenas de metáforas\, escenas grotescas e ilusiones fantásticas. Mika Johnson\, creador de la instalación\, explica: “Schulz puede ser un excelente guía a través de nuestros propios sueños y recuerdos de la infancia. El escritor nos recuerda que la fantasía es una esfera sin límites y que soñar o sumergirse en los vastos mundos de la imaginación puede no solo ser un consuelo sino también un placentero viaje”. \nLa instalación se compone de elementos audiovisuales\, ilustraciones\, piezas acústicas o musicales y fragmentos recitados de la obra de Bruno Schulz. Invita al público a sumergirse en un mundo de fantasía y ensueño. \nLa República de los Sueños fue producida originalmente por el Adam-Mickiewicz-Institut y el Goethe-Institut Varsovia. Su realización estuvo a cargo de un grupo internacional de artistas bajo la dirección de Mika Johnson. El proyecto incluye obras acústicas de Jackson Bierfeldt y Eli Stine\, gráficas de Marta Lissowska\,y \, un video 3D de Jakub Krejčí. El sitio web republicofdreams.online fue realizado por Dávid Lipkovič; la asistencia de producción estuvo a cargo de Ján Tompkins. \nEl Goethe-Institut Buenos Aires y el Goethe-Zentrum Asunción trabajaron junto a los creadores de La República de los Sueños en una adaptación de la instalación al castellano. Con traducción de Eleonora González Capria y la voz de la actriz Wendy Rosas\, La República de los Sueños tendrá así su estreno sudamericano con coproducción con el Festival Internacional de Literatura Filba. \nPuede visitar la instalación sin necesidad de registrarse previamente. La entrada es por horas durante nuestro horario de apertura. \n\nENLACES SOBRE EL TEMA\n\nThe Republic of Dreams (en inglés)\nTaller con Mika Johnson\n\n\nSOCIOS
URL:https://www.icpa-gz.org.py/evento/la-republica-de-los-suenos-una-experiencia-multisensorial/
LOCATION:Instituto Cultural Paraguayo-Alemán – Goethe-Zentrum | ICPA-GZ\, Juan de Salazar 310 c/ Artigas_\, Asuncion\, 3500\, Paraguay
ATTACH;FMTTYPE=image/jpeg:https://www.icpa-gz.org.py/wp-content/uploads/2021/10/242941088_4546271835449738_267607699948785694_n-1.jpg
END:VEVENT
BEGIN:VEVENT
DTSTART;VALUE=DATE:20211129
DTEND;VALUE=DATE:20211213
DTSTAMP:20260423T210922
CREATED:20211129T193537Z
LAST-MODIFIED:20211129T193651Z
UID:3866-1638144000-1639353599@www.icpa-gz.org.py
SUMMARY:Concurso intervenciones urbanas ligeras
DESCRIPTION:📣 Vuelve la 2da. edición del CONCURSO DE INTERVENCIONES URBANAS LIGERAS (IUL)! \n🚶🏽‍♀️ CUÁL ES LA META DE ESTE AÑO?\nMejorar la caminabilidad de la calle Juan de Salazar haciéndola\, no solo más atractiva\, sino más segura para residentes y visitantes de los barrios San José/Ricardo Brugada y Las Mercedes. \n🌈 QUÉ SE PUEDE PRESENTAR ESTE AÑO?\nPropuestas artísticas para las franjas peatonales de 6 cruces ya identificados. \n👉🏼 IMPULSAN\nEl Granel y OCA\, en el marco de Callecultura 2021 \nℹ️  MÁS INFO
URL:https://www.icpa-gz.org.py/evento/concurso-intervenciones-urbanas-ligeras/
ATTACH;FMTTYPE=image/jpeg:https://www.icpa-gz.org.py/wp-content/uploads/2021/11/WhatsApp-Image-2021-11-29-at-12.48.07.jpeg
END:VEVENT
BEGIN:VEVENT
DTSTART;TZID=America/Sao_Paulo:20211203T210000
DTEND;TZID=America/Sao_Paulo:20211203T230000
DTSTAMP:20260423T210922
CREATED:20211201T182956Z
LAST-MODIFIED:20211201T182956Z
UID:3892-1638565200-1638572400@www.icpa-gz.org.py
SUMMARY:de una luz
DESCRIPTION:Espectáculo íntimo | Laboratorio aéreo \nHaga una reserva con su nombre y sus datos del contacto | 0991 937 416. Por favor\, trajeran fotos o en mano su carnet de vacunación realizada. \nMetodos de pago \n\nEfectivo en el local de Nhimu (25 de mayo 1087 casi Brasil)\, de lunes a viernes de 10 a 17 hs.\nBANCO VISIÓN\nCUENTA CORRIENTE\nSELVA FOX\nCIN 1.760.494\nNRO DE CUENTA\n900490206\nGIRO TIGO AL 0984977358\n\nEl lugar esta asegurado una vez que abonen la entrada y que envíen los datos. \nLa muestra inicia a las 21 hs. Recomendamos llegar al menos 10 min antes.\nUna vez iniciado el espectáculo ya no se podrá acceder a la sala.\nEntradas limitadas.
URL:https://www.icpa-gz.org.py/evento/de-una-luz/
ATTACH;FMTTYPE=image/jpeg:https://www.icpa-gz.org.py/wp-content/uploads/2021/12/WhatsApp-Image-2021-12-01-at-13.56.51.jpeg
END:VEVENT
END:VCALENDAR