BEGIN:VCALENDAR
VERSION:2.0
PRODID:-//Instituto Cultural Paraguayo Alemán – Goethe-Zentrum - ECPv6.15.20//NONSGML v1.0//EN
CALSCALE:GREGORIAN
METHOD:PUBLISH
X-WR-CALNAME:Instituto Cultural Paraguayo Alemán – Goethe-Zentrum
X-ORIGINAL-URL:https://www.icpa-gz.org.py
X-WR-CALDESC:Eventos para Instituto Cultural Paraguayo Alemán – Goethe-Zentrum
REFRESH-INTERVAL;VALUE=DURATION:PT1H
X-Robots-Tag:noindex
X-PUBLISHED-TTL:PT1H
BEGIN:VTIMEZONE
TZID:America/Sao_Paulo
BEGIN:STANDARD
TZOFFSETFROM:-0300
TZOFFSETTO:-0300
TZNAME:-03
DTSTART:20200101T000000
END:STANDARD
END:VTIMEZONE
BEGIN:VEVENT
DTSTART;TZID=America/Sao_Paulo:20211024T080000
DTEND;TZID=America/Sao_Paulo:20211215T170000
DTSTAMP:20260423T210547
CREATED:20211218T113029Z
LAST-MODIFIED:20211109T191814Z
UID:2765-1635062400-1639587600@www.icpa-gz.org.py
SUMMARY:CALLE CULTURA 2021 | LA CALLE COMO ESPACIO CULTURAL Y RECREATIVO
DESCRIPTION:Programación de la Calle Cultura 2021 \n 
URL:https://www.icpa-gz.org.py/evento/calle-cultura-2021/
ATTACH;FMTTYPE=image/png:https://www.icpa-gz.org.py/wp-content/uploads/2021/09/Calle-Cultura-2021.png
END:VEVENT
BEGIN:VEVENT
DTSTART;TZID=America/Sao_Paulo:20211101T000000
DTEND;TZID=America/Sao_Paulo:20211127T180000
DTSTAMP:20260423T210547
CREATED:20211029T161938Z
LAST-MODIFIED:20211109T193129Z
UID:3313-1635724800-1638036000@www.icpa-gz.org.py
SUMMARY:HAUS-KINO NOVIEMBRE | Rupturas
DESCRIPTION:HAUS-KINO NOVIEMBRE | Rupturas\nEn noviembre\, bajo la temática “Rupturas”\, Haus-Kino presenta dos films rodados por mujeres estudiantes de cine que se centran en temas álgidos como la decisión de terminar o no un embarazo con diagnóstico de discapacidad severa y la violencia de género. 24 semanas de Anne Zohra Berrached (2016) lo hace desde la ficción y The Case You (Alison Kuhn\, 2020)\, a partir de una mirada documental. \n  \n\n24 SEMANAS\nde Anne Zohra Berrached | 2016 | 103 min | disponible de martes 09 | 19 horas al viernes 12 | 19 horas | ver >> \nTHE CASE YOU\nde Alison Kuhn | 2020 | 80 min | disponible de martes 23 | 19 horas al viernes 26 | 19 horas | ver >> \nCINEASTAS EN DIÁLOGO\nAnne Zohra Berrached y Alison Kuhn en diálogo con Lucía Sapena\nsábado 27 | 16 horas\nCon traducción simultánea\nEvento por Zoom | con inscripción previa | inscripción >> \n 
URL:https://www.icpa-gz.org.py/evento/haus-kino-noviembre-rupturas/
LOCATION:Instituto Cultural Paraguayo-Alemán – Goethe-Zentrum | ICPA-GZ\, Juan de Salazar 310 c/ Artigas_\, Asuncion\, 3500\, Paraguay
ATTACH;FMTTYPE=image/png:https://www.icpa-gz.org.py/wp-content/uploads/2021/10/imagen_2021-10-29_131713.png
END:VEVENT
BEGIN:VEVENT
DTSTART;TZID=America/Sao_Paulo:20211101T000000
DTEND;TZID=America/Sao_Paulo:20211130T163000
DTSTAMP:20260423T210547
CREATED:20211001T212054Z
LAST-MODIFIED:20211104T143826Z
UID:2933-1635724800-1638289800@www.icpa-gz.org.py
SUMMARY:Taller de bordado
DESCRIPTION:Talleres en la Biblioteca – Die Bibliothekswerkstatt  \nPorque una biblioteca no es solo un espacio para leer\, sino también para encontrarse\, aprender\, crear y experimentar\, iniciamos una serie de talleres en la biblioteca Ulrich Schmidl del ICPA – GZ. \nEste mes de noviembre\, la artista Xiomara dirigirá un taller de bordado los días martes y jueves de 15:00 a 16:30 h. \nAcceso libre & gratuito. Inscripciones al número +595 983 307 150. \nCupos limitados. Cada participante debe traer sus propios materiales de trabajo
URL:https://www.icpa-gz.org.py/evento/talleres-en-la-biblioteca-die-bibliothekswerkstatt/
LOCATION:Instituto Cultural Paraguayo-Alemán – Goethe-Zentrum | ICPA-GZ\, Juan de Salazar 310 c/ Artigas_\, Asuncion\, 3500\, Paraguay
ATTACH;FMTTYPE=image/png:https://www.icpa-gz.org.py/wp-content/uploads/2021/10/imagen_2021-11-01_160603.png
END:VEVENT
BEGIN:VEVENT
DTSTART;TZID=America/Sao_Paulo:20211111T200000
DTEND;TZID=America/Sao_Paulo:20211124T190000
DTSTAMP:20260423T210547
CREATED:20211109T161546Z
LAST-MODIFIED:20211123T144411Z
UID:3526-1636660800-1637780400@www.icpa-gz.org.py
SUMMARY:Salón de Acuarela | Homenaje al Maestro Don Luís Toranzos
DESCRIPTION:Salón de Acuarela | Homenaje al Maestro Don Luís Toranzos \nEl Salón de Acuarela es una actividad que reúne a amantes de esta técnica exquisita\, considerada la mas difícil de todas. El Instituto Cultural Paraguayo Alemán acompaña esta que es la segunda edición\, a partir de la cual los organizadores\, el colectivo Medium Aquae ha decidido rendir homenaje a nuestros grandes maestros de la técnica. \nEn esta ocasión será el recordado y muy querido Luís Toranzos. Un acuarelista minucioso\, meticuloso\, creador de obras que integran importantes colecciones. De formación autodidacta expuso en las principales galerías de nuestro medio\, como la Casona Sepia\, Arte-Sanos\, Casa Taller\, Fábrica\, museos\, centros culturales\, etc. Representó a nuestro país en la Bienal de Sao Paulo. Sus temas retratan tanto nuestra capital como ciudades y pueblos del interior con elevada calidad representacional. \nEs así que son testimonio el de nuestros hábitos y costumbres\, poniendo singular atención en lo social. \nEl personal tratamiento de estos temas\, con una mirada tan curiosa como aguda\, nos invita a profundizar más allá de la simple imagen\, en la descripción rotunda de nuestra identidad. El Salón de Acuarela 2021 reúne a 40 acuarelistas de nuestro medio\, combinando expositores de vasta trayectoria y reconocimiento como a excelentes artistas emergentes. Esta es una oportunidad excelente para ver el desarrollo de nuestras artes visuales en una exposición que abarca diversos temas y tendencias\, desde lo clásico a lo contemporáneo \nInauguración | el jueves 11 de noviembre de 2021 a las 20:00 h \nLa muestra puede visitarse de lunes a viernes de 09:00 h a 19:00 h y los sábados de 09:00 h a 12:00 h hasta el miüercoles 24 de noviembre de 2021 a las 19:00 h. \nEn el auditorio del ICPA-GZ \n+Info: Salón de Acuarela | pdf
URL:https://www.icpa-gz.org.py/evento/salon-de-acuarela-homenaje-al-maestro-don-luis-toranzos/
LOCATION:Instituto Cultural Paraguayo-Alemán – Goethe-Zentrum | ICPA-GZ\, Juan de Salazar 310 c/ Artigas_\, Asuncion\, 3500\, Paraguay
ATTACH;FMTTYPE=image/png:https://www.icpa-gz.org.py/wp-content/uploads/2021/11/SalonAcuarela-1.png
END:VEVENT
BEGIN:VEVENT
DTSTART;VALUE=DATE:20211122
DTEND;VALUE=DATE:20211129
DTSTAMP:20260423T210547
CREATED:20211123T174826Z
LAST-MODIFIED:20211123T205623Z
UID:3701-1637539200-1638143999@www.icpa-gz.org.py
SUMMARY:La semana del Día Internacional de la Eliminación de la Violencia contra las Mujeres
DESCRIPTION:La semana del Día Internacional de la Eliminación de la Violencia contra las Mujeres \nEsta semana conmemoramos el Día Internacional de la Eliminación de la Violencia contra las Mujeres\, desde el Instituto Cultural Paraguayo-Alemán  – Goethe Zentrum y en camino al 25 N recordamos el podcast “El siglo de las mujeres” (@elsiglodelasmujeres). Una serie de conversaciones sobre la actualidad de las mujeres en Paraguay\, en donde convocamos a las principales referentes de diferentes sectores como la Política\, Cultura\, Artes\, Sociedad y otros\, para dialogar sobre los principales desafíos de la actualidad\, en un momento en el que encontrarnos y compartir nuestras experiencias nos fortalece y nos anima a seguir adelante. \n  \nEpisodio 1 | Luchas históricas de las mujeres en el Paraguay\nPor Gabriela Schvartzman Muñoz. Docente\, Politóloga\, Activista Social y Feminista. \nLos inicios\, un recorrido por la historia de las mujeres en Paraguay. \n#Ivoox: bit.ly/DWE_25N-IV_Ep12\n#Anchor: bit.ly/DWE_25N-An_Ep12\n#Spotify: bit.ly/DWE_25N-Sp_Ep12 \n  \nEpisodio 2 | Ollas Populares: El efecto expansivo de la solidaridad colectiva \nPor Cira Novara. Sicóloga\, Educadora. Integrante del colectivo de educación popular de america latina y el Caribe CEAAL. Coordinadora de las Ollas Populares del Bañado Sur \nLas crisis pueden ser oportunidades en las que a pesar de las adversidades podemos aprender y tomar consciencia de nuestras capacidades\, de organizarnos\, de ser creativas y revalorizarnos. Las ollas populares solidarias del Bañado Sur de Asunción se articularon a partir de la pandemia\, y hasta la fecha sus acciones son fundamentales para garantizar la alimentación de miles de personas y ofrecer alternativas sobre otras áreas\, en las que la respuesta del Estado es insuficiente.\nMiles de mujeres están en primera línea\, gestionando recursos\, brindando servicios y atendiendo las necesidades básicas de tantas personas. En la práctica\, la salida a nuestros problemas no es un camino individual\, sino la suma del trabajo y el esfuerzo común\, la formación y articulación de redes\, y la socialización equitativa de los recursos. \n#Ivoox: bit.ly/DWE_25N-Sp_Ep13\n#Anchor: bit.ly/DWE_25N-An_Ep13\n#Spotify: bit.ly/DWE_25N-Sp_Ep13\n \n  \nEpisodio 3 | Salud Mental. Que lo urgente no desplace lo importante\nPor Paola Kohler. Sicóloga Clínica\, Terapeuta familiar\, Integrante del Espacio Juliana y la Red Feminista de Salud Mental \nLa perspectiva de género continúa pendiente en materia de salud mental en nuestro país\, su ausencia hace posible que se sigan vulnerando derechos\, especialmente los de las mujeres. \nHoy más que nunca es necesario y urgente el abordaje de la salud mental observando y entendiendo las relaciones de poder y la diversidad\, asi como también reconocer los efectos generados desde una cultura patriarcal dominante\, necesitamos nombrar y frenar los abusos\, y saber que no estamos solas. \nEn este sentido\, la Red Feminista de Salud mental se constituye como una alternativa y un espacio en donde las mujeres pueden ser escuchadas y acompañadas en sus historias\, desde una mirada integral. \n#Ivoox: bit.ly/DWE_25N-IV_Ep14\n#Anchor: bit.ly/DWE_25N-An_Ep14\n#Spotify: bit.ly/DWE_25N-Sp_Ep14\n \n  \nEpisodio 4 | Consultorio Jurídico Feminista. El acompañamiento legal desde un espacio seguro\nPor María José Durán. Abogada. \nHistóricamente las mujeres hemos encontrado un montón trabas y dificultades al momento de acceder a una justicia equitativa\, en muchos casos la misma no garantiza un abordaje responsable\, seguro\, y libre de discriminación.\nEs necesario replantear las ciencias a partir de una visión más humana y sobre todo\, con una mirada que identifique y contemple las necesidades y demandas más urgentes de las mujeres.\nEl Consultorio Jurídico Feminista surge a raíz de la necesidad de contar con una mirada más humana y empática al momento de realizar un acompañamiento legal\, desde un abordaje interdisciplinario que aporte la información necesaria para entender cada realidad. \n#Ivoox: bit.ly/DWE_25N-Iv_Ep15\n#Anchor: bit.ly/DWE_25N-An_Ep15\n#Spotify: bit.ly/DWE_25N-Sp_Ep15\n \n  \nEpisodio 5 | Cine\, teatro y escritura como expresiones artísticas. El desafío de analizar y construir nuevas miradas\nPor Ana Ivanova. Actriz. \nHablar del escenario cultural desde una postura crítica y con perspectiva de género\, explorar las maneras de ser mujer en diferentes ramas del arte\, identificar las dificultades que existen en nuestro país y buscar las vías para trascenderlas\, son ejercicios complejos pero necesarios\nLa perspectiva de género es una posición que nos permite reconocer las prácticas discursivas que naturalizan y fomentan las desigualdades para mujeres y hombres.\nDe ahí la importancia de un abordaje que vincule políticas y actores culturales\, para frenar la reproducción y las desigualdades que se disputan en los diferentes espacios de poder\, romper con ese imaginario construido con muchos estigmas sobre la mujer\, y visibilizar los matices presentes\, explicando de qué manera estas prácticas refuerzan o no los estereotipos y la subjetividad de género.\nAna Ivanova\, nos invita a reflexionar sobre la deconstrucción de la mirada del otro\, la violencia y la censura. A cuestionarnos\, ponernos en duda y revisar aquello que nos incomoda. A buscar la manera de plantearnos una narrativa que refleje\, con toda su complejidad\, el “senti-pensar” de las mujeres. \n#Ivoox: bit.ly/DWE_25N-Iv_Ep16\n#Anchor: bit.ly/DWE_25N-An_Ep16\n#Spotify: bit.ly/DWE_25N-Sp_Ep16\n \n  \nEpisodio 6 | Publicidad: La comunicación como herramienta para construir una sociedad más inclusiva\nPOR VIOLETA ESCOBAR. Publicista\, Directora Creativa\, Docente\, Miembro del Colectivo Mujeres que Crean. \nLos problemas sobre equidad de género\, estereotipos y roles de las mujeres están instalados en todos los sectores de la sociedad\, la publicidad no está ajena a esto.\nTenemos que reconocer que tanto las marcas como las agencias de publicidad en general influyen tanto para perpetuar como para erradicar estereotipos. Los productores y consumidores podemos generar cambios positivos en este sector de una manera más proactiva e inclusiva\, aunque todavía nos queda mucho por avanzar sobre todo en el abordaje de las cuestiones de género.\nVioleta Escobar nos habla desde el colectivo “Mujeres que crean”\, donde profesionales de marketing\, publicidad\, periodismo\, psicología y comunicación en general\, coinciden en la búsqueda de generar y promover un estilo de comunicación inclusivo y consciente\, evitando el uso de contenidos de tinte sexista o denigrantes\, crear espacios de capacitación y debates\, y perseguir la igualdad y equidad salarial en el rubro\, desde la organización con miras a una sociedad más justa. \n#Ivoox: bit.ly/DWE_25N-Iv_Ep17\n#Anchor: bit.ly/DWE_25N-An_Ep17\n#Spotify: bit.ly/DWE_25N-Sp_Ep17\n \n  \nEpisodio 7 | Los Medios de Comunicación: Roles\, influencia y responsabilidad\nPor Menchi Barriocanal. Comunicadora\, Miembro de la Red Ore Kuña Ropyta \nEl manejo de información\, la dirección y la postura de los medios de comunicación sobre los temas relacionados a las mujeres\, son un reflejo de dónde estamos situados actualmente como sociedad.\nA nivel global las violencias hacia las mujeres son temas de preocupación social\, en este sentido\, los medios de comunicación dan espacio y generan percepciones y actitudes orientadas en la opinión pública. Esta visibilidad se ve condicionada\, en parte\, por la propia estructura social.\nEn este episodio la comunicadora Menchi Barriocanal reflexiona sobre el abordaje de los medios de comunicación en temas de violencia de género y violencia intrafamiliar\, y el cuidado de la niñez en el tratamiento de la información\, partiendo de su importancia y su poder para perpetuar la subordinación o jugar un rol primordial en la promoción de los derechos de la mujer\, la infancia\, u otros sectores más vulnerados.\nInequidad laboral\, sistema educativo\, creación de espacios de reflexión y diálogo\, y otras construcciones son algunas áreas donde todavía es difícil avanzar pero donde también se van delineando caminos para mejorar. \n#Ivoox: bit.ly/DWE_25N-Iv_Ep18\n#Anchor: bit.ly/DWE_25N-An_Ep18\n#Spotify: bit.ly/DWE_25N-Sp_Ep18 \n  \nMás información acerca del Goethe Institut: www.goethe.de/de/index.html
URL:https://www.icpa-gz.org.py/evento/3701/
ATTACH;FMTTYPE=image/png:https://www.icpa-gz.org.py/wp-content/uploads/2021/11/imagen_2021-10-14_170543-1024x559-1.png
END:VEVENT
END:VCALENDAR