BEGIN:VCALENDAR
VERSION:2.0
PRODID:-//Instituto Cultural Paraguayo Alemán – Goethe-Zentrum - ECPv6.15.20//NONSGML v1.0//EN
CALSCALE:GREGORIAN
METHOD:PUBLISH
X-WR-CALNAME:Instituto Cultural Paraguayo Alemán – Goethe-Zentrum
X-ORIGINAL-URL:https://www.icpa-gz.org.py
X-WR-CALDESC:Eventos para Instituto Cultural Paraguayo Alemán – Goethe-Zentrum
REFRESH-INTERVAL;VALUE=DURATION:PT1H
X-Robots-Tag:noindex
X-PUBLISHED-TTL:PT1H
BEGIN:VTIMEZONE
TZID:America/Sao_Paulo
BEGIN:STANDARD
TZOFFSETFROM:-0300
TZOFFSETTO:-0300
TZNAME:-03
DTSTART:20200101T000000
END:STANDARD
END:VTIMEZONE
BEGIN:VEVENT
DTSTART;TZID=America/Sao_Paulo:20211001T000000
DTEND;TZID=America/Sao_Paulo:20211023T180000
DTSTAMP:20260423T192211
CREATED:20210928T223409Z
LAST-MODIFIED:20210928T223508Z
UID:2905-1633046400-1635012000@www.icpa-gz.org.py
SUMMARY:HAUS-KINO OCTUBRE | DESTIERROS
DESCRIPTION:De manera radicalmente diferente\, las dos películas presentadas por Haus-Kino en octubre ponen el foco en el destierro. Encontrarse fuera del lugar familiar de origen como consecuencia de situaciones traumáticas es difícil de aceptar y en casos extremos puede significar que la vida continúa estando en peligro. \nLa ficción Exilio de Visar Morina es un inquietante drama que narra la historia de un ingeniero químico extranjero que trabaja en Alemania y se siente discriminado por sus colegas\, lo que le genera una profunda crisis de identidad. Por otro lado y desde una mirada documental\, Avería de Philip Scheffner exige gran atención y reflexión. Un bote colmado de refugiados y un crucero en el medio del mar. Al condensar el sonido y disociarlo de la imagen\, Scheffner crea un espacio de percepción muy intenso para al espectador. Un contundente golpe cinematográfico. \n  \n\nEXILIO\nde Visar Morina | 2020 | 121 min | disponible de martes 05 | 19h al viernes 08 | 19h | ver >> \nAVERÍA\nde Philip Scheffner | 2016 | 97 min | disponible de martes 21 | 19h al viernes 22 | 19h | ver >> \nCINEASTAS EN DIÁLOGO\nVisar Morina y Philip Scheffner en diálogo con Alejandra Trelles\nsabado 23 | 16 horas\nCon traducción simultánea\nEvento por Zoom | con inscripción previa | inscripción >>
URL:https://www.icpa-gz.org.py/evento/haus-kino-octubre-destierros/
ATTACH;FMTTYPE=image/png:https://www.icpa-gz.org.py/wp-content/uploads/2021/09/flyer-Destierros-gral.png
END:VEVENT
BEGIN:VEVENT
DTSTART;TZID=America/Sao_Paulo:20211019T190000
DTEND;TZID=America/Sao_Paulo:20211022T190000
DTSTAMP:20260423T192211
CREATED:20210928T221824Z
LAST-MODIFIED:20210928T221824Z
UID:2892-1634670000-1634929200@www.icpa-gz.org.py
SUMMARY:AVERÍA | HAUS-KINO OCTUBRE
DESCRIPTION:AVERÍA\nde Philip Scheffner | 2016 | 97 min | disponible de martes 21 | 19h al viernes 22 | 19h | ver >> \nDe manera radicalmente diferente\, las dos películas presentadas por Haus-Kino en octubre ponen el foco en el destierro. Encontrarse fuera del lugar familiar de origen como consecuencia de situaciones traumáticas es difícil de aceptar y en casos extremos puede significar que la vida continúa estando en peligro. \nAvería de Philip Scheffner exige gran atención y reflexión. Un bote colmado de refugiados y un crucero en el medio del mar. Al condensar el sonido y disociarlo de la imagen\, Scheffner crea un espacio de percepción muy intenso para al espectador. Un contundente golpe cinematográfico.
URL:https://www.icpa-gz.org.py/evento/averia-haus-kino-octubre/
ATTACH;FMTTYPE=image/png:https://www.icpa-gz.org.py/wp-content/uploads/2021/09/flyer-Destierros-p2-1.png
END:VEVENT
BEGIN:VEVENT
DTSTART;TZID=America/Sao_Paulo:20211020T190000
DTEND;TZID=America/Sao_Paulo:20211020T210000
DTSTAMP:20260423T192211
CREATED:20211019T144505Z
LAST-MODIFIED:20211019T151447Z
UID:3101-1634756400-1634763600@www.icpa-gz.org.py
SUMMARY:BEUYS | la película
DESCRIPTION:En el ICPA vamos proyectar la película: “Beuys” (2017)\, es un documental dirigido por Andres Veiel.\nTreinta años después de su muerte\, Joseph Beuys sigue siendo un visionario adelantado a su tiempo. Fue el primer artista alemán que expuso en el Guggenheim de Nueva York\, mientras en su país natal su obra fue considerada “la basura más cara de todos los tiempos”.\nVer el tráiler aquí.\n\nfecha | el miércoles\, 20. de octubre de 2021\ntiempo | 19:00 horas\nlugar | ICPA-GZ\ndirección |  Juan de Salazar 310 c/ Artigas\, Barrio Ricardo Brugada\nentrada | libre & gratuito
URL:https://www.icpa-gz.org.py/evento/3101/
LOCATION:Instituto Cultural Paraguayo-Alemán – Goethe-Zentrum | ICPA-GZ\, Juan de Salazar 310 c/ Artigas_\, Asuncion\, 3500\, Paraguay
ATTACH;FMTTYPE=image/png:https://www.icpa-gz.org.py/wp-content/uploads/2021/10/imagen_2021-10-19_113312.png
END:VEVENT
END:VCALENDAR