BEGIN:VCALENDAR
VERSION:2.0
PRODID:-//Instituto Cultural Paraguayo Alemán – Goethe-Zentrum - ECPv6.15.20//NONSGML v1.0//EN
CALSCALE:GREGORIAN
METHOD:PUBLISH
X-ORIGINAL-URL:https://www.icpa-gz.org.py
X-WR-CALDESC:Eventos para Instituto Cultural Paraguayo Alemán – Goethe-Zentrum
REFRESH-INTERVAL;VALUE=DURATION:PT1H
X-Robots-Tag:noindex
X-PUBLISHED-TTL:PT1H
BEGIN:VTIMEZONE
TZID:America/Sao_Paulo
BEGIN:STANDARD
TZOFFSETFROM:-0300
TZOFFSETTO:-0300
TZNAME:-03
DTSTART:20200101T000000
END:STANDARD
END:VTIMEZONE
BEGIN:VEVENT
DTSTART;TZID=America/Sao_Paulo:20210923T080000
DTEND;TZID=America/Sao_Paulo:20211010T233000
DTSTAMP:20260423T155814
CREATED:20210923T221636Z
LAST-MODIFIED:20210923T221723Z
UID:2782-1632384000-1633908600@www.icpa-gz.org.py
SUMMARY:SEMANA ALEMANA 2021
DESCRIPTION:Se acerca la “Semana Alemana” con cine\, música\, charlas y más \nLa Embajada de Alemania y el Instituto Cultural Paraguayo-Alemán invitan a participar de la tercera edición de la Semana Alemana del 3 al 10 de octubre. En el marco de los festejos por el Día de la Unidad Alemana se preparó una variada programación con diferentes propuestas de cine\, música\, charlas y otras actividades para la familia en formato presencial y virtual. Las actividades serán de acceso gratuito. \nProgramación Semana Alemana | Deutsche Woche 2021
URL:https://www.icpa-gz.org.py/evento/semana-alemana-2021/
ATTACH;FMTTYPE=image/png:https://www.icpa-gz.org.py/wp-content/uploads/2021/09/SemanaAlemana_DeutscheWoche_2021.png
END:VEVENT
BEGIN:VEVENT
DTSTART;TZID=America/Sao_Paulo:20211001T000000
DTEND;TZID=America/Sao_Paulo:20211023T180000
DTSTAMP:20260423T155814
CREATED:20210928T223409Z
LAST-MODIFIED:20210928T223508Z
UID:2905-1633046400-1635012000@www.icpa-gz.org.py
SUMMARY:HAUS-KINO OCTUBRE | DESTIERROS
DESCRIPTION:De manera radicalmente diferente\, las dos películas presentadas por Haus-Kino en octubre ponen el foco en el destierro. Encontrarse fuera del lugar familiar de origen como consecuencia de situaciones traumáticas es difícil de aceptar y en casos extremos puede significar que la vida continúa estando en peligro. \nLa ficción Exilio de Visar Morina es un inquietante drama que narra la historia de un ingeniero químico extranjero que trabaja en Alemania y se siente discriminado por sus colegas\, lo que le genera una profunda crisis de identidad. Por otro lado y desde una mirada documental\, Avería de Philip Scheffner exige gran atención y reflexión. Un bote colmado de refugiados y un crucero en el medio del mar. Al condensar el sonido y disociarlo de la imagen\, Scheffner crea un espacio de percepción muy intenso para al espectador. Un contundente golpe cinematográfico. \n  \n\nEXILIO\nde Visar Morina | 2020 | 121 min | disponible de martes 05 | 19h al viernes 08 | 19h | ver >> \nAVERÍA\nde Philip Scheffner | 2016 | 97 min | disponible de martes 21 | 19h al viernes 22 | 19h | ver >> \nCINEASTAS EN DIÁLOGO\nVisar Morina y Philip Scheffner en diálogo con Alejandra Trelles\nsabado 23 | 16 horas\nCon traducción simultánea\nEvento por Zoom | con inscripción previa | inscripción >>
URL:https://www.icpa-gz.org.py/evento/haus-kino-octubre-destierros/
ATTACH;FMTTYPE=image/png:https://www.icpa-gz.org.py/wp-content/uploads/2021/09/flyer-Destierros-gral.png
END:VEVENT
BEGIN:VEVENT
DTSTART;TZID=America/Sao_Paulo:20211009T190000
DTEND;TZID=America/Sao_Paulo:20211009T210000
DTSTAMP:20260423T155814
CREATED:20210924T170004Z
LAST-MODIFIED:20210924T170004Z
UID:2816-1633806000-1633813200@www.icpa-gz.org.py
SUMMARY:CINE ALEMÁN EN CINEMARK | SEMANA ALEMANA 2021
DESCRIPTION:Sábado 9 de octubre | 19:00 horas – Cine alemán en Cinemark \nEl sábado 9 a las 19:00 horas en el complejo Cinemark (Paseo La Galería) se mostrará la película alemana “En los pasillos” (In den Gängen) de Thomas Stuber. El acceso es gratuito con previa inscripción escribiendo o llamando al número 0983307150 (13:00 a 19:00 horas). \nArgumento: Christian tiene un nuevo trabajo como empleado de bodega en la sección de bebidas de un hipermercado – un mundo vedado para los clientes\, que sería insoportablemente monótono si no fuera por los colegas y la esperanza de ascender a conductor de un montacargas. Y si no estuviera Marion de la sección de dulces\, de quien Christian se enamora perdidamente. Cuando se entera de que Marion es casada\, un mundo se le derrumba. Bruno\, el conductor de montacargas y su paternal amigo mayor poco puede ayudarlo – y de pronto desaparece. \n  \nProgramación Semana Alemana 2021
URL:https://www.icpa-gz.org.py/evento/cine-aleman-en-cinemark-semana-alemana-2021/
ATTACH;FMTTYPE=image/jpeg:https://www.icpa-gz.org.py/wp-content/uploads/2021/09/deutsche-woche.jpg
END:VEVENT
END:VCALENDAR