BEGIN:VCALENDAR
VERSION:2.0
PRODID:-//Instituto Cultural Paraguayo Alemán – Goethe-Zentrum - ECPv6.15.20//NONSGML v1.0//EN
CALSCALE:GREGORIAN
METHOD:PUBLISH
X-WR-CALNAME:Instituto Cultural Paraguayo Alemán – Goethe-Zentrum
X-ORIGINAL-URL:https://www.icpa-gz.org.py
X-WR-CALDESC:Eventos para Instituto Cultural Paraguayo Alemán – Goethe-Zentrum
REFRESH-INTERVAL;VALUE=DURATION:PT1H
X-Robots-Tag:noindex
X-PUBLISHED-TTL:PT1H
BEGIN:VTIMEZONE
TZID:America/Sao_Paulo
BEGIN:STANDARD
TZOFFSETFROM:-0300
TZOFFSETTO:-0300
TZNAME:-03
DTSTART:20200101T000000
END:STANDARD
END:VTIMEZONE
BEGIN:VEVENT
DTSTART;TZID=America/Sao_Paulo:20210826T080000
DTEND;TZID=America/Sao_Paulo:20210926T170000
DTSTAMP:20260424T004323
CREATED:20210826T185314Z
LAST-MODIFIED:20210831T192940Z
UID:2695-1629964800-1632675600@www.icpa-gz.org.py
SUMMARY:HAUS-KINO SEPTIEMBRE: MASCULINIDADES
DESCRIPTION:En septiembre Haus-Kino programa dos films muy potentes sobre el devenir de la masculinidad. Desde la ficción\, David Nawrath presenta Atlas (2017)\, la historia de un hombre con una de las profesiones más ingratas\, el desalojo de las personas desahuciadas. Cuando en uno de estos desalojos se encuentra con su hijo\, deberá confrontarse no solo con las presiones de su jefe\, sino con su propio pasado. \nY\, en formato de documental híbrido\, una interesantísima propuesta de Rosa von Praunheim\, Amistades masculinas (Männerfreundschaften\, 2018)\, que parte de la hipótesis de la homosexualidad del más notable de los escritores alemanes\, Johann Wolfgang von Goethe\, a la vez que investiga la posibilidad de una relación romántica con el célebre poeta Friedrich Schiller. Von Praunheim se sirve de su extensa investigación para\, a través de reconstrucciones históricas\, proponer una relectura de la cultura clásica alemana. \nATLAS\nDISPONIBLE DEL MARTES 7 | 18h AL VIERNES 10 | 18h \nAMISTADES MASCULINAS\nDISPONIBLE DEL MARTES 21 | 18h AL VIERNES 24 | 18h \nCINEASTAS EN DIÁLOGO\nRosa von Praunheim y David Nawrath en diálogo con María José Santacreu\nSABADO 25 | Paraguay 15h\nCon traducción simultánea\nEvento por Zoom\, con inscripción previa (INSCRIPCÍON) \n  \nVer las películas >> HAUS-KINO
URL:https://www.icpa-gz.org.py/evento/haus-kino-septiembre-masculinidades/
ATTACH;FMTTYPE=image/png:https://www.icpa-gz.org.py/wp-content/uploads/2021/08/flyer-Masculinidades-gral-py-4.png
END:VEVENT
END:VCALENDAR