BEGIN:VCALENDAR
VERSION:2.0
PRODID:-//Instituto Cultural Paraguayo Alemán – Goethe-Zentrum - ECPv6.15.20//NONSGML v1.0//EN
CALSCALE:GREGORIAN
METHOD:PUBLISH
X-ORIGINAL-URL:https://www.icpa-gz.org.py
X-WR-CALDESC:Eventos para Instituto Cultural Paraguayo Alemán – Goethe-Zentrum
REFRESH-INTERVAL;VALUE=DURATION:PT1H
X-Robots-Tag:noindex
X-PUBLISHED-TTL:PT1H
BEGIN:VTIMEZONE
TZID:America/Sao_Paulo
BEGIN:STANDARD
TZOFFSETFROM:-0300
TZOFFSETTO:-0300
TZNAME:-03
DTSTART:20200101T000000
END:STANDARD
END:VTIMEZONE
BEGIN:VEVENT
DTSTART;TZID=America/Sao_Paulo:20210801T080000
DTEND;TZID=America/Sao_Paulo:20210825T170000
DTSTAMP:20260424T041309
CREATED:20210802T194531Z
LAST-MODIFIED:20210826T184833Z
UID:2233-1627804800-1629910800@www.icpa-gz.org.py
SUMMARY:HAUS-KINO AGOSTO: LAZOS DE FAMILIA
DESCRIPTION:En agosto Haus-Kino presenta una ficción y un documental que indagan en la búsqueda del lugar llamado “Heimat” en alemán\, que incluye al mismo tiempo los conceptos de un sitio de pertenencia\, el país de origen\, la patria o “un espacio en el tiempo”. \nEl clásico Malou (1980/81) de la cineaste Jeanine Meerapfel sigue los pasos de la joven Hannah. Para encontrarse a sí misma\, la protagonista desanda el camino recorrido por su madre Malou\, quien resolvió dejar todo para seguir a un hombre a Argentina. \nEn la obra maestra Heimat es un espacio en el tiempo (2019)\, el documentalista Thomas Heise lleva al espectador a recorrer un siglo de la historia alemana mediante registros personales de sus familiares a lo largo de cuatro generaciones. \nVer las películas >> HAUS-KINO \n 
URL:https://www.icpa-gz.org.py/evento/agosto-lazos-de-familia/
LOCATION:Instituto Cultural Paraguayo-Alemán – Goethe-Zentrum | ICPA-GZ\, Juan de Salazar 310 c/ Artigas_\, Asuncion\, 3500\, Paraguay
ATTACH;FMTTYPE=image/png:https://www.icpa-gz.org.py/wp-content/uploads/2021/08/Agosto-Haus-Kino.png
END:VEVENT
BEGIN:VEVENT
DTSTART;VALUE=DATE:20210811
DTEND;VALUE=DATE:20210902
DTSTAMP:20260424T041309
CREATED:20210607T053903Z
LAST-MODIFIED:20210902T165904Z
UID:1765-1628640000-1630540799@www.icpa-gz.org.py
SUMMARY:CONCURSO DE CUENTOS CORTOS “SOPHIE SCHOLL: ALZANDO NUESTRAS VOCES”
DESCRIPTION:El Instituto Cultural Paraguayo-Alemán\, con apoyo del Goethe Institut\, lanza su concurso de cuentos “Sophie Scholl: Alzando nuestras voces”. Los cuentos serán recibidos en el correo electrónico concursodecuentosicpagz@gmail.com hasta el 31 de agosto de 2021. \nSOBRE EL CONCURSO \nEn los últimos días\, se ha hecho conocido el emblemático caso del periodista Roman Protasevich\, quien\, junto con su novia\, Sofia Sapega\, ha sido detenido por el Gobierno bielorruso\, el cual lo ha calificado de «terrorista».  \n¿Por qué se lo ha calificado como tal? Por oponerse al régimen de Alexander Lukashenko y denunciarlo activamente.  \nRoman Protasevich es uno de los tantos valientes que ha decidido alzar su voz contra las injusticias; así\, sigue los pasos de otros héroes de la historia\, como la alemana Sophie Scholl. \nPero ¿quién era Sophie Scholl?  \nSophie era una niña como cualquier otra: amaba a su familia\, se esmeraba en el colegio\, y estaba muy entusiasmada con la idea de ingresar a la Liga de Muchachas Alemanas\, como todas sus compañeras de clase. \nSin embargo\, lo que inició como un infantil entusiasmo fue tornándose un agrio descontento con la situación actual de su país: ¿cómo podía ser\, se preguntaba\, que hubiese tanta injusticia\, tanta corrupción y destrucción\, toda originada desde el mismo Gobierno alemán?  \nPero Sophie no era la única: su hermano\, Hans\, y numerosos amigos suyos compartían sus ideales\, y fue así que crearon el grupo de Resistencia Rosa Blanca en la Alemania en los años 40\, decididos a hacerse oír y abrir los ojos de sus compatriotas. \nSophie\, Hans y tantos otros dieron sus vidas por sus ideales en un impresionante e imparable despliegue de coraje cívico: alzaron sus voces y lucharon contra sus opresores. \nEn un homenaje a esta valiente joven y sus compañeros\, el Instituto Cultural Paraguayo-Alemán lanza su concurso de cuentos cortos «Sophie Scholl: alzando nuestras voces». \nBases y Condiciones: \nEl Instituto Cultural Paraguayo-Alemán\, con apoyo del Goethe Institut\, lanza su concurso de cuentos “Sophie Scholl: Alzando nuestras voces”. Los cuentos serán recibidos en el correo electrónico concursodecuentosicpagz@gmail.com hasta el 31 de agosto de 2021.  \nBases & Condiciones
URL:https://www.icpa-gz.org.py/evento/concurso-de-cuentos-cortos-sophie-scholl-alzando-nuestras-voces/
LOCATION:Instituto Cultural Paraguayo-Alemán – Goethe-Zentrum | ICPA-GZ\, Juan de Salazar 310 c/ Artigas_\, Asuncion\, 3500\, Paraguay
ATTACH;FMTTYPE=image/png:https://www.icpa-gz.org.py/wp-content/uploads/2021/08/SophieScholl_Pauta.png
END:VEVENT
BEGIN:VEVENT
DTSTART;TZID=America/Sao_Paulo:20210821T150000
DTEND;TZID=America/Sao_Paulo:20210821T170000
DTSTAMP:20260424T041309
CREATED:20210802T202841Z
LAST-MODIFIED:20210802T203332Z
UID:2246-1629558000-1629565200@www.icpa-gz.org.py
SUMMARY:Haus-Kino || CINEASTAS EN DIÁLOGO
DESCRIPTION:Jeanine Meerapfel y Thomas Heise en diálogo con Fernando Juan Lima. \nTe invitamos a participar del diálogo con los realizadores de Malou y Heimat es un espacio en el tiempo. Al finalizar la charla moderada por Fernando Juan Lima\, el público tendrá la oportunidad de formular sus propias preguntas. \nSábado 21 de agosto\nArgentina 16 h / Paraguay 15 h\nCon traducción simultánea.\nEvento por Zoom\, con inscripción previa.\nINSCRIPCIÓN: INSCRIPCIÓN (google.com) \nJeanine Meerapfel nació en 1943 en Buenos Aires. Su padre\, heredero de una fábrica de tabaco alemana\, se vio obligado a emigrar por el regimen nazi a Argentina. Su figura\, el retrato de un patriarca y vividor\, nunca dejó de ocupar a Meerapfel: aparece en muchas de sus películas; en Malou es representada por Ivan Desny\, en Amigomío por Mario Adorf\, en El verano de Anna por Dimitris Katalifos. En 1964\, luego de estudiar periodismo en Buenos Aires\, Meerapfel emigró a Alemania para estudiar dirección de cine en la Escuela Pública de Diseño de Ulm (Hochschule für Gestaltung in Ulm)\, dirigida por Alexander Kluge y Edgar Reitz. Tras recibirse\, trabajó como crítica y docente de cine. Estrenó su primer largometraje Malou en 1980. Desde entonces\, ha presentado otras cuatro ficciones con La Amiga (1988)\, Amigomío (1995)\, El verano de Anna (2001) y El amigo alemán (2012). También realizó documentales como Desembarcos (1986-89)\, Quien no lucha\, no puede ganar (2007/8). En 2021 estrenará su último ensayo documental Una mujer. De 1990 hasta 2009 Meerapfel fue profesora en la Universidad de Medios en Colonia y desde 2015 es presidenta de la Academia de las Artes de Berlín. \nThomas Heise nació en 1955 en Berlín Oriental. En 1975 comenzó a trabajar como asistente de dirección en el estudio DEFA. Estudió en la Academia de Cine y Televisión de Potsdam-Babelsberg. Es profesor de Arte y Cine en la Academia de Bellas Artes de Viena. Su primera película fue el corto documental ¿Para qué una película sobre estas personas? (1980). Presentó sus películas en Buenos Aires en 2008 y en 2010 filmó Sistema solar en la comunidad kolla de Tinkunaku\, Salta. Entre sus obras más reconocidas pueden citarse los documentales Stau – Jetzt geht’s los (1992) Neustadt. (Stau – der Stand der Dinge) (2000)\, Patria (2002)\, (Negros) Con suerte (2006)\, Material (2009)\, Gegenwart (2012)\, Städtebewohner (2014) y Heimat es un espacio en el tiempo (2019). \n 
URL:https://www.icpa-gz.org.py/evento/haus-kino-cineastas-en-dialogo-3/
LOCATION:Instituto Cultural Paraguayo-Alemán – Goethe-Zentrum | ICPA-GZ\, Juan de Salazar 310 c/ Artigas_\, Asuncion\, 3500\, Paraguay
ATTACH;FMTTYPE=image/jpeg:https://www.icpa-gz.org.py/wp-content/uploads/2021/08/peli3.jpg
END:VEVENT
END:VCALENDAR