BEGIN:VCALENDAR
VERSION:2.0
PRODID:-//Instituto Cultural Paraguayo Alemán – Goethe-Zentrum - ECPv6.15.20//NONSGML v1.0//EN
CALSCALE:GREGORIAN
METHOD:PUBLISH
X-WR-CALNAME:Instituto Cultural Paraguayo Alemán – Goethe-Zentrum
X-ORIGINAL-URL:https://www.icpa-gz.org.py
X-WR-CALDESC:Eventos para Instituto Cultural Paraguayo Alemán – Goethe-Zentrum
REFRESH-INTERVAL;VALUE=DURATION:PT1H
X-Robots-Tag:noindex
X-PUBLISHED-TTL:PT1H
BEGIN:VTIMEZONE
TZID:America/Sao_Paulo
BEGIN:STANDARD
TZOFFSETFROM:-0300
TZOFFSETTO:-0300
TZNAME:-03
DTSTART:20200101T000000
END:STANDARD
END:VTIMEZONE
BEGIN:VEVENT
DTSTART;TZID=America/Sao_Paulo:20210801T080000
DTEND;TZID=America/Sao_Paulo:20210825T170000
DTSTAMP:20260424T004308
CREATED:20210802T194531Z
LAST-MODIFIED:20210826T184833Z
UID:2233-1627804800-1629910800@www.icpa-gz.org.py
SUMMARY:HAUS-KINO AGOSTO: LAZOS DE FAMILIA
DESCRIPTION:En agosto Haus-Kino presenta una ficción y un documental que indagan en la búsqueda del lugar llamado “Heimat” en alemán\, que incluye al mismo tiempo los conceptos de un sitio de pertenencia\, el país de origen\, la patria o “un espacio en el tiempo”. \nEl clásico Malou (1980/81) de la cineaste Jeanine Meerapfel sigue los pasos de la joven Hannah. Para encontrarse a sí misma\, la protagonista desanda el camino recorrido por su madre Malou\, quien resolvió dejar todo para seguir a un hombre a Argentina. \nEn la obra maestra Heimat es un espacio en el tiempo (2019)\, el documentalista Thomas Heise lleva al espectador a recorrer un siglo de la historia alemana mediante registros personales de sus familiares a lo largo de cuatro generaciones. \nVer las películas >> HAUS-KINO \n 
URL:https://www.icpa-gz.org.py/evento/agosto-lazos-de-familia/
LOCATION:Instituto Cultural Paraguayo-Alemán – Goethe-Zentrum | ICPA-GZ\, Juan de Salazar 310 c/ Artigas_\, Asuncion\, 3500\, Paraguay
ATTACH;FMTTYPE=image/png:https://www.icpa-gz.org.py/wp-content/uploads/2021/08/Agosto-Haus-Kino.png
END:VEVENT
BEGIN:VEVENT
DTSTART;TZID=America/Sao_Paulo:20210803T180000
DTEND;TZID=America/Sao_Paulo:20210803T230000
DTSTAMP:20260424T004308
CREATED:20210802T200705Z
LAST-MODIFIED:20210802T203346Z
UID:2242-1628013600-1628031600@www.icpa-gz.org.py
SUMMARY:Haus-Kino || MALOU
DESCRIPTION:DISPONIBLE SOLO EL MARTES 3 DE AGOSTO \nArgentina y Uruguay 19 a 00 h\nParaguay 18 a 23 h\nJeanine Meerapfel\, 1980/81\, 94 min.\, ficción.\nCon Ingrid Caven\, Grischa Huber\, Helmut Griem\, Ivan Desny\nCámara: Michael Ballhaus\nEdición: Dagmar Hirtz\nMúsica: Peer Raben\nVer la pelicula: Goethe on Demand — Argentinien\, Paraguay\, Uruguay – Página principal (goethe-on-demand.de) \nA Hannah\, una joven mujer casada de Berlín\, se le vuelven tan acuciantes sus problemas de identidad que decide ir a la búsqueda de su propio pasado. Abandona a su marido para buscar lugares que fueron determinantes en la vida de su madre Malou. Su primer hallazgo es la tumba en el cementerio judío; después viene el antiguo local nocturno de Estrasburgo\, donde Malou fue animadora y cantante y conoció a su futuro marido\, un comerciante judío de buena posición. Se imaginaba encontrar un hogar y dejar de ser pobre. Presionada por estos anhelos\, Malou se convirtió en una artista de la adaptación\, cambió de creencia por amor a su marido y huyó con él primero a Holanda\, para exiliarse finalmente en la Argentina\, donde el marido la abandonó por otra mujer. Hannah emprende un viaje al pasado que\, lentamente\, le permite encontrar su lugar en el mundo. \nPREMIOS\n– Premio de la la Asociación Internacional de Críticos de Cine – FIPRESCI\, Cannes 1981\n– Primer Premio “Alfonso Sánchez” y Premio de la Iglesia Católica\, San Sebastián 1981\n– Primer Premio Chicago 1981. \n  \nCRÍTICAS Y RECOMENDACIONES\n“Malou es una película que muestra emociones sin ser sentimental. Trabaja con recursos estilísticos convincentes y con actores como Ingrid Caven y Grischa Huber\, cuyos rostros\, gestos y actos quedarán en la memoria durante mucho tiempo”. ( Zitty – Anne Frederiksen\, Nr. 7/81) \n“Una película inteligente y cuidadosa acerca de una crisis que frecuentemente es negada. Aquí se vive en todas sus facetas\, porque solo de esta manera se la logra superar. Una película sobre sentimientos que no cae en la tentación del cine sentimental: es muy fácil y a la vez erróneo hacer pasar todo por el corazón. Pareciera haber una influencia de John Cassavetes: una comparación de alto rango que señala cercanía\, una cercanía simpática”. (Frankfurter Rundschau – Gunar Hochheiden\, 23/03/81) \nCon Malou\, Jeanine Meerapfel irrumpe en la discusión de los años 70 y 80: la reconstrucción de la historia y su superación del pasado a través de la aproximación a las madres como posibilidad de obtener información más precisa sobre la propia identidad de la que ofrece la historiografía oficial. Hannah\, una maestra de 30 años que – como la realizadora – creció en Argentina y hoy vive en Berlín\, no es capaz de divorciarse de su pasado. ¿Qué sentía esta mujer\, cuyo destino cambiará inesperadamente debido a los nazis\, y cuya incondicional adaptación al marido le acarrearía\, finalmente\, un siniestro fin? Hannah\, la hija\, quien a los 18 años abandona Argentina para regresar a Alemania\, no puede aceptar semejante dependencia. Va en busca de la historia de su madre para comprender cómo es su propio camino. \n  \nDIRECTORA: JEANINE MEERAPFEL\nJeanine MeerapfelJeanine MeerapfelJeanine Meerapfel nació en 1943 en Buenos Aires. Su padre\, heredero de una fábrica de tabaco alemana\, se vio obligado a emigrar por el regimen nazi a Argentina. Su figura\, el retrato de un patriarca y vividor\, nunca dejó de ocupar a Meerapfel: aparece en muchas de sus películas; en Malou es representada por Ivan Desny\, en Amigomío por Mario Adorf\, en El verano de Anna por Dimitris Katalifos. En 1964\, luego de estudiar periodismo en Buenos Aires\, Meerapfel emigró a Alemania para estudiar dirección de cine en la Escuela Pública de Diseño de Ulm (Hochschule für Gestaltung in Ulm)\, dirigida por Alexander Kluge y Edgar Reitz. Tras recibirse\, trabajó como crítica y docente de cine. Estrenó su primer largometraje Malou en 1980. Desde entonces\, ha presentado otras cuatro ficciones con La Amiga (1988)\, Amigomío (1995)\, El verano de Anna (2001) y El amigo alemán (2012). También realizó documentales como Desembarcos (1986-89)\, Quien no lucha\, no puede ganar (2007/8). En 2021 estrenará su último ensayo documental Una mujer. De 1990 hasta 2009 Meerapfel fue profesora en la Universidad de Medios en Colonia y desde 2015 es presidenta de la Academia de las Artes de Berlín. \nVer la pelicula: Goethe on Demand — Argentinien\, Paraguay\, Uruguay – Malou (goethe-on-demand.de) \nAl ingresar a la plataforma\, escoger los subtítulos en el margen izquierdo inferior de la imagen\, en el símbolo CC. Los subtítulos en español\, en caso de estar disponibles\, están marcados como “ES” \nGoethe on Demand: la plataforma de streaming del Goethe-Institut
URL:https://www.icpa-gz.org.py/evento/haus-kino-malou/
LOCATION:Instituto Cultural Paraguayo-Alemán – Goethe-Zentrum | ICPA-GZ\, Juan de Salazar 310 c/ Artigas_\, Asuncion\, 3500\, Paraguay
ATTACH;FMTTYPE=image/jpeg:https://www.icpa-gz.org.py/wp-content/uploads/2021/08/peli.jpg
END:VEVENT
END:VCALENDAR