BEGIN:VCALENDAR
VERSION:2.0
PRODID:-//Instituto Cultural Paraguayo Alemán – Goethe-Zentrum - ECPv6.15.20//NONSGML v1.0//EN
CALSCALE:GREGORIAN
METHOD:PUBLISH
X-ORIGINAL-URL:https://www.icpa-gz.org.py
X-WR-CALDESC:Eventos para Instituto Cultural Paraguayo Alemán – Goethe-Zentrum
REFRESH-INTERVAL;VALUE=DURATION:PT1H
X-Robots-Tag:noindex
X-PUBLISHED-TTL:PT1H
BEGIN:VTIMEZONE
TZID:America/Sao_Paulo
BEGIN:STANDARD
TZOFFSETFROM:-0300
TZOFFSETTO:-0300
TZNAME:-03
DTSTART:20200101T000000
END:STANDARD
END:VTIMEZONE
BEGIN:VEVENT
DTSTART;TZID=America/Sao_Paulo:20210606T080000
DTEND;TZID=America/Sao_Paulo:20210730T170000
DTSTAMP:20260424T004644
CREATED:20210608T014326Z
LAST-MODIFIED:20210722T163658Z
UID:1744-1622966400-1627664400@www.icpa-gz.org.py
SUMMARY:¡CONVERTITE EN INFLUENCER PARA EL CAMBIO ECOLÓGICO!
DESCRIPTION:¿Sos parte de la solución a la crisis medioambiental global? \n¿Te importa el medio ambiente? ¿Te cansa que se haga tan poco para resolver la crisis climática? ¿Buscás ideas y formas de expresión positivas para convencer a la gente de un estilo de vida sostenible? ¿Querés combinar el compromiso medioambiental y el activismo en las redes sociales? \nSi respondiste todas estas preguntas con un “sí” y tenés entre 18 y 25 años: ¡esta es tu oportunidad! \n  \nPresentá tu solicitud para el proyecto “¡Convertite en influencer para el cambio ecológico!” \nA partir de septiembre de 2021\, el Goethe-Institut pondrá en marcha el proyecto “¡Convertite en influencer para el cambio ecológico!”\, en colaboración con la Green European Foundation y otras organizaciones. \nParalelamente\, más de un centenar de activistas por la ecología de Alemania\, España\, Francia\, Italia\, Argentina\, Bolivia y Paraguay se formarán en talleres digitales descentralizados. \nEn una combinación de aportes de expertos\, ejercicios en grupo y desarrollo de ideas individuales\, se entrenarán formas innovadoras de comunicación. Algunas presentaciones están en inglés y español con traducción simultánea. Los talleres descentralizados se celebrarán en la lengua nacional correspondiente. \nTras la finalización de los talleres descentralizados en febrero de 2022\, se elegirán dos personas de cada país que viajarán a Barcelona para participar en el taller central a finales de abril. Y\, a continuación\, a principios de mayo\, asistirán a la conferencia internacional sobre la sociedad digital re:publica en Berlín. \n  \n¿Quién puede participar? \nBuscamos activistas medioambientales de entre 18 y 25 años que quieran mejorar sus habilidades comunicativas en el ámbito audiovisual. \n\nQue quieran aprender cómo contar historias de forma emocionante e impactante.\nQue quieran saber cómo diseñar posts o videos en las redes sociales para captar nuevas audiencias.\nQue quieran formar parte de una red vibrante y dinámica de activistas medioambientales y de los medios de comunicación de siete países de Europa y Sudamérica.\n\nSi querés formar parte de este proyecto y vivís en alguno de los países mencionados\, presentá tu solicitud en el ICPA-GZ local antes del 31 de julio de 2021. \nPara participar podés postularte escribiendo a ECOinfluencers-paraguay@icpa-gz.org.py \nVIDEO: ¡CONVERTITE EN INFLUENCER PARA EL CAMBIO ECOLÓGICO! \nFORMULARIO DE INSCRIPCIÓN
URL:https://www.icpa-gz.org.py/evento/convertite-en-influencer-para-el-cambio-ecologico/
LOCATION:Instituto Cultural Paraguayo-Alemán – Goethe-Zentrum | ICPA-GZ\, Juan de Salazar 310 c/ Artigas_\, Asuncion\, 3500\, Paraguay
ATTACH;FMTTYPE=image/jpeg:https://www.icpa-gz.org.py/wp-content/uploads/2021/06/graphik-landingpage-tobias-schrank-formatkey-jpg-w983.jpg
END:VEVENT
BEGIN:VEVENT
DTSTART;TZID=America/Sao_Paulo:20210701T080000
DTEND;TZID=America/Sao_Paulo:20210731T170000
DTSTAMP:20260424T004644
CREATED:20210802T193105Z
LAST-MODIFIED:20210802T203427Z
UID:2227-1625126400-1627750800@www.icpa-gz.org.py
SUMMARY:HAUS-KINO JULIO : HISTORIA(S) DE OCCIDENTE
DESCRIPTION:Las dos películas seleccionadas para Haus-Kino este mes reflejan la cosmovisión de la República Federal de Alemania fuertemente marcada por el bienestar y la fe en el crecimiento infinito\, al mejorar la situación económica del país a partir de los años de 1960. \nEn el colorido relato de época Este niño necesita aire fresco (2018) de la ganadora del Oscar Caroline Link\, el pequeño Hape le pone humor a la vida sacrificada de su familia de origen obrera a principios de los años 1970 en la Cuenca del Ruhr. Mientras tanto\, Juliane Henrich nos invita a descubrir en De Occidente (2016) cómo la palabra “Occidente” (West) se fue transformando en una ideología\, en la denominación de un modelo de sociedad\, inserto en todos los resquicios de la historia de Alemania Occidental.
URL:https://www.icpa-gz.org.py/evento/haus-kino/
LOCATION:Instituto Cultural Paraguayo-Alemán – Goethe-Zentrum | ICPA-GZ\, Juan de Salazar 310 c/ Artigas_\, Asuncion\, 3500\, Paraguay
ATTACH;FMTTYPE=image/jpeg:https://www.icpa-gz.org.py/wp-content/uploads/2021/08/julio.jpg
END:VEVENT
BEGIN:VEVENT
DTSTART;TZID=America/Sao_Paulo:20210719T090000
DTEND;TZID=America/Sao_Paulo:20210730T180000
DTSTAMP:20260424T004644
CREATED:20210722T170515Z
LAST-MODIFIED:20210722T170818Z
UID:2216-1626685200-1627668000@www.icpa-gz.org.py
SUMMARY:ISLA VERDE
DESCRIPTION:ISLA VERDE  \nLa colonia de Vacaciones del ICPA Goethe-Zentrum \nVuelve la ISLA VERDE en el ICPA en forma adaptada a nuestra nueva realidad les invitamos participar en los distintos talleres.  \nLa participación a los talleres es gratuita y tendrán lugar de lunes a viernes\, desde el 19 al 30 de julio. Los talleres comienzan entre las 9:00 y 15:00 h. \nA excepción de un único taller realizado en modalidad virtual\, hay disponibles diez lugares para cada taller\, de manera a respetar los protocolos sanitarios correspondientes. \nPara más información y inscripciones\, comunicarse al (021) 224455 o al 0983 307150 vía WhatsApp.  \nEstarán disponibles: \n\nTaller de fotografía con Francene Keery (a partir de 12 años).\n\nLunes – Miércoles – Viernes 10:00 a 12:00 h. \nAFUERA ADENTRO Imágenes que cuentan Historias “Somos parte de la naturaleza conectamos con nuestras esencias.” Francene Keery  \n\nTaller de bordado con Xiomara.\n\nLunes – Miércoles – Viernes 13:00 a 14:30 h.  \nDibujar con hilo. La creatividad no tiene limites. \n\nTaller de acuarela con Monika Schuchardt\n\nMartes y Jueves 10:30 hs a 13:00 h. \nDejamos que los colores fluyan y se vuelvan a encontrar. \n\nTaller de yoga con Analía Marchi de Atha Yoga.\n\nMartes y Jueves 9:00 a 10:00 hs \nMimamos nuestro cuerpo y regalamos movimientos que sanan.  \n\nTaller de confección de velas con Mariela Fatecha de Las Naranjitas (a partir de 13 años).\n\nUna luz que brilla en las noches de invierno. \nJueves 22 de julio 15:00 h. \n\nTaller de ungüentos herbales con Mariela Fatecha de Las Naranjitas.\n\nJueves 29 de julio 15:00 h. \nLa naturaleza nos regala alegría\, salud y belleza. \n\nTaller virtual de productos de limpieza caseros con Mariela Fatecha de  Las Naranjitas.\n\nLunes 26 de Julio a las 15:00 h. por Zoom \nTe invitamos a proteger nuestro medio ambiente desde casa. \n¡INSCRIBITE YA!
URL:https://www.icpa-gz.org.py/evento/isla-verde/
ATTACH;FMTTYPE=image/png:https://www.icpa-gz.org.py/wp-content/uploads/2021/07/islaverde.png
END:VEVENT
BEGIN:VEVENT
DTSTART;TZID=America/Sao_Paulo:20210728T200000
DTEND;TZID=America/Sao_Paulo:20210728T220000
DTSTAMP:20260424T004644
CREATED:20210802T191927Z
LAST-MODIFIED:20210802T191927Z
UID:2223-1627502400-1627509600@www.icpa-gz.org.py
SUMMARY:Concierto – Lanzamiento del Music Banda Cat Dimension
DESCRIPTION:Lanzamiento de la banda musical: CAT DIMENSION \nMiércoles 28 de Julio a las 20 horas Invitamos al Concierto de Cat Dimension. \nTexto: \nLanzamiento de la banda musical: CAT DIMENSION \nCat Dimension es un proyecto musical que surge en 2020 tras la llegada de la pandemia y la consiguiente paralización de toda la actividad cultural a nivel mundial. \nCat Dimension es una banda integrada por músicos de diferentes nacionalidades. A la trompeta está el trompetista venezolano Jonathan Piñero\, de Paraguay están Rolfi González al teclado y Morris Morales a la guitarra\, de Argentina Rafael Arce a la batería y Fede Rodríguez (España) al bajo. \nPara reservar lugar por WhatsApp: +595 983 307150
URL:https://www.icpa-gz.org.py/evento/concierto-lanzamiento-del-music-banda-cat-dimension/
LOCATION:Instituto Cultural Paraguayo-Alemán – Goethe-Zentrum | ICPA-GZ\, Juan de Salazar 310 c/ Artigas_\, Asuncion\, 3500\, Paraguay
ATTACH;FMTTYPE=image/png:https://www.icpa-gz.org.py/wp-content/uploads/2021/08/Cat_Band-Flyer-1.png
END:VEVENT
END:VCALENDAR