BEGIN:VCALENDAR
VERSION:2.0
PRODID:-//Deutsch Paraguayisches Kulturinstitut Goethe-Zentrum - ECPv6.15.20//NONSGML v1.0//EN
CALSCALE:GREGORIAN
METHOD:PUBLISH
X-WR-CALNAME:Deutsch Paraguayisches Kulturinstitut Goethe-Zentrum
X-ORIGINAL-URL:https://www.icpa-gz.org.py/DE
X-WR-CALDESC:Eventos para Deutsch Paraguayisches Kulturinstitut Goethe-Zentrum
REFRESH-INTERVAL;VALUE=DURATION:PT1H
X-Robots-Tag:noindex
X-PUBLISHED-TTL:PT1H
BEGIN:VTIMEZONE
TZID:America/Asuncion
BEGIN:STANDARD
TZOFFSETFROM:-0300
TZOFFSETTO:-0400
TZNAME:-04
DTSTART:20240324T030000
END:STANDARD
BEGIN:DAYLIGHT
TZOFFSETFROM:-0400
TZOFFSETTO:-0300
TZNAME:-03
DTSTART:20241006T040000
END:DAYLIGHT
BEGIN:STANDARD
TZOFFSETFROM:-0300
TZOFFSETTO:-0300
TZNAME:-03
DTSTART:20241015T030000
END:STANDARD
END:VTIMEZONE
BEGIN:VEVENT
DTSTART;TZID=America/Asuncion:20250421T140000
DTEND;TZID=America/Asuncion:20250421T180000
DTSTAMP:20260425T175903
CREATED:20250411T201756Z
LAST-MODIFIED:20250411T202232Z
UID:40216-1745244000-1745258400@www.icpa-gz.org.py
SUMMARY:Video-Performance-Theater Workshop 1/2
DESCRIPTION:Nehmen Sie an dieser zweitägigen Schulung teil\, bei der der Körper\, die Aktion und das Gerät durch die Analyse von Werken und Konzepten verschmelzen\, um sich in der Praxis einer kollektiven Komposition einer Videoperformance zu nähern. \nGeleitet von Pamela Paredes Osorio\, paraguayische Schauspielerin\, Performerin und audiovisuelle Künstlerin. \nDatum: 21. und 22. April – von 14 bis 18 Uhr.\nBegrenzte Plätze. Anmeldung erforderlich.\nFreier Zugang.\nOrt: Instituto Cultural Paraguayo-Alemán – Goethe-Zentrum und Casa Bicentenario del Teatro „Edda de los Ríos“. Asunción\, Paraguay. \nWenn Sie ein Künstler\, Performer\, audiovisueller Gestalter sind oder sich für körperliche Experimente und Video interessieren\, laden wir Sie ein\, an diesem Raum für Training und Kreation teilzunehmen.\nAnmeldelink hier \nMit Unterstützung des Fondo Nacional de la Cultura y las Artes (FONDEC)\, Instituto Cultural Paraguayo-Alemán – Goethe-Zentrum (ICPA-GZ)\, Centro Cultural de la República Cabildo\, Casa Bicentenario del Teatro „Edda de los Ríos“ und El Ropero News.
URL:https://www.icpa-gz.org.py/DE/evento/video-performance-theater-workshop-1-2/
LOCATION:Instituto Cultural Paraguayo-Alemán – Goethe-Zentrum | ICPA-GZ\, Juan de Salazar 310 c/ Artigas_\, Asuncion\, 3500\, Paraguay
CATEGORIES:gefördert vom ICPA-GZ,Kultur,Kunst,Präsenzveranstaltung,Theater,Videokunst,Workshop
ATTACH;FMTTYPE=image/jpeg:https://www.icpa-gz.org.py/DE/wp-content/uploads/2025/04/WhatsApp-Image-2025-04-10-at-11.56.14.jpeg
END:VEVENT
END:VCALENDAR