BEGIN:VCALENDAR
VERSION:2.0
PRODID:-//Deutsch Paraguayisches Kulturinstitut Goethe-Zentrum - ECPv6.15.20//NONSGML v1.0//EN
CALSCALE:GREGORIAN
METHOD:PUBLISH
X-ORIGINAL-URL:https://www.icpa-gz.org.py/DE
X-WR-CALDESC:Eventos para Deutsch Paraguayisches Kulturinstitut Goethe-Zentrum
REFRESH-INTERVAL;VALUE=DURATION:PT1H
X-Robots-Tag:noindex
X-PUBLISHED-TTL:PT1H
BEGIN:VTIMEZONE
TZID:America/Asuncion
BEGIN:STANDARD
TZOFFSETFROM:-0300
TZOFFSETTO:-0400
TZNAME:-04
DTSTART:20240324T030000
END:STANDARD
BEGIN:DAYLIGHT
TZOFFSETFROM:-0400
TZOFFSETTO:-0300
TZNAME:-03
DTSTART:20241006T040000
END:DAYLIGHT
BEGIN:STANDARD
TZOFFSETFROM:-0300
TZOFFSETTO:-0300
TZNAME:-03
DTSTART:20241015T030000
END:STANDARD
END:VTIMEZONE
BEGIN:VEVENT
DTSTART;TZID=America/Asuncion:20250415T190000
DTEND;TZID=America/Asuncion:20250415T210000
DTSTAMP:20260425T110003
CREATED:20250414T205043Z
LAST-MODIFIED:20250414T205043Z
UID:40261-1744743600-1744750800@www.icpa-gz.org.py
SUMMARY:Geführte Anhörung der Passion nach Johannes“.
DESCRIPTION:Die Bach-Gesellschaft von Paraguay lädt Sie ein\, dieses monumentale Werk der Musikgeschichte zu sehen\, das von unvergleichlicher dramatischer Kraft und absolut bewegender spiritueller Tiefe ist. Wir werden uns eine der besten Audio- und Videoversionen anhören\, die je aufgenommen wurden\, mit Übertiteln in Spanisch. \nWir werden uns auf die Karwoche vorbereiten und das Werk live bei unserem Südamerikanischen Bachfest Asunción 2025 hören. \nDatum: Dienstag\, 15. April\nUhrzeit: 19:00 Uhr.\nKostenlos\nVeranstaltungsort: Instituto Cultural Paraguayo-Alemán – Goethe-Zentrum \n\nJuan de Salazar y Artigas
URL:https://www.icpa-gz.org.py/DE/evento/gefuhrte-anhorung-der-passion-nach-johannes/
LOCATION:Salón Rolando Rasmussen des Instituto Cultural Paraguayo-Alemán – Goethe-Zentrum | ICPA-GZ\, Juan de Salazar 310 c/ Artigas Barrio Ricardo Brugada\, Asunción\, Distrito Capital\, Paraguay
CATEGORIES:Filmtheater,gefördert vom ICPA-GZ,Kultur,Kunst,Musik,Präsenzveranstaltung
ATTACH;FMTTYPE=image/jpeg:https://www.icpa-gz.org.py/DE/wp-content/uploads/2025/04/490495600_9471410156287963_9105301803760220223_n.jpg
END:VEVENT
END:VCALENDAR