BEGIN:VCALENDAR
VERSION:2.0
PRODID:-//Deutsch Paraguayisches Kulturinstitut Goethe-Zentrum - ECPv6.15.20//NONSGML v1.0//EN
CALSCALE:GREGORIAN
METHOD:PUBLISH
X-ORIGINAL-URL:https://www.icpa-gz.org.py/DE
X-WR-CALDESC:Eventos para Deutsch Paraguayisches Kulturinstitut Goethe-Zentrum
REFRESH-INTERVAL;VALUE=DURATION:PT1H
X-Robots-Tag:noindex
X-PUBLISHED-TTL:PT1H
BEGIN:VTIMEZONE
TZID:America/Asuncion
BEGIN:STANDARD
TZOFFSETFROM:-0300
TZOFFSETTO:-0400
TZNAME:-04
DTSTART:20240324T030000
END:STANDARD
BEGIN:DAYLIGHT
TZOFFSETFROM:-0400
TZOFFSETTO:-0300
TZNAME:-03
DTSTART:20241006T040000
END:DAYLIGHT
BEGIN:STANDARD
TZOFFSETFROM:-0300
TZOFFSETTO:-0300
TZNAME:-03
DTSTART:20241015T030000
END:STANDARD
END:VTIMEZONE
BEGIN:VEVENT
DTSTART;TZID=America/Asuncion:20250328T190000
DTEND;TZID=America/Asuncion:20250328T203000
DTSTAMP:20260425T085416
CREATED:20250328T193806Z
LAST-MODIFIED:20250328T193806Z
UID:39873-1743188400-1743193800@www.icpa-gz.org.py
SUMMARY:Die Orgasmus-Chroniken der Frauen | Cine Club Itinerante
DESCRIPTION:Im Rahmen des Internationalen Frauenmonats möchte der Cineclub Itinerante Sie zur Premiere des nationalen Dokumentarfilms „Crónicas del Orgasmo según las Mujeres“ von Regina Maria José González einladen. \nIn diesem Material dokumentiert Regina Zeugenaussagen von Frauen unterschiedlichen Alters\, die über ihre Orgasmen nachdenken. Eine Annäherung an ein Thema\, das immer noch als Tabu gilt; erzählt von den Frauen selbst und aus der Perspektive der klinischen Sexologin Jazmin Escobar. \nDer Cineclub Itinerante organisiert diesen Raum für Diskussionen und Debatten zu diesen Themen. Die Regisseurin des Dokumentarfilms und einige Mitglieder des audiovisuellen Frauenkollektivs Jopoi Lab werden anwesend sein. \nDatum: Freitag\, 28. März 2025\nUhrzeit: Ab 19.00 Uhr.\nKosten: Kostenlos \nOrt: Biblioteca Ulrich Schmidl \n\nInstituto Cultural Paraguayo-Alemán – Goethe-Zentrum\n\n\nJuan de Salazar 310 esquina Artigas
URL:https://www.icpa-gz.org.py/DE/evento/die-orgasmus-chroniken-der-frauen-cine-club-itinerante/
LOCATION:Instituto Cultural Paraguayo-Alemán – Goethe-Zentrum | ICPA-GZ\, Juan de Salazar 310 c/ Artigas_\, Asuncion\, 3500\, Paraguay
CATEGORIES:Filmtheater,gefördert vom ICPA-GZ,Kultur,Kunst,Präsenzveranstaltung
ATTACH;FMTTYPE=image/png:https://www.icpa-gz.org.py/DE/wp-content/uploads/2025/03/Opera-Captura-de-pantalla_2025-03-26_184141_www.instagram.com_.png
END:VEVENT
END:VCALENDAR