BEGIN:VCALENDAR
VERSION:2.0
PRODID:-//Deutsch Paraguayisches Kulturinstitut Goethe-Zentrum - ECPv6.15.20//NONSGML v1.0//EN
CALSCALE:GREGORIAN
METHOD:PUBLISH
X-WR-CALNAME:Deutsch Paraguayisches Kulturinstitut Goethe-Zentrum
X-ORIGINAL-URL:https://www.icpa-gz.org.py/DE
X-WR-CALDESC:Eventos para Deutsch Paraguayisches Kulturinstitut Goethe-Zentrum
REFRESH-INTERVAL;VALUE=DURATION:PT1H
X-Robots-Tag:noindex
X-PUBLISHED-TTL:PT1H
BEGIN:VTIMEZONE
TZID:America/Asuncion
BEGIN:STANDARD
TZOFFSETFROM:-0300
TZOFFSETTO:-0400
TZNAME:-04
DTSTART:20240324T030000
END:STANDARD
BEGIN:DAYLIGHT
TZOFFSETFROM:-0400
TZOFFSETTO:-0300
TZNAME:-03
DTSTART:20241006T040000
END:DAYLIGHT
BEGIN:STANDARD
TZOFFSETFROM:-0300
TZOFFSETTO:-0300
TZNAME:-03
DTSTART:20241015T030000
END:STANDARD
END:VTIMEZONE
BEGIN:VEVENT
DTSTART;TZID=America/Asuncion:20250124T150000
DTEND;TZID=America/Asuncion:20250124T190000
DTSTAMP:20260425T104941
CREATED:20241227T195043Z
LAST-MODIFIED:20241227T195043Z
UID:38226-1737730800-1737745200@www.icpa-gz.org.py
SUMMARY:Begegnungen in der Ausstellung „Willst du das Meer kennenlernen?“ 6/7
DESCRIPTION:Jeden Freitag erwarten wir Sie mit Jazmin Cebé zu einer Begegnung „mit dem Meer“. Sie können diese immersive Installation mit der Künstlerin kennenlernen\, etwas über ihren kreativen Prozess erfahren\, die Wasserprojektion bewundern und vieles mehr. \nDatum: Jeden Freitag\nZeit: Ab 15:00 Uhr.\nOrt: Rolando Rasmussen Saal \n\nInstituto Cultural Paraguayo-Alemán – Goethe-Zentrum\n\n\nJuan de Salazar 310 c/ Artigas
URL:https://www.icpa-gz.org.py/DE/evento/begegnungen-in-der-ausstellung-willst-du-das-meer-kennenlernen-6-7/
LOCATION:Salón Rolando Rasmussen des Instituto Cultural Paraguayo-Alemán – Goethe-Zentrum | ICPA-GZ\, Juan de Salazar 310 c/ Artigas Barrio Ricardo Brugada\, Asunción\, Distrito Capital\, Paraguay
CATEGORIES:Ausstellung,EXPYLAB,gefördert vom ICPA-GZ,Kultur,Kunst,Präsenzveranstaltung,Videokunst
ATTACH;FMTTYPE=image/jpeg:https://www.icpa-gz.org.py/DE/wp-content/uploads/2024/12/WhatsApp-Image-2024-12-26-at-10.44.36.jpeg
END:VEVENT
BEGIN:VEVENT
DTSTART;TZID=America/Asuncion:20250124T190000
DTEND;TZID=America/Asuncion:20250124T233000
DTSTAMP:20260425T104941
CREATED:20250123T195315Z
LAST-MODIFIED:20250123T195418Z
UID:38619-1737745200-1737761400@www.icpa-gz.org.py
SUMMARY:Videospiel-Design-Marathon | IGDA Paraguay 1/3
DESCRIPTION:Hast du schon immer davon geträumt\, dein eigenes Videospiel zu entwickeln?\nJetzt ist deine Chance! Nehmen Sie am Global Game Jam teil und machen Sie den Schritt in die Videospielindustrie. In nur 48 Stunden werden Sie lernen\, zusammenarbeiten und gemeinsam mit anderen Enthusiasten Ihr erstes Spiel entwickeln. Du brauchst keine Vorkenntnisse\, nur deine Leidenschaft und Kreativität. \nDu kannst lernen\, wie man ein Videospiel oder ein Brettspiel entwickelt. Die Veranstaltung ist 100% kostenlos\, Sie müssen sich nur anmelden. Organisiert von IGDA Paraguay \nRegistrieren Sie sich in diesem Formular\nDatum: Von 24 bis 26 Januar 2025\nZeit: Ab 19:00 Uhr.\nKosten: Kostenlos\nOrt: Instituto Cultural Paraguayo-Alemán – Goethe-Zentrum\nJuan de Salazar 310 esq. Artigas \nMehr Informationen unter:\nIGDA Paraguay | Facebook\n@igdapy | Instagram
URL:https://www.icpa-gz.org.py/DE/evento/videospiel-design-marathon-igda-paraguay-1-3/
LOCATION:Instituto Cultural Paraguayo-Alemán – Goethe-Zentrum | ICPA-GZ\, Juan de Salazar 310 c/ Artigas_\, Asuncion\, 3500\, Paraguay
CATEGORIES:gefördert vom ICPA-GZ,Kunst,Präsenzveranstaltung,Workshop
ATTACH;FMTTYPE=image/png:https://www.icpa-gz.org.py/DE/wp-content/uploads/2025/01/Videojuegos1.png
END:VEVENT
END:VCALENDAR