BEGIN:VCALENDAR
VERSION:2.0
PRODID:-//Deutsch Paraguayisches Kulturinstitut Goethe-Zentrum - ECPv6.15.20//NONSGML v1.0//EN
CALSCALE:GREGORIAN
METHOD:PUBLISH
X-ORIGINAL-URL:https://www.icpa-gz.org.py/DE
X-WR-CALDESC:Eventos para Deutsch Paraguayisches Kulturinstitut Goethe-Zentrum
REFRESH-INTERVAL;VALUE=DURATION:PT1H
X-Robots-Tag:noindex
X-PUBLISHED-TTL:PT1H
BEGIN:VTIMEZONE
TZID:America/Asuncion
BEGIN:STANDARD
TZOFFSETFROM:-0300
TZOFFSETTO:-0400
TZNAME:-04
DTSTART:20240324T030000
END:STANDARD
BEGIN:DAYLIGHT
TZOFFSETFROM:-0400
TZOFFSETTO:-0300
TZNAME:-03
DTSTART:20241006T040000
END:DAYLIGHT
BEGIN:STANDARD
TZOFFSETFROM:-0300
TZOFFSETTO:-0300
TZNAME:-03
DTSTART:20241015T030000
END:STANDARD
END:VTIMEZONE
BEGIN:VEVENT
DTSTART;TZID=America/Asuncion:20250106T090000
DTEND;TZID=America/Asuncion:20250106T190000
DTSTAMP:20260425T085526
CREATED:20250102T215759Z
LAST-MODIFIED:20250102T215759Z
UID:38386-1736154000-1736190000@www.icpa-gz.org.py
SUMMARY:Ausstellung „Willst du das Meer sehen? | Jazmín Cebé 4/7
DESCRIPTION:Das Deutsch-Paraguayische Kulturinstitut\, das Goethe-Zentrum und das Centro Cultural La Chispa fördern diese eindringliche und sinnliche Installation\, die von Belén Rodriguez kuratiert wurde. Von Gärten nach dem Rauchregen der Agrarindustrie bis hin zu städtischen Räumen\, die durch Hitze und kollektiven Einfallsreichtum verändert wurden\, spiegeln die Elemente Intimität\, die kreative Aneignung öffentlicher Räume und die Fähigkeit\, sich andere Horizonte vorzustellen. \nInspiriert von der gleichnamigen Kurzgeschichte\, die 2023 mit dem 2. Internationalen Itaú-Kurzgeschichtenpreis ausgezeichnet wurde\, bietet die Ausstellung eine sinnliche Reise durch die Umwandlung von Alltagsbildern in digitale Histogramme. \nBesuchszeiten: \nMontag bis Freitag von 9 Uhr bis 19 Uhr. \nEintritt: Frei. \nVeranstaltungsort: Salón Rolando Rasmussen – Instituto Cultural Paraguayo-Alemán-Goethe Zentrum\nJuan de Salazar 310 c/ Avda. Artigas
URL:https://www.icpa-gz.org.py/DE/evento/ausstellung-willst-du-das-meer-sehen-jazmin-cebe-4-7/
LOCATION:Salón Rolando Rasmussen des Instituto Cultural Paraguayo-Alemán – Goethe-Zentrum | ICPA-GZ\, Juan de Salazar 310 c/ Artigas Barrio Ricardo Brugada\, Asunción\, Distrito Capital\, Paraguay
CATEGORIES:Ausstellung,EXPYLAB,gefördert vom ICPA-GZ,Kultur,Kunst,Präsenzveranstaltung,Videokunst
ATTACH;FMTTYPE=image/png:https://www.icpa-gz.org.py/DE/wp-content/uploads/2024/12/Invitacion-QCeM-1-2.png
END:VEVENT
END:VCALENDAR