BEGIN:VCALENDAR
VERSION:2.0
PRODID:-//Deutsch Paraguayisches Kulturinstitut Goethe-Zentrum - ECPv6.15.20//NONSGML v1.0//EN
CALSCALE:GREGORIAN
METHOD:PUBLISH
X-WR-CALNAME:Deutsch Paraguayisches Kulturinstitut Goethe-Zentrum
X-ORIGINAL-URL:https://www.icpa-gz.org.py/DE
X-WR-CALDESC:Eventos para Deutsch Paraguayisches Kulturinstitut Goethe-Zentrum
REFRESH-INTERVAL;VALUE=DURATION:PT1H
X-Robots-Tag:noindex
X-PUBLISHED-TTL:PT1H
BEGIN:VTIMEZONE
TZID:America/Asuncion
BEGIN:STANDARD
TZOFFSETFROM:-0300
TZOFFSETTO:-0400
TZNAME:-04
DTSTART:20240324T030000
END:STANDARD
BEGIN:DAYLIGHT
TZOFFSETFROM:-0400
TZOFFSETTO:-0300
TZNAME:-03
DTSTART:20241006T040000
END:DAYLIGHT
BEGIN:STANDARD
TZOFFSETFROM:-0300
TZOFFSETTO:-0300
TZNAME:-03
DTSTART:20241015T030000
END:STANDARD
END:VTIMEZONE
BEGIN:VEVENT
DTSTART;TZID=America/Asuncion:20250103T150000
DTEND;TZID=America/Asuncion:20250103T190000
DTSTAMP:20260425T073814
CREATED:20241227T194436Z
LAST-MODIFIED:20241227T194436Z
UID:38181-1735916400-1735930800@www.icpa-gz.org.py
SUMMARY:Begegnungen in der Ausstellung „Willst du das Meer kennenlernen?“ 3/7
DESCRIPTION:Jeden Freitag erwarten wir Sie mit Jazmin Cebé zu einer Begegnung „mit dem Meer“. Sie können diese immersive Installation mit der Künstlerin kennenlernen\, etwas über ihren kreativen Prozess erfahren\, die Wasserprojektion bewundern und vieles mehr. \nDatum: Jeden Freitag\nZeit: Ab 15:00 Uhr.\nOrt: Rolando Rasmussen Saal \n\nInstituto Cultural Paraguayo-Alemán – Goethe-Zentrum\n\n\nJuan de Salazar 310 c/ Artigas
URL:https://www.icpa-gz.org.py/DE/evento/begegnungen-in-der-ausstellung-willst-du-das-meer-kennenlernen-3-7/
LOCATION:Salón Rolando Rasmussen des Instituto Cultural Paraguayo-Alemán – Goethe-Zentrum | ICPA-GZ\, Juan de Salazar 310 c/ Artigas Barrio Ricardo Brugada\, Asunción\, Distrito Capital\, Paraguay
CATEGORIES:Ausstellung,EXPYLAB,gefördert vom ICPA-GZ,Kultur,Kunst,Präsenzveranstaltung,Videokunst
ATTACH;FMTTYPE=image/jpeg:https://www.icpa-gz.org.py/DE/wp-content/uploads/2024/12/WhatsApp-Image-2024-12-26-at-10.44.36.jpeg
END:VEVENT
END:VCALENDAR