BEGIN:VCALENDAR
VERSION:2.0
PRODID:-//Deutsch Paraguayisches Kulturinstitut Goethe-Zentrum - ECPv6.15.20//NONSGML v1.0//EN
CALSCALE:GREGORIAN
METHOD:PUBLISH
X-WR-CALNAME:Deutsch Paraguayisches Kulturinstitut Goethe-Zentrum
X-ORIGINAL-URL:https://www.icpa-gz.org.py/DE
X-WR-CALDESC:Eventos para Deutsch Paraguayisches Kulturinstitut Goethe-Zentrum
REFRESH-INTERVAL;VALUE=DURATION:PT1H
X-Robots-Tag:noindex
X-PUBLISHED-TTL:PT1H
BEGIN:VTIMEZONE
TZID:America/Asuncion
BEGIN:STANDARD
TZOFFSETFROM:-0300
TZOFFSETTO:-0400
TZNAME:-04
DTSTART:20230326T030000
END:STANDARD
BEGIN:DAYLIGHT
TZOFFSETFROM:-0400
TZOFFSETTO:-0300
TZNAME:-03
DTSTART:20231001T040000
END:DAYLIGHT
BEGIN:STANDARD
TZOFFSETFROM:-0300
TZOFFSETTO:-0400
TZNAME:-04
DTSTART:20240324T030000
END:STANDARD
BEGIN:DAYLIGHT
TZOFFSETFROM:-0400
TZOFFSETTO:-0300
TZNAME:-03
DTSTART:20241006T040000
END:DAYLIGHT
BEGIN:STANDARD
TZOFFSETFROM:-0300
TZOFFSETTO:-0300
TZNAME:-03
DTSTART:20241015T030000
END:STANDARD
END:VTIMEZONE
BEGIN:VEVENT
DTSTART;TZID=America/Asuncion:20241219T190000
DTEND;TZID=America/Asuncion:20241219T210000
DTSTAMP:20260425T073911
CREATED:20241217T202925Z
LAST-MODIFIED:20241217T203235Z
UID:37934-1734634800-1734642000@www.icpa-gz.org.py
SUMMARY:Konzert von Fabian Zeller | Festival Guitarras del Lago
DESCRIPTION:Diesen Donnerstag\, den 19. Dezember ab 19:00 Uhr\, wird der deutsche Gitarrist Fabian Zeller beim Festival Guitarras del Lago auftreten. Es findet im Bahnhof von Ypacarai statt. Mit der Unterstützung des Deutsch-Paraguayischen Kulturinstituts-Goethe-Zentrums. \nDas Festival Internacional Guitarras del Lago\, offizieller Austragungsort des von der Unesco und der Internationalen Kunstakademie anerkannten Weltgitarrentages in Paraguay\, findet vom 18. bis 20. Dezember in der Stadt Ypacaraí statt\, wobei der Eintritt zu allen Aktivitäten frei ist. \nDiese sechste Ausgabe des Internationalen Festivals Guitarras del Lago ist eine posthume Hommage an Agustín Barrios Mangoré. Der deutsche Gitarrist Fabia Zeller\, der sich auf einer Südamerika-Tournee befindet\, wird am zentralen Abend auftreten. Ermöglicht wird dieser Besuch durch die Unterstützung des Deutsch-Paraguayischen Kulturinstituts – Goethe Zentrum. \nNamhafte nationale und internationale Künstler wie Camila Vera aus Argentinien\, Maestro Harold Beizaga aus Bolivien und aus Paraguay das Gitarrentrio Mbaraka Trio und die renommierte Maestro Luz María Bobadilla stehen ebenfalls auf dem Programm. \nDiese Ausgabe findet am 19. Dezember statt\, dem Tag\, an dem der 100. Jahrestag des letzten Konzerts von Maestro Agustín Barrios in der Stadt Ypacaraí begangen wird. \nFestival Guitarras del Lago | Facebook \nFestival Guitarras del Lago | Instagram
URL:https://www.icpa-gz.org.py/DE/evento/konzert-von-fabian-zeller-festival-guitarras-del-lago/
LOCATION:Estación de Tren de Ypacaraí\, Ypacaraí\, Central\, Paraguay
CATEGORIES:Festival,gefördert vom ICPA-GZ,Konzert,Kultur,Kunst,Musik,Präsenzveranstaltung
ATTACH;FMTTYPE=image/jpeg:https://www.icpa-gz.org.py/DE/wp-content/uploads/2024/12/WhatsApp-Image-2024-12-13-at-14.16.42.jpeg
END:VEVENT
END:VCALENDAR