BEGIN:VCALENDAR
VERSION:2.0
PRODID:-//Deutsch Paraguayisches Kulturinstitut Goethe-Zentrum - ECPv6.15.20//NONSGML v1.0//EN
CALSCALE:GREGORIAN
METHOD:PUBLISH
X-WR-CALNAME:Deutsch Paraguayisches Kulturinstitut Goethe-Zentrum
X-ORIGINAL-URL:https://www.icpa-gz.org.py/DE
X-WR-CALDESC:Eventos para Deutsch Paraguayisches Kulturinstitut Goethe-Zentrum
REFRESH-INTERVAL;VALUE=DURATION:PT1H
X-Robots-Tag:noindex
X-PUBLISHED-TTL:PT1H
BEGIN:VTIMEZONE
TZID:America/Asuncion
BEGIN:STANDARD
TZOFFSETFROM:-0300
TZOFFSETTO:-0400
TZNAME:-04
DTSTART:20230326T030000
END:STANDARD
BEGIN:DAYLIGHT
TZOFFSETFROM:-0400
TZOFFSETTO:-0300
TZNAME:-03
DTSTART:20231001T040000
END:DAYLIGHT
BEGIN:STANDARD
TZOFFSETFROM:-0300
TZOFFSETTO:-0400
TZNAME:-04
DTSTART:20240324T030000
END:STANDARD
BEGIN:DAYLIGHT
TZOFFSETFROM:-0400
TZOFFSETTO:-0300
TZNAME:-03
DTSTART:20241006T040000
END:DAYLIGHT
BEGIN:STANDARD
TZOFFSETFROM:-0300
TZOFFSETTO:-0300
TZNAME:-03
DTSTART:20241015T030000
END:STANDARD
END:VTIMEZONE
BEGIN:VEVENT
DTSTART;TZID=America/Asuncion:20241211T170000
DTEND;TZID=America/Asuncion:20241211T190000
DTSTAMP:20260425T073948
CREATED:20241203T212313Z
LAST-MODIFIED:20241203T212313Z
UID:37665-1733936400-1733943600@www.icpa-gz.org.py
SUMMARY:Workshop - Craft Club 2/3
DESCRIPTION:Wenn Sie schon immer lernen wollten\, wie man spinnt\, stickt\, näht\, häkelt und vieles mehr\, oder wenn Sie es bereits tun\, es mögen und einfach einen Raum zum Üben und Austauschen suchen\, warten wir in diesem Club auf Sie.\nHandwerkliche Tätigkeiten wirken sich positiv auf die geistige und emotionale Gesundheit aus. Das Erlernen einiger grundlegender Werkzeuge\, wie die\, die Sie in der Werkstatt erlernen werden\, wird Ihnen außerdem eine gewisse Unabhängigkeit verleihen\, da Sie in der Lage sein werden\, Kleidung\, Tischdecken usw. zu nähen\, zu reparieren und herzustellen\, ohne auf jemanden angewiesen zu sein. Der Raum zum Teilen und Lernen mit anderen bietet einen Moment der Beziehung und der Freude.\nGeleitet von Alicia Medina Verdolini. \nDatum: Jeden Mittwoch\nZeit: 17:00 bis 19:00 Hs.\nKosten: Kostenlos\nOrt: Ulrich Schmidl Bibliothek \n\n\nInstitutto Cultural Paraguayo – Alemán – Goethe Zentrum\n\n\nJuan de Salazar N° 310 c/Artigas
URL:https://www.icpa-gz.org.py/DE/evento/workshop-craft-club-2-3/
LOCATION:Bibliothek Ulrich Schmidl des Instituto Cultural Paraguayo-Alemán – Goethe-Zentrum | ICPA-GZ\, Juan de Salazar 310 c/ Artigas\, Asunción\, Distrito Capital\, Paraguay
CATEGORIES:gefördert vom ICPA-GZ,Präsenzveranstaltung,Workshop
ATTACH;FMTTYPE=image/png:https://www.icpa-gz.org.py/DE/wp-content/uploads/2024/11/ICPA_TallerBordado.png
END:VEVENT
BEGIN:VEVENT
DTSTART;TZID=America/Asuncion:20241211T203000
DTEND;TZID=America/Asuncion:20241211T220000
DTSTAMP:20260425T073948
CREATED:20241209T215229Z
LAST-MODIFIED:20241209T215229Z
UID:37822-1733949000-1733954400@www.icpa-gz.org.py
SUMMARY:"Cuidar de donde venimos" | Vorführung und Gespräch
DESCRIPTION:„Sorge tragen für das\, woher wir kommen“ | Vorführung und Gespräch \n„Taking care of where we come from“ ist der Dokumentarfilm des Künstlers Ariel Nahon (Arg). Nahon wird den Dokumentarfilm vorstellen und einen Vortrag für die Teilnehmer des Programms „Colmenar Open 2.0“ halten. Ausbildung in Darstellender und Bildender Kunst. In diesem Rahmen wird er seinen kreativen Prozess und seine Erfahrungen mit der Gemeinschaftsarbeit in der Villa 20 in Buenos Aires vorstellen. \nDatum: Mittwoch\, 11. Dezember\nUhrzeit: 20:30 Uhr \nZugang: Freier Eintritt\nVeranstaltungsort: Ulrich Schmidl Bibliothek \nInstituto Cultural Paraguayo-Alemán-Goethe Zentrum \nJuan de Salazar N° 310 c/Artigas
URL:https://www.icpa-gz.org.py/DE/evento/cuidar-de-donde-venimos-vorfuhrung-und-gesprach/
LOCATION:Bibliothek Ulrich Schmidl des Instituto Cultural Paraguayo-Alemán – Goethe-Zentrum | ICPA-GZ\, Juan de Salazar 310 c/ Artigas\, Asunción\, Distrito Capital\, Paraguay
CATEGORIES:Forum,gefördert vom ICPA-GZ,Gesprächsrunde,Goethe-Institut,Kultur,Kunst,Präsenzveranstaltung,Videokunst
ATTACH;FMTTYPE=image/jpeg:https://www.icpa-gz.org.py/DE/wp-content/uploads/2024/12/WhatsApp-Image-2024-12-09-at-12.52.56.jpeg
END:VEVENT
END:VCALENDAR