BEGIN:VCALENDAR
VERSION:2.0
PRODID:-//Deutsch Paraguayisches Kulturinstitut Goethe-Zentrum - ECPv6.15.20//NONSGML v1.0//EN
CALSCALE:GREGORIAN
METHOD:PUBLISH
X-ORIGINAL-URL:https://www.icpa-gz.org.py/DE
X-WR-CALDESC:Eventos para Deutsch Paraguayisches Kulturinstitut Goethe-Zentrum
REFRESH-INTERVAL;VALUE=DURATION:PT1H
X-Robots-Tag:noindex
X-PUBLISHED-TTL:PT1H
BEGIN:VTIMEZONE
TZID:America/Asuncion
BEGIN:STANDARD
TZOFFSETFROM:-0300
TZOFFSETTO:-0400
TZNAME:-04
DTSTART:20230326T030000
END:STANDARD
BEGIN:DAYLIGHT
TZOFFSETFROM:-0400
TZOFFSETTO:-0300
TZNAME:-03
DTSTART:20231001T040000
END:DAYLIGHT
BEGIN:STANDARD
TZOFFSETFROM:-0300
TZOFFSETTO:-0400
TZNAME:-04
DTSTART:20240324T030000
END:STANDARD
BEGIN:DAYLIGHT
TZOFFSETFROM:-0400
TZOFFSETTO:-0300
TZNAME:-03
DTSTART:20241006T040000
END:DAYLIGHT
BEGIN:STANDARD
TZOFFSETFROM:-0300
TZOFFSETTO:-0300
TZNAME:-03
DTSTART:20241015T030000
END:STANDARD
END:VTIMEZONE
BEGIN:VEVENT
DTSTART;TZID=America/Asuncion:20241128T140000
DTEND;TZID=America/Asuncion:20241128T190000
DTSTAMP:20260424T211336
CREATED:20241118T212102Z
LAST-MODIFIED:20241118T212102Z
UID:37103-1732802400-1732820400@www.icpa-gz.org.py
SUMMARY:Bewahren und neu machen: Workshop zur Bewahrung audiovisueller Medien 3/3
DESCRIPTION:„Bewahren und neu machen: Workshop zur Bewahrung audiovisueller Medien“. \nWir laden Sie ein\, an diesem theoretisch-praktischen Workshop teilzunehmen\, in dem wir uns mit der Erhaltung audiovisueller Medien (Film\, magnetische und digitale Medien) und ihrer künstlerischen Neuinterpretation befassen werden. Ziel ist es\, Spezialisten für das paraguayische Filmrettungsprojekt auszubilden\, das nationale Werke restauriert und digitalisiert. \nEr richtet sich an Künstler\, Filmemacher und Liebhaber audiovisueller Medien. Der Workshop besteht aus drei persönlichen Treffen mit einer Dauer von jeweils 2 Stunden. Einzelheiten zu den einzelnen Tagen finden Sie auf dem Anmeldeformular (begrenzter Platz). Die Werke werden am 29. und 30. November im Rahmen des Beijaflor Showcase im Kino Cañisá im Viertel Trinidad gezeigt. Der Workshop ist Teil der Muestra de Cine en Fílmico y Cintas Magnéticas „Beijaflor“\, die von El Archivo de Memoria del Nordeste (AMANEA) organisiert wird. \nDatum: Vom 26. bis 28. November 2024\nZeit: Von 14:00 bis 19:00 Uhr Hs.\nAnmeldeformular (begrenzte Plätze)\nOrt: Instituto Cultural Paraguayo Alemán – Goethe Zentrum \n\nJuan de Salazar 310 c/Artigas\n\nMehr Informationen:  \n\n@muestra.beijaflor | Instagram\n@archivomemoria_nea | Instagram
URL:https://www.icpa-gz.org.py/DE/evento/bewahren-und-neu-machen-workshop-zur-bewahrung-audiovisueller-medien-3-3/
LOCATION:Instituto Cultural Paraguayo-Alemán – Goethe-Zentrum | ICPA-GZ\, Juan de Salazar 310 c/ Artigas_\, Asuncion\, 3500\, Paraguay
CATEGORIES:Festival,Filmtheater,gefördert vom ICPA-GZ,Kultur,Kunst,Präsenzveranstaltung,Workshop
ATTACH;FMTTYPE=image/jpeg:https://www.icpa-gz.org.py/DE/wp-content/uploads/2024/11/WhatsApp-Image-2024-11-13-at-14.50.15.jpeg
END:VEVENT
END:VCALENDAR