BEGIN:VCALENDAR
VERSION:2.0
PRODID:-//Deutsch Paraguayisches Kulturinstitut Goethe-Zentrum - ECPv6.15.20//NONSGML v1.0//EN
CALSCALE:GREGORIAN
METHOD:PUBLISH
X-WR-CALNAME:Deutsch Paraguayisches Kulturinstitut Goethe-Zentrum
X-ORIGINAL-URL:https://www.icpa-gz.org.py/DE
X-WR-CALDESC:Eventos para Deutsch Paraguayisches Kulturinstitut Goethe-Zentrum
REFRESH-INTERVAL;VALUE=DURATION:PT1H
X-Robots-Tag:noindex
X-PUBLISHED-TTL:PT1H
BEGIN:VTIMEZONE
TZID:America/Asuncion
BEGIN:STANDARD
TZOFFSETFROM:-0300
TZOFFSETTO:-0400
TZNAME:-04
DTSTART:20230326T030000
END:STANDARD
BEGIN:DAYLIGHT
TZOFFSETFROM:-0400
TZOFFSETTO:-0300
TZNAME:-03
DTSTART:20231001T040000
END:DAYLIGHT
BEGIN:STANDARD
TZOFFSETFROM:-0300
TZOFFSETTO:-0400
TZNAME:-04
DTSTART:20240324T030000
END:STANDARD
BEGIN:DAYLIGHT
TZOFFSETFROM:-0400
TZOFFSETTO:-0300
TZNAME:-03
DTSTART:20241006T040000
END:DAYLIGHT
BEGIN:STANDARD
TZOFFSETFROM:-0300
TZOFFSETTO:-0300
TZNAME:-03
DTSTART:20241015T030000
END:STANDARD
END:VTIMEZONE
BEGIN:VEVENT
DTSTART;TZID=America/Asuncion:20241127T140000
DTEND;TZID=America/Asuncion:20241127T190000
DTSTAMP:20260424T212241
CREATED:20241118T211653Z
LAST-MODIFIED:20241118T211736Z
UID:37082-1732716000-1732734000@www.icpa-gz.org.py
SUMMARY:Bewahren und neu machen: Workshop zur Bewahrung audiovisueller Medien 2/3
DESCRIPTION:„Bewahren und neu machen: Workshop zur Bewahrung audiovisueller Medien“. \nWir laden Sie ein\, an diesem theoretisch-praktischen Workshop teilzunehmen\, in dem wir uns mit der Erhaltung audiovisueller Medien (Film\, magnetische und digitale Medien) und ihrer künstlerischen Neuinterpretation befassen werden. Ziel ist es\, Spezialisten für das paraguayische Filmrettungsprojekt auszubilden\, das nationale Werke restauriert und digitalisiert. \nEr richtet sich an Künstler\, Filmemacher und Liebhaber audiovisueller Medien. Der Workshop besteht aus drei persönlichen Treffen mit einer Dauer von jeweils 2 Stunden. Einzelheiten zu den einzelnen Tagen finden Sie auf dem Anmeldeformular (begrenzter Platz). Die Werke werden am 29. und 30. November im Rahmen des Beijaflor Showcase im Kino Cañisá im Viertel Trinidad gezeigt. Der Workshop ist Teil der Muestra de Cine en Fílmico y Cintas Magnéticas „Beijaflor“\, die von El Archivo de Memoria del Nordeste (AMANEA) organisiert wird. \nDatum: Vom 26. bis 28. November 2024\nZeit: Von 14:00 bis 19:00 Uhr Hs.\nAnmeldeformular (begrenzte Plätze)\nOrt: Instituto Cultural Paraguayo Alemán – Goethe Zentrum \n\nJuan de Salazar 310 c/Artigas\n\nMehr Informationen:  \n\n@muestra.beijaflor | Instagram\n@archivomemoria_nea | Instagram
URL:https://www.icpa-gz.org.py/DE/evento/bewahren-und-neu-machen-workshop-zur-bewahrung-audiovisueller-medien-2-3/
LOCATION:Instituto Cultural Paraguayo-Alemán – Goethe-Zentrum | ICPA-GZ\, Juan de Salazar 310 c/ Artigas_\, Asuncion\, 3500\, Paraguay
CATEGORIES:Filmtheater,gefördert vom ICPA-GZ,Kultur,Kunst,Präsenzveranstaltung,Workshop
ATTACH;FMTTYPE=image/jpeg:https://www.icpa-gz.org.py/DE/wp-content/uploads/2024/11/WhatsApp-Image-2024-11-13-at-14.50.15.jpeg
END:VEVENT
BEGIN:VEVENT
DTSTART;TZID=America/Asuncion:20241127T170000
DTEND;TZID=America/Asuncion:20241127T190000
DTSTAMP:20260424T212241
CREATED:20241127T184253Z
LAST-MODIFIED:20241127T184334Z
UID:37389-1732726800-1732734000@www.icpa-gz.org.py
SUMMARY:Workshop - Craft Club 4/4
DESCRIPTION:Wenn Sie schon immer lernen wollten\, wie man spinnt\, stickt\, näht\, häkelt und vieles mehr\, oder wenn Sie es bereits tun\, es mögen und einfach einen Raum zum Üben und Austauschen suchen\, warten wir in diesem Club auf Sie.\nHandwerkliche Tätigkeiten wirken sich positiv auf die geistige und emotionale Gesundheit aus. Das Erlernen einiger grundlegender Werkzeuge\, wie die\, die Sie in der Werkstatt erlernen werden\, wird Ihnen außerdem eine gewisse Unabhängigkeit verleihen\, da Sie in der Lage sein werden\, Kleidung\, Tischdecken usw. zu nähen\, zu reparieren und herzustellen\, ohne auf jemanden angewiesen zu sein. Der Raum zum Teilen und Lernen mit anderen bietet einen Moment der Beziehung und der Freude.\nGeleitet von Alicia Medina Verdolini. \nDatum: Jeden Mittwoch\nZeit: 17:00 bis 19:00 Hs.\nKosten: Kostenlos\nOrt: Ulrich Schmidl Bibliothek \n\n\nInstitutto Cultural Paraguayo – Alemán – Goethe Zentrum\n\n\nJuan de Salazar N° 310 c/Artigas
URL:https://www.icpa-gz.org.py/DE/evento/workshop-craft-club-4-4/
LOCATION:Bibliothek Ulrich Schmidl des Instituto Cultural Paraguayo-Alemán – Goethe-Zentrum | ICPA-GZ\, Juan de Salazar 310 c/ Artigas\, Asunción\, Distrito Capital\, Paraguay
CATEGORIES:gefördert vom ICPA-GZ,Präsenzveranstaltung,Workshop
ATTACH;FMTTYPE=image/png:https://www.icpa-gz.org.py/DE/wp-content/uploads/2024/11/ICPA_TallerBordado.png
END:VEVENT
BEGIN:VEVENT
DTSTART;TZID=America/Asuncion:20241127T190000
DTEND;TZID=America/Asuncion:20241127T200000
DTSTAMP:20260424T212241
CREATED:20241121T203903Z
LAST-MODIFIED:20241121T203938Z
UID:37132-1732734000-1732737600@www.icpa-gz.org.py
SUMMARY:Theater „Secretos de ñandutí“ | Kunu'u Títeres
DESCRIPTION:„Secretos de ñandutí“ erzählt die Geschichte von Anastasia\, einer Großmutter von ñandutí-Weberinnen\, die während des Guasú-Krieges (1870) ihr Herz und damit ihre Fähigkeit und Lust am Weben verlor. Das Werk ist eine Hommage an die ñandutí-Weberinnen aller Zeiten\, an die Frauen\, die die Erinnerung an die Welt weben. Das Stück verbindet die Feinheit der ñandutí mit der Magie der Puppen und des Schattentheaters\, indem es die Geschichten der Weberinnen\, die in dem Buch „Ñandutí\, Spitze Paraguays“ von Annick Sanjurjo gesammelt wurden\, und die aktuellen Geschichten der Weberinnen\, die diese Kultur am Leben erhalten\, wieder aufgreift. \nDas im Februar 2023 im Teatro Municipal Ignacio A. Pane uraufgeführte Stück ist die jüngste Kreation des Ensembles Kunu’u Títeres und das Ergebnis einer Koproduktion mit dem Unternehmen Cia. do Abraço (Brasilien). Das Stück war im vergangenen Oktober auf einer internationalen Tournee auf Theaterfestivals in Island\, Spanien und Curitiba zu sehen. \nDieses Stück wird vom Instituto Cultural Paraguayo Alemán – Goethe Zentrum \nDatum: Mittwoch\, 27. November\nUhrzeit: 19:00 Uhr.\nZugang: Freier Eintritt\nVeranstaltungsort: Salón “Rolando Rasmussen” vom Instituto Cultural Paraguayo Alemán – Goethe Zentrum\nJuan de Salazar 310 casi Artigas \nWeitere Informationen: \nkunuu.titeres@gmail.com \nwww.kunuutiteres.com \n@kunuutiteres | Instagram\n@kunuu.titeres | Facebook
URL:https://www.icpa-gz.org.py/DE/evento/theater-secretos-de-nanduti-kunuu-titeres/
LOCATION:Salón Rolando Rasmussen des Instituto Cultural Paraguayo-Alemán – Goethe-Zentrum | ICPA-GZ\, Juan de Salazar 310 c/ Artigas Barrio Ricardo Brugada\, Asunción\, Distrito Capital\, Paraguay
CATEGORIES:gefördert vom ICPA-GZ,Kultur,Präsenzveranstaltung,Theater,Veranstaltung für Kinder
ATTACH;FMTTYPE=image/jpeg:https://www.icpa-gz.org.py/DE/wp-content/uploads/2024/11/WhatsApp-Image-2024-11-20-at-16.14.56.jpeg
ORGANIZER;CN="Kunu'u T%C3%ADteres":MAILTO:kunuu.titeres@gmail.com
END:VEVENT
END:VCALENDAR