BEGIN:VCALENDAR
VERSION:2.0
PRODID:-//Deutsch Paraguayisches Kulturinstitut Goethe-Zentrum - ECPv6.15.20//NONSGML v1.0//EN
CALSCALE:GREGORIAN
METHOD:PUBLISH
X-WR-CALNAME:Deutsch Paraguayisches Kulturinstitut Goethe-Zentrum
X-ORIGINAL-URL:https://www.icpa-gz.org.py/DE
X-WR-CALDESC:Eventos para Deutsch Paraguayisches Kulturinstitut Goethe-Zentrum
REFRESH-INTERVAL;VALUE=DURATION:PT1H
X-Robots-Tag:noindex
X-PUBLISHED-TTL:PT1H
BEGIN:VTIMEZONE
TZID:America/Asuncion
BEGIN:STANDARD
TZOFFSETFROM:-0300
TZOFFSETTO:-0400
TZNAME:-04
DTSTART:20230326T030000
END:STANDARD
BEGIN:DAYLIGHT
TZOFFSETFROM:-0400
TZOFFSETTO:-0300
TZNAME:-03
DTSTART:20231001T040000
END:DAYLIGHT
BEGIN:STANDARD
TZOFFSETFROM:-0300
TZOFFSETTO:-0400
TZNAME:-04
DTSTART:20240324T030000
END:STANDARD
BEGIN:DAYLIGHT
TZOFFSETFROM:-0400
TZOFFSETTO:-0300
TZNAME:-03
DTSTART:20241006T040000
END:DAYLIGHT
BEGIN:STANDARD
TZOFFSETFROM:-0300
TZOFFSETTO:-0300
TZNAME:-03
DTSTART:20241015T030000
END:STANDARD
END:VTIMEZONE
BEGIN:VEVENT
DTSTART;TZID=America/Asuncion:20241122T180000
DTEND;TZID=America/Asuncion:20241122T210000
DTSTAMP:20260425T073948
CREATED:20241115T213418Z
LAST-MODIFIED:20241115T214101Z
UID:36952-1732298400-1732309200@www.icpa-gz.org.py
SUMMARY:Workshop Colmenar de Artes Vivas 2.0 | Plataforma Nómada 4/5
DESCRIPTION:Das Colmenar de Artes Vivas – Intensive Diploma in Performance Art and Contemporary Artistic Practices in seiner 2. Ausgabe will ein Raum sein\, in dem Kunstschaffende aus allen Disziplinen auf der Suche nach Praktiken und Reflexion zusammenkommen. Mit dem Konzept der „Atopien\, Risse und mutierten Materialitäten“ werden wir unter den Begriffen „The Error\, Drifts\, Public Spaces und Wasser“ arbeiten. \nEs wird Laboratorien zu Interventionen im öffentlichen Raum mit Sandra Dinnendahl López\, das Urban Drifts Laboratory mit Violeta Acuña\, ein virtuelles praktisch-theoretisches Treffen zu Wet Telepathy mit dem Kolumbianer Juan Pablo Pacheco sowie überraschende Gastkünstler geben. Es wird offene Podcast-Sitzungen mit Gastkünstlern und Künstlern und Kollaborateuren der vergangenen Ausgabe geben\, außerdem werden Proben für die Öffentlichkeit angeboten. \nDie Treffen finden von Dienstag bis Samstag\, von 18:00 bis 21:00 Uhr und Samstag von 16:30 bis 19:00 Uhr im ICPA-GZ statt. Um teilnehmen zu können\, müssen Sie sich mit dem folgenden Formular für ein Projekt bewerben. Die Ausschreibung ist bis zum 16. November geöffnet. Die Kosten betragen gs. 150.000. \nDatum: Vom 19. bis 23. November 2024\nZeit: Von 18:00 bis 21:00 Uhr Hs.\nOrt: Instituto Cultural Paraguayo-Alemán – Goethe Zentrum | Juan de Salazar e/ Artigas \nMehr Informationen: Platafoma Nómada auf Instagram
URL:https://www.icpa-gz.org.py/DE/evento/workshop-colmenar-de-artes-vivas-2-0-plataforma-nomada-4-5/
LOCATION:Innenhof des Instituto Cultural Paraguayo-Alemán – Goethe-Zentrum | ICPA-GZ\, Juan de Salazar 310 c/ Artigas Barrio Ricardo Brugada\, Asunción\, Distrito Capital\, Paraguay
CATEGORIES:Forum,gefördert vom ICPA-GZ,Gesprächsrunde,Konferenz,Kultur,Kunst,Vortrag,Workshop
ATTACH;FMTTYPE=image/png:https://www.icpa-gz.org.py/DE/wp-content/uploads/2024/11/Colmenar2.png
END:VEVENT
BEGIN:VEVENT
DTSTART;TZID=America/Asuncion:20241122T220000
DTEND;TZID=America/Asuncion:20241122T230000
DTSTAMP:20260425T073948
CREATED:20241122T215956Z
LAST-MODIFIED:20241122T215956Z
UID:37155-1732312800-1732316400@www.icpa-gz.org.py
SUMMARY:tINI (Part of the gang) | Club Condesa
DESCRIPTION:Die deutsche DJ tINI wird Asunción besuchen. Sie wird im Club Condesa auftreten. Die DJs Matias Espinola und DJ Rally werden ebenfalls anwesend sein. \nDatum: Freitag\, 22. November 2024 \nTickets unter diesem Link \nVeranstaltungsort: Club Condesa \nChile 741 c/ Herrera \ngefördert vom ICPA-GZ
URL:https://www.icpa-gz.org.py/DE/evento/tini-part-of-the-gang-club-condesa/
LOCATION:Club Condesa\, Chile 741 c/ Herrera\, Asunción\, Paraguay
CATEGORIES:gefördert vom ICPA-GZ,Konzert,Kultur,Musik,Präsenzveranstaltung
ATTACH;FMTTYPE=image/jpeg:https://www.icpa-gz.org.py/DE/wp-content/uploads/2024/11/TINI-0-00-05-14-1.jpg
END:VEVENT
END:VCALENDAR