BEGIN:VCALENDAR
VERSION:2.0
PRODID:-//Deutsch Paraguayisches Kulturinstitut Goethe-Zentrum - ECPv6.15.20//NONSGML v1.0//EN
CALSCALE:GREGORIAN
METHOD:PUBLISH
X-WR-CALNAME:Deutsch Paraguayisches Kulturinstitut Goethe-Zentrum
X-ORIGINAL-URL:https://www.icpa-gz.org.py/DE
X-WR-CALDESC:Eventos para Deutsch Paraguayisches Kulturinstitut Goethe-Zentrum
REFRESH-INTERVAL;VALUE=DURATION:PT1H
X-Robots-Tag:noindex
X-PUBLISHED-TTL:PT1H
BEGIN:VTIMEZONE
TZID:America/Asuncion
BEGIN:STANDARD
TZOFFSETFROM:-0300
TZOFFSETTO:-0400
TZNAME:-04
DTSTART:20230326T030000
END:STANDARD
BEGIN:DAYLIGHT
TZOFFSETFROM:-0400
TZOFFSETTO:-0300
TZNAME:-03
DTSTART:20231001T040000
END:DAYLIGHT
BEGIN:STANDARD
TZOFFSETFROM:-0300
TZOFFSETTO:-0400
TZNAME:-04
DTSTART:20240324T030000
END:STANDARD
BEGIN:DAYLIGHT
TZOFFSETFROM:-0400
TZOFFSETTO:-0300
TZNAME:-03
DTSTART:20241006T040000
END:DAYLIGHT
BEGIN:STANDARD
TZOFFSETFROM:-0300
TZOFFSETTO:-0300
TZNAME:-03
DTSTART:20241015T030000
END:STANDARD
END:VTIMEZONE
BEGIN:VEVENT
DTSTART;TZID=America/Asuncion:20241120T080000
DTEND;TZID=America/Asuncion:20241120T170000
DTSTAMP:20260424T211421
CREATED:20241127T184047Z
LAST-MODIFIED:20241127T184047Z
UID:37374-1732089600-1732122000@www.icpa-gz.org.py
SUMMARY:Workshop - Craft Club 3/4
DESCRIPTION:Wenn Sie schon immer lernen wollten\, wie man spinnt\, stickt\, näht\, häkelt und vieles mehr\, oder wenn Sie es bereits tun\, es mögen und einfach einen Raum zum Üben und Austauschen suchen\, warten wir in diesem Club auf Sie.\nHandwerkliche Tätigkeiten wirken sich positiv auf die geistige und emotionale Gesundheit aus. Das Erlernen einiger grundlegender Werkzeuge\, wie die\, die Sie in der Werkstatt erlernen werden\, wird Ihnen außerdem eine gewisse Unabhängigkeit verleihen\, da Sie in der Lage sein werden\, Kleidung\, Tischdecken usw. zu nähen\, zu reparieren und herzustellen\, ohne auf jemanden angewiesen zu sein. Der Raum zum Teilen und Lernen mit anderen bietet einen Moment der Beziehung und der Freude.\nGeleitet von Alicia Medina Verdolini. \nDatum: Jeden Mittwoch\nZeit: 17:00 bis 19:00 Hs.\nKosten: Kostenlos\nOrt: Ulrich Schmidl Bibliothek \n\n\nInstitutto Cultural Paraguayo – Alemán – Goethe Zentrum\n\n\nJuan de Salazar N° 310 c/Artigas
URL:https://www.icpa-gz.org.py/DE/evento/workshop-craft-club-3-4/
LOCATION:Bibliothek Ulrich Schmidl des Instituto Cultural Paraguayo-Alemán – Goethe-Zentrum | ICPA-GZ\, Juan de Salazar 310 c/ Artigas\, Asunción\, Distrito Capital\, Paraguay
CATEGORIES:gefördert vom ICPA-GZ,Präsenzveranstaltung,Workshop
ATTACH;FMTTYPE=image/png:https://www.icpa-gz.org.py/DE/wp-content/uploads/2024/11/ICPA_TallerBordado.png
END:VEVENT
BEGIN:VEVENT
DTSTART;TZID=America/Asuncion:20241120T180000
DTEND;TZID=America/Asuncion:20241120T200000
DTSTAMP:20260424T211421
CREATED:20240523T203703Z
LAST-MODIFIED:20241120T200733Z
UID:27414-1732125600-1732132800@www.icpa-gz.org.py
SUMMARY:Forum"Desafíos del Campo Popular"  | BASE IS
DESCRIPTION:Organisiert von BASE Investigaciones Sociales | BASE-IS\nWebseite | Facebook | Instagram | X | YouTube\n\n\n \n\n\nMittwoch\, 20. November 2024\n18:00 Uhr\n\n\nEintritt frei\n\n\n.\nSalón Rolando Rasmussen\n\n\nInstituto Cultural Paraguayo-Alemán – Goethe-Zentrum\n\n\nJuan de Salazar 310 c/Artigas\n\n\nRicardo Brugada\n\n\nAsunción\n\n\n \n\n\nGefördert vom ICPA-GZ
URL:https://www.icpa-gz.org.py/DE/evento/forum-base-investigaciones-sociales-7/
LOCATION:Salón Rolando Rasmussen des Instituto Cultural Paraguayo-Alemán – Goethe-Zentrum | ICPA-GZ\, Juan de Salazar 310 c/ Artigas Barrio Ricardo Brugada\, Asunción\, Distrito Capital\, Paraguay
CATEGORIES:Forum,gefördert vom ICPA-GZ,Präsenzveranstaltung
ATTACH;FMTTYPE=image/jpeg:https://www.icpa-gz.org.py/DE/wp-content/uploads/2024/05/WhatsApp-Image-2024-11-19-at-11.39.53.jpeg
ORGANIZER;CN="BASE Investigaciones Sociales | BASE-IS":MAILTO:baseis@baseis.org.py
END:VEVENT
BEGIN:VEVENT
DTSTART;TZID=America/Asuncion:20241120T180000
DTEND;TZID=America/Asuncion:20241120T210000
DTSTAMP:20260424T211421
CREATED:20241115T212908Z
LAST-MODIFIED:20241115T214341Z
UID:36922-1732125600-1732136400@www.icpa-gz.org.py
SUMMARY:Workshop Colmenar de Artes Vivas 2.0 | Plataforma Nómada 2/5
DESCRIPTION:Das Colmenar de Artes Vivas – Intensive Diploma in Performance Art and Contemporary Artistic Practices in seiner 2. Ausgabe will ein Raum sein\, in dem Kunstschaffende aus allen Disziplinen auf der Suche nach Praktiken und Reflexion zusammenkommen. Mit dem Konzept der „Atopien\, Risse und mutierten Materialitäten“ werden wir unter den Begriffen „The Error\, Drifts\, Public Spaces und Wasser“ arbeiten. \nEs wird Laboratorien zu Interventionen im öffentlichen Raum mit Sandra Dinnendahl López\, das Urban Drifts Laboratory mit Violeta Acuña\, ein virtuelles praktisch-theoretisches Treffen zu Wet Telepathy mit dem Kolumbianer Juan Pablo Pacheco sowie überraschende Gastkünstler geben. Es wird offene Podcast-Sitzungen mit Gastkünstlern und Künstlern und Kollaborateuren der vergangenen Ausgabe geben\, außerdem werden Proben für die Öffentlichkeit angeboten. \nDie Treffen finden von Dienstag bis Samstag\, von 18:00 bis 21:00 Uhr und Samstag von 16:30 bis 19:00 Uhr im ICPA-GZ statt. Um teilnehmen zu können\, müssen Sie sich mit dem folgenden Formular für ein Projekt bewerben. Die Ausschreibung ist bis zum 16. November geöffnet. Die Kosten betragen gs. 150.000. \nDatum: Vom 19. bis 23. November 2024\nZeit: Von 18:00 bis 21:00 Uhr Hs.\nOrt: Instituto Cultural Paraguayo-Alemán – Goethe Zentrum | Juan de Salazar e/ Artigas \nMehr Informationen: Platafoma Nómada auf Instagram
URL:https://www.icpa-gz.org.py/DE/evento/workshop-colmenar-de-artes-vivas-2-0-plataforma-nomada-2-5/
LOCATION:Instituto Cultural Paraguayo-Alemán – Goethe-Zentrum | ICPA-GZ\, Juan de Salazar 310 c/ Artigas_\, Asuncion\, 3500\, Paraguay
CATEGORIES:Festival,Forum,gefördert vom ICPA-GZ,Gesprächsrunde,Konferenz,Kultur,Kunst,Präsenzveranstaltung,Vortrag,Workshop
ATTACH;FMTTYPE=image/png:https://www.icpa-gz.org.py/DE/wp-content/uploads/2024/11/Colmenar2.png
END:VEVENT
END:VCALENDAR