BEGIN:VCALENDAR
VERSION:2.0
PRODID:-//Deutsch Paraguayisches Kulturinstitut Goethe-Zentrum - ECPv6.15.20//NONSGML v1.0//EN
CALSCALE:GREGORIAN
METHOD:PUBLISH
X-WR-CALNAME:Deutsch Paraguayisches Kulturinstitut Goethe-Zentrum
X-ORIGINAL-URL:https://www.icpa-gz.org.py/DE
X-WR-CALDESC:Eventos para Deutsch Paraguayisches Kulturinstitut Goethe-Zentrum
REFRESH-INTERVAL;VALUE=DURATION:PT1H
X-Robots-Tag:noindex
X-PUBLISHED-TTL:PT1H
BEGIN:VTIMEZONE
TZID:America/Asuncion
BEGIN:STANDARD
TZOFFSETFROM:-0300
TZOFFSETTO:-0400
TZNAME:-04
DTSTART:20230326T030000
END:STANDARD
BEGIN:DAYLIGHT
TZOFFSETFROM:-0400
TZOFFSETTO:-0300
TZNAME:-03
DTSTART:20231001T040000
END:DAYLIGHT
BEGIN:STANDARD
TZOFFSETFROM:-0300
TZOFFSETTO:-0400
TZNAME:-04
DTSTART:20240324T030000
END:STANDARD
BEGIN:DAYLIGHT
TZOFFSETFROM:-0400
TZOFFSETTO:-0300
TZNAME:-03
DTSTART:20241006T040000
END:DAYLIGHT
BEGIN:STANDARD
TZOFFSETFROM:-0300
TZOFFSETTO:-0300
TZNAME:-03
DTSTART:20241015T030000
END:STANDARD
END:VTIMEZONE
BEGIN:VEVENT
DTSTART;TZID=America/Asuncion:20241108T210000
DTEND;TZID=America/Asuncion:20241108T223000
DTSTAMP:20260425T071857
CREATED:20241105T204522Z
LAST-MODIFIED:20241105T204522Z
UID:36694-1731099600-1731105000@www.icpa-gz.org.py
SUMMARY:Musikfestival "Puente Sonoro" 1/2
DESCRIPTION:Das spanische Kulturzentrum Juan de Salazar und das Deutsch-Paraguayische Kulturinstitut präsentieren in Zusammenarbeit mit Sincopa Producciones und Drácena Producciones das Festival Puente Sonoro. Zwei Tage im Zeichen des Jazz mit einem Programm aus Konzerten\, Aufführungen und Workshops mit Künstlern aus Paraguay und Spanien. \nAn dem Festival nehmen herausragende Künstler teil\, wie die junge Madrider Sängerin Carmen Lancho\, eine der wichtigsten und vielversprechendsten Stimmen des spanischen Jazz\, die zusammen mit dem Pianisten und Komponisten José Carra\, einem der vielseitigsten und kreativsten Künstler der neuen Jazzgeneration\, auftreten wird. \nEröffnet wird das Festival mit der Aufführung Cápsula 2 aus der Reihe der Performances oder „theatralischen Installationen“ von Casa Diversa und En Borrador…Teatro en Construcción. An dieser Präsentation wird Carmen Lancho teilnehmen. Der Künstler Pedro Martínez kehrt nach Abschluss seiner Tournee En Tránsito in Spanien auf die hiesigen Bühnen zurück. Er wird als Pedro Martínez Trío auftreten\, bestehend aus Pedro Martínez\, Chino Corvalán und Gonzalo Resquín. \nZum anderen bietet das Festival das Ensamble Jopara Jazz an\, ein Treffen der spanischen Musiker Carmen Lancho und José Carra mit den herausragenden paraguayischen Künstlern Juanjo Corbalán\, Lara Barreto\, Julieta Morel\, die von einem Ausbildungsaufenthalt in Deutschland zurückgekehrt ist\, und Paula Rodríguez. \nDatum: Freitag\, 8. und Samstag\, 9. November 2024\nUhrzeit: 21.00 Uhr\nVeranstaltungsort: Centro Cultural de España Juan de Salazar\nHerrera 834\, Asunción\nEintritt: Frei\, bis die Kapazität erreicht ist. \nWeitere Informationen unter: \n@artedracena | Instagram\n@juandesalazarpy | Instagram
URL:https://www.icpa-gz.org.py/DE/evento/musikfestival-puente-sonoro-1-2/
LOCATION:Centro Cultural de España Juan de Salazar | CCEJS\, Herrera 834\, Asunción\, Distrito Capital\, Paraguay
CATEGORIES:gefördert vom ICPA-GZ,Konzert,Kultur,Kunst,Musik,Präsenzveranstaltung
ATTACH;FMTTYPE=image/jpeg:https://www.icpa-gz.org.py/DE/wp-content/uploads/2024/11/puente-sonoro-general.jpg
END:VEVENT
END:VCALENDAR