BEGIN:VCALENDAR
VERSION:2.0
PRODID:-//Deutsch Paraguayisches Kulturinstitut Goethe-Zentrum - ECPv6.15.20//NONSGML v1.0//EN
CALSCALE:GREGORIAN
METHOD:PUBLISH
X-WR-CALNAME:Deutsch Paraguayisches Kulturinstitut Goethe-Zentrum
X-ORIGINAL-URL:https://www.icpa-gz.org.py/DE
X-WR-CALDESC:Eventos para Deutsch Paraguayisches Kulturinstitut Goethe-Zentrum
REFRESH-INTERVAL;VALUE=DURATION:PT1H
X-Robots-Tag:noindex
X-PUBLISHED-TTL:PT1H
BEGIN:VTIMEZONE
TZID:America/Asuncion
BEGIN:STANDARD
TZOFFSETFROM:-0300
TZOFFSETTO:-0400
TZNAME:-04
DTSTART:20230326T030000
END:STANDARD
BEGIN:DAYLIGHT
TZOFFSETFROM:-0400
TZOFFSETTO:-0300
TZNAME:-03
DTSTART:20231001T040000
END:DAYLIGHT
BEGIN:STANDARD
TZOFFSETFROM:-0300
TZOFFSETTO:-0400
TZNAME:-04
DTSTART:20240324T030000
END:STANDARD
BEGIN:DAYLIGHT
TZOFFSETFROM:-0400
TZOFFSETTO:-0300
TZNAME:-03
DTSTART:20241006T040000
END:DAYLIGHT
BEGIN:STANDARD
TZOFFSETFROM:-0300
TZOFFSETTO:-0300
TZNAME:-03
DTSTART:20241015T030000
END:STANDARD
END:VTIMEZONE
BEGIN:VEVENT
DTSTART;TZID=America/Asuncion:20241028T190000
DTEND;TZID=America/Asuncion:20241028T203000
DTSTAMP:20260425T104805
CREATED:20241025T204409Z
LAST-MODIFIED:20241030T191718Z
UID:35996-1730142000-1730147400@www.icpa-gz.org.py
SUMMARY:Workshop über die Produktion dokumentarischer Audiogeschichten 1/6 | Purape
DESCRIPTION:Workshop zur Produktion von Audio-Dokumentarfilmen mit Nicolás Granada \nMöchten Sie lernen\, wie man einzigartige Audiogeschichten erzählt? Entdecken Sie\, wie Sie Porträts\, Reportagen und Audiotouren im dokumentarischen Format erstellen können. In diesem Workshop lernen Sie\, wie Sie Ihre eigenen Hörstücke aufnehmen\, bearbeiten und schneiden. \nTermine: 28. und 31. Oktober\, 12.\, 14.\, 15. und 16. November.\nVirtuell und persönlich bei Purape \nKostenfrei\, begrenzte Plätze. \nInstituto Cultural Paraguayo-Alemán – Goethe-Zentrum | ICPA-GZ\nJuan de Salazar y Espinoza 310 c/Artigas\nAsunción. \n@purape.4m | Instagram
URL:https://www.icpa-gz.org.py/DE/evento/workshop-uber-die-produktion-dokumentarischer-audiogeschichten-purape/
LOCATION:Zoom | virtuelle Veranstaltung
CATEGORIES:gefördert vom ICPA-GZ,Online-Veranstaltung,Podcast,Workshop
ATTACH;FMTTYPE=image/png:https://www.icpa-gz.org.py/DE/wp-content/uploads/2024/10/Taller-Retrato-Sonoro-1-1.png
END:VEVENT
END:VCALENDAR