BEGIN:VCALENDAR
VERSION:2.0
PRODID:-//Deutsch Paraguayisches Kulturinstitut Goethe-Zentrum - ECPv6.15.20//NONSGML v1.0//EN
CALSCALE:GREGORIAN
METHOD:PUBLISH
X-WR-CALNAME:Deutsch Paraguayisches Kulturinstitut Goethe-Zentrum
X-ORIGINAL-URL:https://www.icpa-gz.org.py/DE
X-WR-CALDESC:Eventos para Deutsch Paraguayisches Kulturinstitut Goethe-Zentrum
REFRESH-INTERVAL;VALUE=DURATION:PT1H
X-Robots-Tag:noindex
X-PUBLISHED-TTL:PT1H
BEGIN:VTIMEZONE
TZID:America/Asuncion
BEGIN:STANDARD
TZOFFSETFROM:-0300
TZOFFSETTO:-0400
TZNAME:-04
DTSTART:20230326T030000
END:STANDARD
BEGIN:DAYLIGHT
TZOFFSETFROM:-0400
TZOFFSETTO:-0300
TZNAME:-03
DTSTART:20231001T040000
END:DAYLIGHT
BEGIN:STANDARD
TZOFFSETFROM:-0300
TZOFFSETTO:-0400
TZNAME:-04
DTSTART:20240324T030000
END:STANDARD
BEGIN:DAYLIGHT
TZOFFSETFROM:-0400
TZOFFSETTO:-0300
TZNAME:-03
DTSTART:20241006T040000
END:DAYLIGHT
BEGIN:STANDARD
TZOFFSETFROM:-0300
TZOFFSETTO:-0300
TZNAME:-03
DTSTART:20241015T030000
END:STANDARD
END:VTIMEZONE
BEGIN:VEVENT
DTSTART;TZID=America/Asuncion:20241027T193000
DTEND;TZID=America/Asuncion:20241027T210000
DTSTAMP:20260424T150231
CREATED:20240521T220557Z
LAST-MODIFIED:20241016T214504Z
UID:27182-1730057400-1730062800@www.icpa-gz.org.py
SUMMARY:Kammerkonzertzyklus | Pu Joa
DESCRIPTION:Wir laden Sie zum letzten Konzert des Zyklus ein\, mit dem das zehnjährige Bestehen der Kammermusikbewegung „Pu Joa“ gefeiert wird. \nWir hören Werke für Violine und Viola von Juan Luquese\, César Viana und Eduardo Bértola\, gespielt von Ivonne Iturry (Violine) und Lise Núñez (Viola). \nDiese Konzertreihe konnte dank der Unterstützung des Deutsch-Paraguayischen Kulturinstituts – Goethe-Zentrum für die Durchführung dieser Reihe während des ganzen Jahres sowie des Städtischen Fonds zur Förderung und Unterstützung der darstellenden Künste und Festivals realisiert werden. \nOrganisiert von Pu Joa\nFacebook | Instagram | YouTube  \nSonntag\, 27. Oktober 2024\n19:30 Uhr \nEintritt frei \nSalón Rolando Rasmussen\nInstituto Cultural Paraguayo-Alemán – Goethe-Zentrum\nJuan de Salazar 310 c/Artigas\nRicardo Brugada\, Asunción
URL:https://www.icpa-gz.org.py/DE/evento/konzert-pu-joa-5/
LOCATION:Salón Rolando Rasmussen des Instituto Cultural Paraguayo-Alemán – Goethe-Zentrum | ICPA-GZ\, Juan de Salazar 310 c/ Artigas Barrio Ricardo Brugada\, Asunción\, Distrito Capital\, Paraguay
CATEGORIES:gefördert vom ICPA-GZ,Konzert,Präsenzveranstaltung
ATTACH;FMTTYPE=image/jpeg:https://www.icpa-gz.org.py/DE/wp-content/uploads/2024/05/Pu-Joa-Octubre.jpg
END:VEVENT
END:VCALENDAR