BEGIN:VCALENDAR
VERSION:2.0
PRODID:-//Deutsch Paraguayisches Kulturinstitut Goethe-Zentrum - ECPv6.15.20//NONSGML v1.0//EN
CALSCALE:GREGORIAN
METHOD:PUBLISH
X-WR-CALNAME:Deutsch Paraguayisches Kulturinstitut Goethe-Zentrum
X-ORIGINAL-URL:https://www.icpa-gz.org.py/DE
X-WR-CALDESC:Eventos para Deutsch Paraguayisches Kulturinstitut Goethe-Zentrum
REFRESH-INTERVAL;VALUE=DURATION:PT1H
X-Robots-Tag:noindex
X-PUBLISHED-TTL:PT1H
BEGIN:VTIMEZONE
TZID:America/Asuncion
BEGIN:STANDARD
TZOFFSETFROM:-0300
TZOFFSETTO:-0400
TZNAME:-04
DTSTART:20230326T030000
END:STANDARD
BEGIN:DAYLIGHT
TZOFFSETFROM:-0400
TZOFFSETTO:-0300
TZNAME:-03
DTSTART:20231001T040000
END:DAYLIGHT
BEGIN:STANDARD
TZOFFSETFROM:-0300
TZOFFSETTO:-0400
TZNAME:-04
DTSTART:20240324T030000
END:STANDARD
BEGIN:DAYLIGHT
TZOFFSETFROM:-0400
TZOFFSETTO:-0300
TZNAME:-03
DTSTART:20241006T040000
END:DAYLIGHT
BEGIN:STANDARD
TZOFFSETFROM:-0300
TZOFFSETTO:-0300
TZNAME:-03
DTSTART:20241015T030000
END:STANDARD
END:VTIMEZONE
BEGIN:VEVENT
DTSTART;TZID=America/Asuncion:20241019T100000
DTEND;TZID=America/Asuncion:20241019T170000
DTSTAMP:20260424T211416
CREATED:20241015T205026Z
LAST-MODIFIED:20241015T205026Z
UID:35664-1729332000-1729357200@www.icpa-gz.org.py
SUMMARY:ESCUCHÁ”-Gespräche – Tag 2 | Red ESCUCHA
DESCRIPTION:ESCUCHÁ: Dringende Gespräche über unabhängiges Kulturmanagement in Asunción. \nLa Red Escucha ist eine Plattform\, die die unabhängigen Kulturräume des historischen Zentrums von Asunción zusammenführt. Das Netzwerk lädt zu diesem Gesprächszyklus ein\, der eine Gelegenheit bieten soll\, zusammenzukommen\, um über das kulturelle Panorama unserer Stadt nachzudenken\, Erfahrungen auszutauschen und zu diskutieren. \nTermine:\nFreitag\, 18. Oktober | 18:00 Uhr | ICPA-GZ\nSamstag\, 19. Oktober | 10:00 Uhr | Kulturzentrum Hafen\nSonntag\, 20. Oktober | 16:00 Uhr | Nhi Mu Theater \nUm am Mapping teilzunehmen\, melden Sie sich bitte mit diesem Formular an. \nTag 1: Vor-Ort-Kartierung mit unabhängigen Räumen.\nTag 2: Gespräch mit Behörden und Kulturzentren / Gespräch mit Spezialisten.\nTag 3: Messe\, Abschluss und Überraschungen. \nDiese Aktivität wird ermöglicht durch @iberculturaviva. Mit der Unterstützung von ICPA-HZ\, Nhi-Mu\, La Chispa und dem Kulturzentrum des Hafens von Asuncion. \nTag 2\, Vortrag 1: Kulturelle Institutionalität\, Rechte und Geschlecht.\nAktivität: Präsentation des am Vortag erstellten Dokuments. Dialog zwischen Vertretern von unabhängigen und institutionellen Kulturräumen.\nVorschlag: Diskussion folgender Themen: Rolle der Institutionen und Verteidigung der kulturellen Rechte im Rahmen von Gender und Territorium; Risiken\, Verantwortlichkeiten\, Grenzen und Regelungsrahmen des Kulturmanagements; Schutz der Urheberschaft; Funktionen und Schaffung von Verbindungen mit der Gemeinschaft.\n○ Datum: Samstag\, 19. Oktober 2024\n○ Ort: Kulturzentrum des Hafens\n○ Zeit: 10:00 Uhr bis 12:15 Uhr\n○ Moderator: Felipe Gómez (Gemeindepsychologe)\nGäste: Vertreter des SNC\, Vertreter von Kulturzentren\, die mit Botschaften verbunden sind (ICPA\, CCPA\, CCEJDS\, Alliance Française\, usw.)\, Vertreter von Kulturzentren des öffentlichen Sektors. Vertreter der öffentlichen Wettbewerbsfonds\, Vertreter der kulturellen Entwicklung aus dem privaten Sektor. Um 12:15 Uhr werden Vertreter des Port Cultural Centre das Konsultationsinstrument des Port Cultural Centre vorstellen\, das von Cesar Centurion und Paola Ferraro präsentiert wird. \nTag 2\, Gespräch 2: Kultur und sozialer Widerstand im historischen Zentrum.\nVorschlag: Nachdenken über Kultur\, Kunst und kulturelle Räume als Formen des Widerstands und der Resilienz in Kontexten sozialer\, wirtschaftlicher\, politischer oder kultureller Krisen im historischen Zentrum von Asunción. ESCUCHA NETWORK (Kulturelle Räume des historischen Zentrums von Asunción)\n○ Datum: Samstag\, 19. Oktober 2024\n○ Ort: Kulturzentrum des Hafens\n○ Zeitplan: 14:00 bis 16:30\n○ Moderatorin: Fátima Fernandez Centurion\nGäste: Emili Yugovich (Juristin)\, Catalina Lescano (Kulturmanagerin – Argentinien)\, Milena Coral (La chispa)\, Selva Fox (Nhi-Mu)\, Joe Gimenez (el Cántaro)\, Paola Ferraro (Soziologin)\, Felipe Gomez (Gemeindepsychologe).
URL:https://www.icpa-gz.org.py/DE/evento/escucha-gesprache-tag-2-red-escucha/
LOCATION:Centro Cultural del Puerto\, Avda. de la República\, Asunción\, Distrito Capital\, Paraguay
CATEGORIES:gefördert vom ICPA-GZ,Gesprächsrunde,Konferenz,Kultur,Präsenzveranstaltung,Vortrag
ATTACH;FMTTYPE=image/png:https://www.icpa-gz.org.py/DE/wp-content/uploads/2024/10/AficheESCUHA.png
END:VEVENT
BEGIN:VEVENT
DTSTART;TZID=America/Asuncion:20241019T150000
DTEND;TZID=America/Asuncion:20241019T180000
DTSTAMP:20260424T211416
CREATED:20241009T220555Z
LAST-MODIFIED:20241009T220704Z
UID:35528-1729350000-1729360800@www.icpa-gz.org.py
SUMMARY:Workshop „Bildhauerische Gefäße und Köhlerei | Trama Colectiva 3/3
DESCRIPTION:Wir laden Sie ein\, an dem Keramik-Workshop „Skulpturale Gefäße und Köhlerei“ teilzunehmen\, der kostenlos ist und dessen Plätze begrenzt sind. \nDer Workshop besteht aus drei Terminen:\nSamstag\, 12. Oktober\, 9:00 – 12:00 Uhr.\nDienstag\, 15. Oktober\, 17.00 – 20.00 Uhr\nSamstag\, 19. Oktober\, ab 15:00 Uhr \nKosten: Kostenfrei\, begrenzte Plätze.\nAnmeldung über dieses Formular. \nMehr Informationen unter: \n@trama_collectiva | Intagram oder Telefon +595 971 210928 \nVeranstaltungsort: Paraguayisch-Deutsches Kulturinstitut – Goethe Zentrum\nJuan de Salazar 310 casi Artigas.\nBarrio Ricardo Brugada\, Asunción.
URL:https://www.icpa-gz.org.py/DE/evento/workshop-bildhauerische-gefase-und-kohlerei-trama-colectiva-3-3/
LOCATION:Instituto Cultural Paraguayo-Alemán – Goethe-Zentrum | ICPA-GZ\, Juan de Salazar 310 c/ Artigas_\, Asuncion\, 3500\, Paraguay
CATEGORIES:gefördert vom ICPA-GZ,Präsenzveranstaltung,Workshop
ATTACH;FMTTYPE=image/png:https://www.icpa-gz.org.py/DE/wp-content/uploads/2024/10/ICPA_TallerCeramica.png
END:VEVENT
END:VCALENDAR