BEGIN:VCALENDAR
VERSION:2.0
PRODID:-//Deutsch Paraguayisches Kulturinstitut Goethe-Zentrum - ECPv6.15.20//NONSGML v1.0//EN
CALSCALE:GREGORIAN
METHOD:PUBLISH
X-WR-CALNAME:Deutsch Paraguayisches Kulturinstitut Goethe-Zentrum
X-ORIGINAL-URL:https://www.icpa-gz.org.py/DE
X-WR-CALDESC:Eventos para Deutsch Paraguayisches Kulturinstitut Goethe-Zentrum
REFRESH-INTERVAL;VALUE=DURATION:PT1H
X-Robots-Tag:noindex
X-PUBLISHED-TTL:PT1H
BEGIN:VTIMEZONE
TZID:America/Asuncion
BEGIN:STANDARD
TZOFFSETFROM:-0300
TZOFFSETTO:-0400
TZNAME:-04
DTSTART:20230326T030000
END:STANDARD
BEGIN:DAYLIGHT
TZOFFSETFROM:-0400
TZOFFSETTO:-0300
TZNAME:-03
DTSTART:20231001T040000
END:DAYLIGHT
BEGIN:STANDARD
TZOFFSETFROM:-0300
TZOFFSETTO:-0400
TZNAME:-04
DTSTART:20240324T030000
END:STANDARD
BEGIN:DAYLIGHT
TZOFFSETFROM:-0400
TZOFFSETTO:-0300
TZNAME:-03
DTSTART:20241006T040000
END:DAYLIGHT
BEGIN:STANDARD
TZOFFSETFROM:-0300
TZOFFSETTO:-0300
TZNAME:-03
DTSTART:20241015T030000
END:STANDARD
END:VTIMEZONE
BEGIN:VEVENT
DTSTART;TZID=America/Asuncion:20241016T193000
DTEND;TZID=America/Asuncion:20241016T213000
DTSTAMP:20260424T150234
CREATED:20241014T191002Z
LAST-MODIFIED:20241015T202916Z
UID:35617-1729107000-1729114200@www.icpa-gz.org.py
SUMMARY:„Die kleinen Sprachen Kafkas“ | Damián Cabrera
DESCRIPTION:„Die kleinen Sprachen Kafkas“\, ein Gespräch mit Damián Cabrera. \nDas Werk von Franz Kafka ist einer der paradigmatischsten Ausdrucksformen der westlichen literarischen Moderne. Sein Werk\, das auf komplexen biografischen Merkmalen des Autors beruht\, ist von mikro- und makropolitischen Spannungen geprägt: von der Figur der väterlichen Autorität bis hin zur kolonialen Autorität oder der undurchsichtigen Bürokratie als Instrument der Unterdrückung. Der erzählerische Ansatz des Autors erlaubt es\, sich der Erfahrung der Realität aus ungewöhnlichen Zonen zu nähern\, was seinen Werken einen absurden oder allegorischen Charakter verleiht. In dem historischen Kontext\, in dem Kafka lebte\, war die deutsche Sprache eine Sprache der Besatzung und vorwiegend eine Verwaltungssprache; dennoch machte Kafka respektlos Gebrauch von dieser Sprache\, bis zu dem Punkt\, an dem er sich zu einem der raffiniertesten literarischen Ausdrücke in dieser Sprache entwickelte. \nDamián Cabrera ist ein Schriftsteller\, Forscher\, Lehrer und Kurator aus Altoparana. Er wurde 1984 in Asunción geboren\, wuchs aber in Alto Paraná\, in der Dreiländerregion\, auf. Er ist Autor von Belletristik\, erzählenden Essays und kritischen Texten. Sowohl seine Belletristik als auch seine Essays konzentrieren sich auf die Untersuchung der Realität der Dreiländergrenze\, insbesondere der Beziehungen zwischen Brasilien und Paraguay. Er ist Autor der Kurzgeschichtensammlung sh… horas de contar… (Minga Guazú\, 2006)\, Xiru (Asunción: Ediciones de la Ura\, 2012)\, das mit dem Roque Gaona Book of the Year Award ausgezeichnet wurde\, und Xe (Asunción: Ediciones de la Ura\, 2019). Er beteiligte sich an den Anthologien Los chongos de Roa Bastos. Narrativa contemporánea del Paraguay (Buenos Aires: Santiago Arcos Editor\, 2011)\, Nueva Narrativa Paraguaya (Asunción: Arandurã\, 2013)\, Punta Karaja: Cuentos de fútbol (Asunción\, 2012) und Azar (Traviesa\, 2015). Im Jahr 2020 war er Mitglied der Latin American Writers Series an der Tulane University (New Orleans\, USA)\, und 2022 nahm er an der Apexart Residency for Artists and Writers (New York\, USA) teil. \nDatum: Mittwoch\, 16. Oktober \nZeit: 19:30 Hs. \nVeranstaltungsort: Ulrich Schmidl Bibliothek\nParaguayisch-Deutsches Kulturinstitut – Goethe Zentrum\nJuan de Salazar 310 c/ Artigas. Barrio Ricardo Brugada – Asunción
URL:https://www.icpa-gz.org.py/DE/evento/die-kleinen-sprachen-kafkas-damian-cabrera/
LOCATION:Bibliothek Ulrich Schmidl des Instituto Cultural Paraguayo-Alemán – Goethe-Zentrum | ICPA-GZ\, Juan de Salazar 310 c/ Artigas\, Asunción\, Distrito Capital\, Paraguay
CATEGORIES:Bibliothek,gefördert vom ICPA-GZ,Konferenz,Kultur,Lesung,Präsenzveranstaltung,Vortrag
ATTACH;FMTTYPE=image/jpeg:https://www.icpa-gz.org.py/DE/wp-content/uploads/2024/10/Post-para-Instagram-Curso-online-de-idiomas-Moderno-Gris-1.jpg
END:VEVENT
END:VCALENDAR