BEGIN:VCALENDAR
VERSION:2.0
PRODID:-//Deutsch Paraguayisches Kulturinstitut Goethe-Zentrum - ECPv6.15.20//NONSGML v1.0//EN
CALSCALE:GREGORIAN
METHOD:PUBLISH
X-WR-CALNAME:Deutsch Paraguayisches Kulturinstitut Goethe-Zentrum
X-ORIGINAL-URL:https://www.icpa-gz.org.py/DE
X-WR-CALDESC:Eventos para Deutsch Paraguayisches Kulturinstitut Goethe-Zentrum
REFRESH-INTERVAL;VALUE=DURATION:PT1H
X-Robots-Tag:noindex
X-PUBLISHED-TTL:PT1H
BEGIN:VTIMEZONE
TZID:America/Asuncion
BEGIN:STANDARD
TZOFFSETFROM:-0300
TZOFFSETTO:-0400
TZNAME:-04
DTSTART:20230326T030000
END:STANDARD
BEGIN:DAYLIGHT
TZOFFSETFROM:-0400
TZOFFSETTO:-0300
TZNAME:-03
DTSTART:20231001T040000
END:DAYLIGHT
BEGIN:STANDARD
TZOFFSETFROM:-0300
TZOFFSETTO:-0400
TZNAME:-04
DTSTART:20240324T030000
END:STANDARD
BEGIN:DAYLIGHT
TZOFFSETFROM:-0400
TZOFFSETTO:-0300
TZNAME:-03
DTSTART:20241006T040000
END:DAYLIGHT
BEGIN:STANDARD
TZOFFSETFROM:-0300
TZOFFSETTO:-0300
TZNAME:-03
DTSTART:20241015T030000
END:STANDARD
END:VTIMEZONE
BEGIN:VEVENT
DTSTART;TZID=America/Asuncion:20241014T193000
DTEND;TZID=America/Asuncion:20241014T213000
DTSTAMP:20260425T073814
CREATED:20241010T202517Z
LAST-MODIFIED:20241010T202609Z
UID:35556-1728934200-1728941400@www.icpa-gz.org.py
SUMMARY:Ausstellung „Chroniken des Lichts | ICPA-GZ und Deutsche Botschaft
DESCRIPTION:Das ICPA-GZ Paraguayisch-Deutsches Kulturinstitut – Goethe-Zentrum und die Deutsche Botschaft laden Sie zur Eröffnung der Ausstellung CHRONIKEN DES LICHTS von Giovanni Andree Ferreira ein\, die eine Reihe von Lichtskulpturen und Fotografien seiner Wanderportale präsentiert\, die durch die Straßen von Asunción gehen. Der Künstler war der Gewinner der zehnten Ausgabe des von den genannten Institutionen organisierten Visual Arts Award 2023. Kuratiert wird die Ausstellung von Silvana Domínguez. Die Eröffnung der Ausstellung findet am Montag\, den 14. Oktober um 19:30 Uhr im ICPA_GZ statt. \nÜBER DIE AUSSTELLUNG\nIn den Worten der Kuratorin Silvana Domínguez: „Giovanni Andree Ferreira verfolgt seit 2012 eine Forschungslinie\, die Licht als künstlerisches und symbolisches Medium erforscht\, und ist in dieser Praxis ein Pionier des lokalen Mediums. Er ist dafür bekannt\, mit Spiegeln und Linsen in den öffentlichen Raum zu intervenieren und mit Sonnen- und Kunstlicht performativ-ephemere Ereignisse zu erzeugen. \nDiese Lichtchroniken werden in den Straßen von Asunción erzählt\, und diese „reisenden Portale“\, wie Giovanni sie nennt\, weisen auf unbewohnte Häuser in einer mystischen\, metaphysischen Zeit-Raum-Poetik von Macondo hin\, wo die Dinge am Anfang keinen Namen haben und deshalb darauf hingewiesen werden müssen. \nDatum der Eröffnung: Montag\, 14. Oktober 2024\nUhrzeit: 19:30 Uhr Hs.\nOrt: Roland Rasmussen Saal des Deutsch-Paraguayischen Kulturinstituts – Goethe Zentrum\nAdresse: Juan de Salazar 310 c / Artigas\, Ricardo Brugada\, Asunción.\nDie Ausstellung ist bis Freitag\, 18. Oktober\, von 8.00 bis 19.00 Uhr geöffnet. Eintritt frei. \nÜBER DEN KÜNSTLER\nGiovanni Andree Ferreira (1987\, Asunción). Er studierte Bildende Kunst an der I.S.A. der Nationalen Universität von Asunción. Seit 2012 entwickelt er seine eigene experimentelle Methode der Lichtintervention mit der Sonne und erhielt mit dem Werk „Mirada Interna“ eine Ehrenvolle Erwähnung beim Matisse-Preis 2013.\nEr hat an mehreren Gruppenausstellungen teilgenommen\, u. a. im Juan de Salazar\, Casa Hassler\, Tranvía13\, Pinta sud ASU. Seine erste Einzelausstellung hatte er 2022 in La Manzana de La Rivera mit der Schau Intro. Geh hinein“. Sein künstlerisches Werk umfasst Malerei\, Bildhauerei\, Videokunst\, Zeichnung und Fotografie. Einige seiner Werke befinden sich in Privatsammlungen in Frankreich\, Portugal und Argentinien sowie in Paraguay in der Sammlung Mendonca. Kürzlich hat er den ersten Preis für Bildende Kunst der Deutschen Botschaft „Erinnern heißt für die Zukunft arbeiten“ der Ausgabe 2023 gewonnen.\nSeine Arbeiten wurden auf Buchumschläge und CD’s von Musikgruppen und Zeitschriften ausgeweitet. Derzeit arbeitet er mit anderen Künstlern an der Gestaltung von Beleuchtung und Bühnenbildern für Theaterstücke zusammen. \nÜBER DEN KÜNSTLER UND KURATOR\nSILVANA DOMÍNGUEZ ELIZECHE (Asunción\, 1976). Sie ist bildende Künstlerin\, unabhängige Kuratorin\, Kulturmanagerin und Lehrerin. Sie hat einen Abschluss in Kindergartenpädagogik in Santiago\, Chile\, und einen Abschluss in Bildender Kunst an der Nationalen Universität von Asunción. Sie hatte Einzelausstellungen in verschiedenen Kulturzentren in Asunción und Gemeinschaftsausstellungen in Paraguay\, Peru\, Argentinien\, Brasilien und Spanien.\nSie hat die Arbeiten von Künstlern wie Bernardo Krasniansky\, Félix Toranzos\, Mónica González\, Gabriela Díaz de Espada\, Paola Parcerisa\, María Liachovitskaya\, Laura Giucich sowie andere Kollektivausstellungen kuratiert und begleitet.\nSie leitet künstlerische Projekte in ihrem Raum Tranvía 13\, zuletzt einen Künstleraufenthalt mit dem Kurator Joaquín Sánchez für junge Künstler mit Unterstützung des Nationalen Kulturministeriums von Paraguay. Sie hat sich dem Projekt MUVI\, Museo Vivo\, unter der Leitung von Christian Ceuppens als Mitarbeiterin angeschlossen.
URL:https://www.icpa-gz.org.py/DE/evento/ausstellung-chroniken-des-lichts-icpa-gz-und-deutsche-botschaft/
LOCATION:Salón Rolando Rasmussen des Instituto Cultural Paraguayo-Alemán – Goethe-Zentrum | ICPA-GZ\, Juan de Salazar 310 c/ Artigas Barrio Ricardo Brugada\, Asunción\, Distrito Capital\, Paraguay
CATEGORIES:Ausstellung,Botschaft der Bundesrepublik Deutschland in Asunción,Deutsche Woche | Semana alemana,Fotografie,gefördert vom ICPA-GZ,Kultur,Präsenzveranstaltung
ATTACH;FMTTYPE=image/jpeg:https://www.icpa-gz.org.py/DE/wp-content/uploads/2024/10/FEED-IG-flyer-de-Giovanni-Ferreira.jpg
END:VEVENT
END:VCALENDAR